BEGIN:VCALENDAR
PRODID:-//eluceo/ical//2.0/EN
VERSION:2.0
CALSCALE:GREGORIAN
BEGIN:VEVENT
UID:https://hbb.rivio.dev/jeugd/2019/wedstrijd/24953
DTSTAMP:20260420T184028Z
SUMMARY:Phoenix 2 - Phoenix 3
DESCRIPTION:Baan 12\, Afdeling D-klasse 
DTSTART:20190915T093000
DTEND:20190915T111500
LOCATION:City Resort Helmond
ATTACH;FMTTYPE=text/plain:https://hbb.rivio.dev/jeugd/2019/wedstrijd/24953
END:VEVENT
BEGIN:VEVENT
UID:https://hbb.rivio.dev/jeugd/2019/wedstrijd/24956
DTSTAMP:20260420T184028Z
SUMMARY:Phoenix 2 - Mierlo 6
DESCRIPTION:Baan 12\, Afdeling D-klasse 
DTSTART:20190915T111500
DTEND:20190915T130000
LOCATION:City Resort Helmond
ATTACH;FMTTYPE=text/plain:https://hbb.rivio.dev/jeugd/2019/wedstrijd/24956
END:VEVENT
BEGIN:VEVENT
UID:https://hbb.rivio.dev/jeugd/2019/wedstrijd/24988
DTSTAMP:20260420T184028Z
SUMMARY:Phoenix 2 - Lieshout 1
DESCRIPTION:Baan 3\, Afdeling D-klasse 
DTSTART:20191006T111500
DTEND:20191006T130000
LOCATION:City Resort Helmond
ATTACH;FMTTYPE=text/plain:https://hbb.rivio.dev/jeugd/2019/wedstrijd/24988
END:VEVENT
BEGIN:VEVENT
UID:https://hbb.rivio.dev/jeugd/2019/wedstrijd/24987
DTSTAMP:20260420T184028Z
SUMMARY:BCV '73 2 - Phoenix 2
DESCRIPTION:Baan 5\, Afdeling D-klasse 
DTSTART:20191006T093000
DTEND:20191006T111500
LOCATION:City Resort Helmond
ATTACH;FMTTYPE=text/plain:https://hbb.rivio.dev/jeugd/2019/wedstrijd/24987
END:VEVENT
BEGIN:VEVENT
UID:https://hbb.rivio.dev/jeugd/2019/wedstrijd/25028
DTSTAMP:20260420T184028Z
SUMMARY:Lieshout 2 - Phoenix 2
DESCRIPTION:Baan 14\, Afdeling D-klasse 
DTSTART:20191027T093000
DTEND:20191027T111500
LOCATION:City Resort Helmond
ATTACH;FMTTYPE=text/plain:https://hbb.rivio.dev/jeugd/2019/wedstrijd/25028
END:VEVENT
BEGIN:VEVENT
UID:https://hbb.rivio.dev/jeugd/2019/wedstrijd/25031
DTSTAMP:20260420T184028Z
SUMMARY:Phoenix 3 - Phoenix 2
DESCRIPTION:Baan 14\, Afdeling D-klasse 
DTSTART:20191027T111500
DTEND:20191027T130000
LOCATION:City Resort Helmond
ATTACH;FMTTYPE=text/plain:https://hbb.rivio.dev/jeugd/2019/wedstrijd/25031
END:VEVENT
BEGIN:VEVENT
UID:https://hbb.rivio.dev/jeugd/2019/wedstrijd/25083
DTSTAMP:20260420T184028Z
SUMMARY:Phoenix 2 - BCV '73 2
DESCRIPTION:Baan 15\, Afdeling D-klasse 
DTSTART:20191124T111500
DTEND:20191124T130000
LOCATION:City Resort Helmond
ATTACH;FMTTYPE=text/plain:https://hbb.rivio.dev/jeugd/2019/wedstrijd/25083
END:VEVENT
BEGIN:VEVENT
UID:https://hbb.rivio.dev/jeugd/2019/wedstrijd/25079
DTSTAMP:20260420T184028Z
SUMMARY:Mierlo 6 - Phoenix 2
DESCRIPTION:Baan 10\, Afdeling D-klasse 
DTSTART:20191124T093000
DTEND:20191124T111500
LOCATION:City Resort Helmond
ATTACH;FMTTYPE=text/plain:https://hbb.rivio.dev/jeugd/2019/wedstrijd/25079
END:VEVENT
BEGIN:VEVENT
UID:https://hbb.rivio.dev/jeugd/2019/wedstrijd/25133
DTSTAMP:20260420T184028Z
SUMMARY:Phoenix 2 - Lieshout 2
DESCRIPTION:Baan 4\, Afdeling D-klasse 
DTSTART:20191215T111500
DTEND:20191215T130000
LOCATION:City Resort Helmond
ATTACH;FMTTYPE=text/plain:https://hbb.rivio.dev/jeugd/2019/wedstrijd/25133
END:VEVENT
BEGIN:VEVENT
UID:https://hbb.rivio.dev/jeugd/2019/wedstrijd/25129
DTSTAMP:20260420T184028Z
SUMMARY:Lieshout 1 - Phoenix 2
DESCRIPTION:Baan 3\, Afdeling D-klasse 
DTSTART:20191215T093000
DTEND:20191215T111500
LOCATION:City Resort Helmond
ATTACH;FMTTYPE=text/plain:https://hbb.rivio.dev/jeugd/2019/wedstrijd/25129
END:VEVENT
BEGIN:VEVENT
UID:https://hbb.rivio.dev/jeugd/2019/wedstrijd/25162
DTSTAMP:20260420T184028Z
SUMMARY:Phoenix 2 - Phoenix 3
DESCRIPTION:Baan 4\, Afdeling D-klasse 
DTSTART:20200119T093000
DTEND:20200119T111500
LOCATION:City Resort Helmond
ATTACH;FMTTYPE=text/plain:https://hbb.rivio.dev/jeugd/2019/wedstrijd/25162
END:VEVENT
BEGIN:VEVENT
UID:https://hbb.rivio.dev/jeugd/2019/wedstrijd/25165
DTSTAMP:20260420T184028Z
SUMMARY:Phoenix 2 - Mierlo 6
DESCRIPTION:Baan 4\, Afdeling D-klasse 
DTSTART:20200119T111500
DTEND:20200119T130000
LOCATION:City Resort Helmond
ATTACH;FMTTYPE=text/plain:https://hbb.rivio.dev/jeugd/2019/wedstrijd/25165
END:VEVENT
BEGIN:VEVENT
UID:https://hbb.rivio.dev/jeugd/2019/wedstrijd/25196
DTSTAMP:20260420T184028Z
SUMMARY:Phoenix 2 - Lieshout 1
DESCRIPTION:Baan 3\, Afdeling D-klasse 
DTSTART:20200308T111500
DTEND:20200308T130000
LOCATION:City Resort Helmond
ATTACH;FMTTYPE=text/plain:https://hbb.rivio.dev/jeugd/2019/wedstrijd/25196
END:VEVENT
BEGIN:VEVENT
UID:https://hbb.rivio.dev/jeugd/2019/wedstrijd/25195
DTSTAMP:20260420T184028Z
SUMMARY:BCV '73 2 - Phoenix 2
DESCRIPTION:Baan 5\, Afdeling D-klasse 
DTSTART:20200308T093000
DTEND:20200308T111500
LOCATION:City Resort Helmond
ATTACH;FMTTYPE=text/plain:https://hbb.rivio.dev/jeugd/2019/wedstrijd/25195
END:VEVENT
BEGIN:VEVENT
UID:https://hbb.rivio.dev/jeugd/2019/wedstrijd/25225
DTSTAMP:20260420T184028Z
SUMMARY:Lieshout 2 - Phoenix 2
DESCRIPTION:Baan 4\, Afdeling D-klasse 
DTSTART:20200329T111500
DTEND:20200329T130000
LOCATION:City Resort Helmond
ATTACH;FMTTYPE=text/plain:https://hbb.rivio.dev/jeugd/2019/wedstrijd/25225
END:VEVENT
BEGIN:VTIMEZONE
TZID:Europe/Amsterdam
BEGIN:STANDARD
DTSTART:20190101T000000
TZNAME:CET
TZOFFSETTO:+0100
TZOFFSETFROM:+0100
END:STANDARD
BEGIN:DAYLIGHT
DTSTART:20190331T030000
TZNAME:CEST
TZOFFSETTO:+0200
TZOFFSETFROM:+0100
END:DAYLIGHT
BEGIN:STANDARD
DTSTART:20191027T020000
TZNAME:CET
TZOFFSETTO:+0100
TZOFFSETFROM:+0200
END:STANDARD
BEGIN:DAYLIGHT
DTSTART:20200329T030000
TZNAME:CEST
TZOFFSETTO:+0200
TZOFFSETFROM:+0100
END:DAYLIGHT
BEGIN:STANDARD
DTSTART:20201025T020000
TZNAME:CET
TZOFFSETTO:+0100
TZOFFSETFROM:+0200
END:STANDARD
END:VTIMEZONE
END:VCALENDAR
