BEGIN:VCALENDAR
PRODID:-//eluceo/ical//2.0/EN
VERSION:2.0
CALSCALE:GREGORIAN
BEGIN:VEVENT
UID:https://hbb.rivio.dev/jeugd/2019/wedstrijd/24972
DTSTAMP:20260420T181642Z
SUMMARY:Mixed 3 - Phoenix 1
DESCRIPTION:Baan 14\, Afdeling C-klasse 
DTSTART:20190922T093000
DTEND:20190922T111500
LOCATION:City Resort Helmond
ATTACH;FMTTYPE=text/plain:https://hbb.rivio.dev/jeugd/2019/wedstrijd/24972
END:VEVENT
BEGIN:VEVENT
UID:https://hbb.rivio.dev/jeugd/2019/wedstrijd/24976
DTSTAMP:20260420T181642Z
SUMMARY:Bakel 2 - Phoenix 1
DESCRIPTION:Baan 15\, Afdeling C-klasse 
DTSTART:20190922T111500
DTEND:20190922T130000
LOCATION:City Resort Helmond
ATTACH;FMTTYPE=text/plain:https://hbb.rivio.dev/jeugd/2019/wedstrijd/24976
END:VEVENT
BEGIN:VEVENT
UID:https://hbb.rivio.dev/jeugd/2019/wedstrijd/25005
DTSTAMP:20260420T181642Z
SUMMARY:Phoenix 1 - Bakel 3
DESCRIPTION:Baan 3\, Afdeling C-klasse 
DTSTART:20191006T130000
DTEND:20191006T144500
LOCATION:City Resort Helmond
ATTACH;FMTTYPE=text/plain:https://hbb.rivio.dev/jeugd/2019/wedstrijd/25005
END:VEVENT
BEGIN:VEVENT
UID:https://hbb.rivio.dev/jeugd/2019/wedstrijd/25010
DTSTAMP:20260420T181642Z
SUMMARY:Someren 1 - Phoenix 1
DESCRIPTION:Baan 5\, Afdeling C-klasse 
DTSTART:20191006T144500
DTEND:20191006T160000
LOCATION:City Resort Helmond
ATTACH;FMTTYPE=text/plain:https://hbb.rivio.dev/jeugd/2019/wedstrijd/25010
END:VEVENT
BEGIN:VEVENT
UID:https://hbb.rivio.dev/jeugd/2019/wedstrijd/25060
DTSTAMP:20260420T181642Z
SUMMARY:Phoenix 1 - Mierlo 5
DESCRIPTION:Baan 10\, Afdeling C-klasse 
DTSTART:20191117T093000
DTEND:20191117T111500
LOCATION:City Resort Helmond
ATTACH;FMTTYPE=text/plain:https://hbb.rivio.dev/jeugd/2019/wedstrijd/25060
END:VEVENT
BEGIN:VEVENT
UID:https://hbb.rivio.dev/jeugd/2019/wedstrijd/25062
DTSTAMP:20260420T181642Z
SUMMARY:Phoenix 1 - Mixed 3
DESCRIPTION:Baan 9\, Afdeling C-klasse 
DTSTART:20191117T111500
DTEND:20191117T130000
LOCATION:City Resort Helmond
ATTACH;FMTTYPE=text/plain:https://hbb.rivio.dev/jeugd/2019/wedstrijd/25062
END:VEVENT
BEGIN:VEVENT
UID:https://hbb.rivio.dev/jeugd/2019/wedstrijd/25111
DTSTAMP:20260420T181642Z
SUMMARY:Phoenix 1 - Bakel 2
DESCRIPTION:Baan 5\, Afdeling C-klasse 
DTSTART:20191208T093000
DTEND:20191208T111500
LOCATION:City Resort Helmond
ATTACH;FMTTYPE=text/plain:https://hbb.rivio.dev/jeugd/2019/wedstrijd/25111
END:VEVENT
BEGIN:VEVENT
UID:https://hbb.rivio.dev/jeugd/2019/wedstrijd/25112
DTSTAMP:20260420T181642Z
SUMMARY:Bakel 3 - Phoenix 1
DESCRIPTION:Baan 3\, Afdeling C-klasse 
DTSTART:20191208T111500
DTEND:20191208T130000
LOCATION:City Resort Helmond
ATTACH;FMTTYPE=text/plain:https://hbb.rivio.dev/jeugd/2019/wedstrijd/25112
END:VEVENT
BEGIN:VEVENT
UID:https://hbb.rivio.dev/jeugd/2019/wedstrijd/25147
DTSTAMP:20260420T181642Z
SUMMARY:Phoenix 1 - Someren 1
DESCRIPTION:Baan 10\, Afdeling C-klasse 
DTSTART:20200112T093000
DTEND:20200112T111500
LOCATION:City Resort Helmond
ATTACH;FMTTYPE=text/plain:https://hbb.rivio.dev/jeugd/2019/wedstrijd/25147
END:VEVENT
BEGIN:VEVENT
UID:https://hbb.rivio.dev/jeugd/2019/wedstrijd/25150
DTSTAMP:20260420T181642Z
SUMMARY:Mierlo 5 - Phoenix 1
DESCRIPTION:Baan 10\, Afdeling C-klasse 
DTSTART:20200112T111500
DTEND:20200112T130000
LOCATION:City Resort Helmond
ATTACH;FMTTYPE=text/plain:https://hbb.rivio.dev/jeugd/2019/wedstrijd/25150
END:VEVENT
BEGIN:VEVENT
UID:https://hbb.rivio.dev/jeugd/2019/wedstrijd/25182
DTSTAMP:20260420T181642Z
SUMMARY:Mixed 3 - Phoenix 1
DESCRIPTION:Baan 5\, Afdeling C-klasse 
DTSTART:20200216T093000
DTEND:20200216T111500
LOCATION:City Resort Helmond
ATTACH;FMTTYPE=text/plain:https://hbb.rivio.dev/jeugd/2019/wedstrijd/25182
END:VEVENT
BEGIN:VEVENT
UID:https://hbb.rivio.dev/jeugd/2019/wedstrijd/25186
DTSTAMP:20260420T181642Z
SUMMARY:Bakel 2 - Phoenix 1
DESCRIPTION:Baan 10\, Afdeling C-klasse 
DTSTART:20200216T111500
DTEND:20200216T130000
LOCATION:City Resort Helmond
ATTACH;FMTTYPE=text/plain:https://hbb.rivio.dev/jeugd/2019/wedstrijd/25186
END:VEVENT
BEGIN:VEVENT
UID:https://hbb.rivio.dev/jeugd/2019/wedstrijd/25203
DTSTAMP:20260420T181642Z
SUMMARY:Phoenix 1 - Bakel 3
DESCRIPTION:Baan 1\, Afdeling C-klasse 
DTSTART:20200322T093000
DTEND:20200322T111500
LOCATION:City Resort Helmond
ATTACH;FMTTYPE=text/plain:https://hbb.rivio.dev/jeugd/2019/wedstrijd/25203
END:VEVENT
BEGIN:VEVENT
UID:https://hbb.rivio.dev/jeugd/2019/wedstrijd/25208
DTSTAMP:20260420T181642Z
SUMMARY:Someren 1 - Phoenix 1
DESCRIPTION:Baan 3\, Afdeling C-klasse 
DTSTART:20200322T111500
DTEND:20200322T130000
LOCATION:City Resort Helmond
ATTACH;FMTTYPE=text/plain:https://hbb.rivio.dev/jeugd/2019/wedstrijd/25208
END:VEVENT
BEGIN:VEVENT
UID:https://hbb.rivio.dev/jeugd/2019/wedstrijd/25223
DTSTAMP:20260420T181642Z
SUMMARY:Phoenix 1 - Mierlo 5
DESCRIPTION:Baan 5\, Afdeling C-klasse 
DTSTART:20200329T093000
DTEND:20200329T111500
LOCATION:City Resort Helmond
ATTACH;FMTTYPE=text/plain:https://hbb.rivio.dev/jeugd/2019/wedstrijd/25223
END:VEVENT
BEGIN:VTIMEZONE
TZID:Europe/Amsterdam
BEGIN:STANDARD
DTSTART:20190101T000000
TZNAME:CET
TZOFFSETTO:+0100
TZOFFSETFROM:+0100
END:STANDARD
BEGIN:DAYLIGHT
DTSTART:20190331T030000
TZNAME:CEST
TZOFFSETTO:+0200
TZOFFSETFROM:+0100
END:DAYLIGHT
BEGIN:STANDARD
DTSTART:20191027T020000
TZNAME:CET
TZOFFSETTO:+0100
TZOFFSETFROM:+0200
END:STANDARD
BEGIN:DAYLIGHT
DTSTART:20200329T030000
TZNAME:CEST
TZOFFSETTO:+0200
TZOFFSETFROM:+0100
END:DAYLIGHT
BEGIN:STANDARD
DTSTART:20201025T020000
TZNAME:CET
TZOFFSETTO:+0100
TZOFFSETFROM:+0200
END:STANDARD
END:VTIMEZONE
END:VCALENDAR
