BEGIN:VCALENDAR
PRODID:-//eluceo/ical//2.0/EN
VERSION:2.0
CALSCALE:GREGORIAN
BEGIN:VEVENT
UID:https://hbb.rivio.dev/jeugd/2019/wedstrijd/25013
DTSTAMP:20260420T133534Z
SUMMARY:Ganzeveer 1 - Mierlo 10
DESCRIPTION:Baan 13\, Afdeling G-klasse 
DTSTART:20191006T130000
DTEND:20191006T144500
LOCATION:City Resort Helmond
ATTACH;FMTTYPE=text/plain:https://hbb.rivio.dev/jeugd/2019/wedstrijd/25013
END:VEVENT
BEGIN:VEVENT
UID:https://hbb.rivio.dev/jeugd/2019/wedstrijd/25050
DTSTAMP:20260420T133534Z
SUMMARY:Ganzeveer 1 - Hanevoet 3
DESCRIPTION:Baan 14\, Afdeling G-klasse 
DTSTART:20191110T111500
DTEND:20191110T130000
LOCATION:City Resort Helmond
ATTACH;FMTTYPE=text/plain:https://hbb.rivio.dev/jeugd/2019/wedstrijd/25050
END:VEVENT
BEGIN:VEVENT
UID:https://hbb.rivio.dev/jeugd/2019/wedstrijd/25045
DTSTAMP:20260420T133534Z
SUMMARY:Phoenix 6 - Ganzeveer 1
DESCRIPTION:Baan 13\, Afdeling H-klasse 
DTSTART:20191110T093000
DTEND:20191110T111500
LOCATION:City Resort Helmond
ATTACH;FMTTYPE=text/plain:https://hbb.rivio.dev/jeugd/2019/wedstrijd/25045
END:VEVENT
BEGIN:VEVENT
UID:https://hbb.rivio.dev/jeugd/2019/wedstrijd/25088
DTSTAMP:20260420T133534Z
SUMMARY:Ganzeveer 1 - Mixed 4
DESCRIPTION:Baan 11\, Afdeling G-klasse 
DTSTART:20191124T111500
DTEND:20191124T130000
LOCATION:City Resort Helmond
ATTACH;FMTTYPE=text/plain:https://hbb.rivio.dev/jeugd/2019/wedstrijd/25088
END:VEVENT
BEGIN:VEVENT
UID:https://hbb.rivio.dev/jeugd/2019/wedstrijd/25086
DTSTAMP:20260420T133534Z
SUMMARY:Mixed 5 - Ganzeveer 1
DESCRIPTION:Baan 13\, Afdeling H-klasse 
DTSTART:20191124T093000
DTEND:20191124T111500
LOCATION:City Resort Helmond
ATTACH;FMTTYPE=text/plain:https://hbb.rivio.dev/jeugd/2019/wedstrijd/25086
END:VEVENT
BEGIN:VEVENT
UID:https://hbb.rivio.dev/jeugd/2019/wedstrijd/25116
DTSTAMP:20260420T133534Z
SUMMARY:Ganzeveer 1 - Bakel 4
DESCRIPTION:Baan 12\, Afdeling G-klasse 
DTSTART:20191208T093000
DTEND:20191208T111500
LOCATION:City Resort Helmond
ATTACH;FMTTYPE=text/plain:https://hbb.rivio.dev/jeugd/2019/wedstrijd/25116
END:VEVENT
BEGIN:VEVENT
UID:https://hbb.rivio.dev/jeugd/2019/wedstrijd/25122
DTSTAMP:20260420T133534Z
SUMMARY:Phoenix 5 - Ganzeveer 1
DESCRIPTION:Baan 14\, Afdeling G-klasse 
DTSTART:20191208T111500
DTEND:20191208T130000
LOCATION:City Resort Helmond
ATTACH;FMTTYPE=text/plain:https://hbb.rivio.dev/jeugd/2019/wedstrijd/25122
END:VEVENT
BEGIN:VEVENT
UID:https://hbb.rivio.dev/jeugd/2019/wedstrijd/25142
DTSTAMP:20260420T133534Z
SUMMARY:Con Brio 1 - Ganzeveer 1
DESCRIPTION:Baan 15\, Afdeling H-klasse 
DTSTART:20191215T093000
DTEND:20191215T111500
LOCATION:City Resort Helmond
ATTACH;FMTTYPE=text/plain:https://hbb.rivio.dev/jeugd/2019/wedstrijd/25142
END:VEVENT
BEGIN:VEVENT
UID:https://hbb.rivio.dev/jeugd/2019/wedstrijd/26311
DTSTAMP:20260420T133534Z
SUMMARY:Bakel 4 - Ganzeveer 1
DESCRIPTION:Baan 11\, Afdeling G-klasse 
DTSTART:20200119T093000
DTEND:20200119T111500
LOCATION:City Resort Helmond
ATTACH;FMTTYPE=text/plain:https://hbb.rivio.dev/jeugd/2019/wedstrijd/26311
END:VEVENT
BEGIN:VEVENT
UID:https://hbb.rivio.dev/jeugd/2019/wedstrijd/26314
DTSTAMP:20260420T133534Z
SUMMARY:Phoenix 5 - Ganzeveer 1
DESCRIPTION:Baan 12\, Afdeling G-klasse 
DTSTART:20200119T111500
DTEND:20200119T130000
LOCATION:City Resort Helmond
ATTACH;FMTTYPE=text/plain:https://hbb.rivio.dev/jeugd/2019/wedstrijd/26314
END:VEVENT
BEGIN:VEVENT
UID:https://hbb.rivio.dev/jeugd/2019/wedstrijd/26320
DTSTAMP:20260420T133534Z
SUMMARY:Ganzeveer 1 - Mierlo 10
DESCRIPTION:Baan 14\, Afdeling G-klasse 
DTSTART:20200209T093000
DTEND:20200209T111500
LOCATION:City Resort Helmond
ATTACH;FMTTYPE=text/plain:https://hbb.rivio.dev/jeugd/2019/wedstrijd/26320
END:VEVENT
BEGIN:VEVENT
UID:https://hbb.rivio.dev/jeugd/2019/wedstrijd/26321
DTSTAMP:20260420T133534Z
SUMMARY:Hanevoet 3 - Ganzeveer 1
DESCRIPTION:Baan 13\, Afdeling G-klasse 
DTSTART:20200209T111500
DTEND:20200209T130000
LOCATION:City Resort Helmond
ATTACH;FMTTYPE=text/plain:https://hbb.rivio.dev/jeugd/2019/wedstrijd/26321
END:VEVENT
BEGIN:VEVENT
UID:https://hbb.rivio.dev/jeugd/2019/wedstrijd/26328
DTSTAMP:20260420T133534Z
SUMMARY:Ganzeveer 1 - Phoenix 5
DESCRIPTION:Baan 12\, Afdeling G-klasse 
DTSTART:20200308T093000
DTEND:20200308T111500
LOCATION:City Resort Helmond
ATTACH;FMTTYPE=text/plain:https://hbb.rivio.dev/jeugd/2019/wedstrijd/26328
END:VEVENT
BEGIN:VEVENT
UID:https://hbb.rivio.dev/jeugd/2019/wedstrijd/26330
DTSTAMP:20260420T133534Z
SUMMARY:Ganzeveer 1 - Hanevoet 3
DESCRIPTION:Baan 12\, Afdeling G-klasse 
DTSTART:20200308T111500
DTEND:20200308T130000
LOCATION:City Resort Helmond
ATTACH;FMTTYPE=text/plain:https://hbb.rivio.dev/jeugd/2019/wedstrijd/26330
END:VEVENT
BEGIN:VEVENT
UID:https://hbb.rivio.dev/jeugd/2019/wedstrijd/26336
DTSTAMP:20260420T133534Z
SUMMARY:Ganzeveer 1 - Bakel 4
DESCRIPTION:Baan 12\, Afdeling G-klasse 
DTSTART:20200322T093000
DTEND:20200322T111500
LOCATION:City Resort Helmond
ATTACH;FMTTYPE=text/plain:https://hbb.rivio.dev/jeugd/2019/wedstrijd/26336
END:VEVENT
BEGIN:VEVENT
UID:https://hbb.rivio.dev/jeugd/2019/wedstrijd/26337
DTSTAMP:20260420T133534Z
SUMMARY:Mierlo 10 - Ganzeveer 1
DESCRIPTION:Baan 11\, Afdeling G-klasse 
DTSTART:20200322T111500
DTEND:20200322T130000
LOCATION:City Resort Helmond
ATTACH;FMTTYPE=text/plain:https://hbb.rivio.dev/jeugd/2019/wedstrijd/26337
END:VEVENT
BEGIN:VTIMEZONE
TZID:Europe/Amsterdam
BEGIN:STANDARD
DTSTART:20190101T000000
TZNAME:CET
TZOFFSETTO:+0100
TZOFFSETFROM:+0100
END:STANDARD
BEGIN:DAYLIGHT
DTSTART:20190331T030000
TZNAME:CEST
TZOFFSETTO:+0200
TZOFFSETFROM:+0100
END:DAYLIGHT
BEGIN:STANDARD
DTSTART:20191027T020000
TZNAME:CET
TZOFFSETTO:+0100
TZOFFSETFROM:+0200
END:STANDARD
BEGIN:DAYLIGHT
DTSTART:20200329T030000
TZNAME:CEST
TZOFFSETTO:+0200
TZOFFSETFROM:+0100
END:DAYLIGHT
BEGIN:STANDARD
DTSTART:20201025T020000
TZNAME:CET
TZOFFSETTO:+0100
TZOFFSETFROM:+0200
END:STANDARD
END:VTIMEZONE
END:VCALENDAR
