BEGIN:VCALENDAR
PRODID:-//eluceo/ical//2.0/EN
VERSION:2.0
CALSCALE:GREGORIAN
BEGIN:VEVENT
UID:https://hbb.rivio.dev/jeugd/2019/wedstrijd/24952
DTSTAMP:20260420T090132Z
SUMMARY:Lieshout 1 - Lieshout 2
DESCRIPTION:Baan 11\, Afdeling D-klasse 
DTSTART:20190915T093000
DTEND:20190915T111500
LOCATION:City Resort Helmond
ATTACH;FMTTYPE=text/plain:https://hbb.rivio.dev/jeugd/2019/wedstrijd/24952
END:VEVENT
BEGIN:VEVENT
UID:https://hbb.rivio.dev/jeugd/2019/wedstrijd/24955
DTSTAMP:20260420T090132Z
SUMMARY:Lieshout 1 - BCV '73 2
DESCRIPTION:Baan 11\, Afdeling D-klasse 
DTSTART:20190915T111500
DTEND:20190915T130000
LOCATION:City Resort Helmond
ATTACH;FMTTYPE=text/plain:https://hbb.rivio.dev/jeugd/2019/wedstrijd/24955
END:VEVENT
BEGIN:VEVENT
UID:https://hbb.rivio.dev/jeugd/2019/wedstrijd/24985
DTSTAMP:20260420T090132Z
SUMMARY:Phoenix 3 - Lieshout 1
DESCRIPTION:Baan 3\, Afdeling D-klasse 
DTSTART:20191006T093000
DTEND:20191006T111500
LOCATION:City Resort Helmond
ATTACH;FMTTYPE=text/plain:https://hbb.rivio.dev/jeugd/2019/wedstrijd/24985
END:VEVENT
BEGIN:VEVENT
UID:https://hbb.rivio.dev/jeugd/2019/wedstrijd/24988
DTSTAMP:20260420T090132Z
SUMMARY:Phoenix 2 - Lieshout 1
DESCRIPTION:Baan 3\, Afdeling D-klasse 
DTSTART:20191006T111500
DTEND:20191006T130000
LOCATION:City Resort Helmond
ATTACH;FMTTYPE=text/plain:https://hbb.rivio.dev/jeugd/2019/wedstrijd/24988
END:VEVENT
BEGIN:VEVENT
UID:https://hbb.rivio.dev/jeugd/2019/wedstrijd/25027
DTSTAMP:20260420T090132Z
SUMMARY:Lieshout 1 - Mierlo 6
DESCRIPTION:Baan 5\, Afdeling D-klasse 
DTSTART:20191027T093000
DTEND:20191027T111500
LOCATION:City Resort Helmond
ATTACH;FMTTYPE=text/plain:https://hbb.rivio.dev/jeugd/2019/wedstrijd/25027
END:VEVENT
BEGIN:VEVENT
UID:https://hbb.rivio.dev/jeugd/2019/wedstrijd/25030
DTSTAMP:20260420T090132Z
SUMMARY:Lieshout 2 - Lieshout 1
DESCRIPTION:Baan 5\, Afdeling D-klasse 
DTSTART:20191027T111500
DTEND:20191027T130000
LOCATION:City Resort Helmond
ATTACH;FMTTYPE=text/plain:https://hbb.rivio.dev/jeugd/2019/wedstrijd/25030
END:VEVENT
BEGIN:VEVENT
UID:https://hbb.rivio.dev/jeugd/2019/wedstrijd/25081
DTSTAMP:20260420T090132Z
SUMMARY:Lieshout 1 - Phoenix 3
DESCRIPTION:Baan 5\, Afdeling D-klasse 
DTSTART:20191124T111500
DTEND:20191124T130000
LOCATION:City Resort Helmond
ATTACH;FMTTYPE=text/plain:https://hbb.rivio.dev/jeugd/2019/wedstrijd/25081
END:VEVENT
BEGIN:VEVENT
UID:https://hbb.rivio.dev/jeugd/2019/wedstrijd/25078
DTSTAMP:20260420T090132Z
SUMMARY:BCV '73 2 - Lieshout 1
DESCRIPTION:Baan 5\, Afdeling D-klasse 
DTSTART:20191124T093000
DTEND:20191124T111500
LOCATION:City Resort Helmond
ATTACH;FMTTYPE=text/plain:https://hbb.rivio.dev/jeugd/2019/wedstrijd/25078
END:VEVENT
BEGIN:VEVENT
UID:https://hbb.rivio.dev/jeugd/2019/wedstrijd/25129
DTSTAMP:20260420T090132Z
SUMMARY:Lieshout 1 - Phoenix 2
DESCRIPTION:Baan 3\, Afdeling D-klasse 
DTSTART:20191215T093000
DTEND:20191215T111500
LOCATION:City Resort Helmond
ATTACH;FMTTYPE=text/plain:https://hbb.rivio.dev/jeugd/2019/wedstrijd/25129
END:VEVENT
BEGIN:VEVENT
UID:https://hbb.rivio.dev/jeugd/2019/wedstrijd/25132
DTSTAMP:20260420T090132Z
SUMMARY:Mierlo 6 - Lieshout 1
DESCRIPTION:Baan 3\, Afdeling D-klasse 
DTSTART:20191215T111500
DTEND:20191215T130000
LOCATION:City Resort Helmond
ATTACH;FMTTYPE=text/plain:https://hbb.rivio.dev/jeugd/2019/wedstrijd/25132
END:VEVENT
BEGIN:VEVENT
UID:https://hbb.rivio.dev/jeugd/2019/wedstrijd/25161
DTSTAMP:20260420T090132Z
SUMMARY:Lieshout 1 - Lieshout 2
DESCRIPTION:Baan 3\, Afdeling D-klasse 
DTSTART:20200119T093000
DTEND:20200119T111500
LOCATION:City Resort Helmond
ATTACH;FMTTYPE=text/plain:https://hbb.rivio.dev/jeugd/2019/wedstrijd/25161
END:VEVENT
BEGIN:VEVENT
UID:https://hbb.rivio.dev/jeugd/2019/wedstrijd/25164
DTSTAMP:20260420T090132Z
SUMMARY:Lieshout 1 - BCV '73 2
DESCRIPTION:Baan 3\, Afdeling D-klasse 
DTSTART:20200119T111500
DTEND:20200119T130000
LOCATION:City Resort Helmond
ATTACH;FMTTYPE=text/plain:https://hbb.rivio.dev/jeugd/2019/wedstrijd/25164
END:VEVENT
BEGIN:VEVENT
UID:https://hbb.rivio.dev/jeugd/2019/wedstrijd/25193
DTSTAMP:20260420T090132Z
SUMMARY:Phoenix 3 - Lieshout 1
DESCRIPTION:Baan 3\, Afdeling D-klasse 
DTSTART:20200308T093000
DTEND:20200308T111500
LOCATION:City Resort Helmond
ATTACH;FMTTYPE=text/plain:https://hbb.rivio.dev/jeugd/2019/wedstrijd/25193
END:VEVENT
BEGIN:VEVENT
UID:https://hbb.rivio.dev/jeugd/2019/wedstrijd/25196
DTSTAMP:20260420T090132Z
SUMMARY:Phoenix 2 - Lieshout 1
DESCRIPTION:Baan 3\, Afdeling D-klasse 
DTSTART:20200308T111500
DTEND:20200308T130000
LOCATION:City Resort Helmond
ATTACH;FMTTYPE=text/plain:https://hbb.rivio.dev/jeugd/2019/wedstrijd/25196
END:VEVENT
BEGIN:VEVENT
UID:https://hbb.rivio.dev/jeugd/2019/wedstrijd/25224
DTSTAMP:20260420T090132Z
SUMMARY:Lieshout 1 - Mierlo 6
DESCRIPTION:Baan 3\, Afdeling D-klasse 
DTSTART:20200329T111500
DTEND:20200329T130000
LOCATION:City Resort Helmond
ATTACH;FMTTYPE=text/plain:https://hbb.rivio.dev/jeugd/2019/wedstrijd/25224
END:VEVENT
BEGIN:VTIMEZONE
TZID:Europe/Amsterdam
BEGIN:STANDARD
DTSTART:20190101T000000
TZNAME:CET
TZOFFSETTO:+0100
TZOFFSETFROM:+0100
END:STANDARD
BEGIN:DAYLIGHT
DTSTART:20190331T030000
TZNAME:CEST
TZOFFSETTO:+0200
TZOFFSETFROM:+0100
END:DAYLIGHT
BEGIN:STANDARD
DTSTART:20191027T020000
TZNAME:CET
TZOFFSETTO:+0100
TZOFFSETFROM:+0200
END:STANDARD
BEGIN:DAYLIGHT
DTSTART:20200329T030000
TZNAME:CEST
TZOFFSETTO:+0200
TZOFFSETFROM:+0100
END:DAYLIGHT
BEGIN:STANDARD
DTSTART:20201025T020000
TZNAME:CET
TZOFFSETTO:+0100
TZOFFSETFROM:+0200
END:STANDARD
END:VTIMEZONE
END:VCALENDAR
