BEGIN:VCALENDAR
PRODID:-//eluceo/ical//2.0/EN
VERSION:2.0
CALSCALE:GREGORIAN
BEGIN:VEVENT
UID:https://hbb.rivio.dev/senioren/2019/wedstrijd/25766
DTSTAMP:20260420T090147Z
SUMMARY:BC '85 3 - Gemert 4
DESCRIPTION:Baan 14\, Wedstrijdnummer 221\, Afdeling 4e klasse II
DTSTART:20190911T200000
DTEND:20190911T230000
LOCATION:City Resort Helmond
ATTACH;FMTTYPE=text/plain:https://hbb.rivio.dev/senioren/2019/wedstrijd/257
 66
END:VEVENT
BEGIN:VEVENT
UID:https://hbb.rivio.dev/senioren/2019/wedstrijd/25803
DTSTAMP:20260420T090147Z
SUMMARY:Gemert 4 - Smashing Bruang 3
DESCRIPTION:Baan 11\, Wedstrijdnummer 224\, Afdeling 4e klasse II
DTSTART:20190925T200000
DTEND:20190925T230000
LOCATION:City Resort Helmond
ATTACH;FMTTYPE=text/plain:https://hbb.rivio.dev/senioren/2019/wedstrijd/258
 03
END:VEVENT
BEGIN:VEVENT
UID:https://hbb.rivio.dev/senioren/2019/wedstrijd/25843
DTSTAMP:20260420T090147Z
SUMMARY:Dommelen 3 - Gemert 4
DESCRIPTION:Baan 11\, Wedstrijdnummer 228\, Afdeling 4e klasse II
DTSTART:20191009T200000
DTEND:20191009T230000
LOCATION:City Resort Helmond
ATTACH;FMTTYPE=text/plain:https://hbb.rivio.dev/senioren/2019/wedstrijd/258
 43
END:VEVENT
BEGIN:VEVENT
UID:https://hbb.rivio.dev/senioren/2019/wedstrijd/25897
DTSTAMP:20260420T090147Z
SUMMARY:Gemert 4 - Phoenix 4
DESCRIPTION:Baan 15\, Wedstrijdnummer 231\, Afdeling 4e klasse II
DTSTART:20191031T200000
DTEND:20191031T230000
LOCATION:City Resort Helmond
ATTACH;FMTTYPE=text/plain:https://hbb.rivio.dev/senioren/2019/wedstrijd/258
 97
END:VEVENT
BEGIN:VEVENT
UID:https://hbb.rivio.dev/senioren/2019/wedstrijd/25921
DTSTAMP:20260420T090147Z
SUMMARY:Gemert 4 - Mixed 7
DESCRIPTION:Baan 4\, Wedstrijdnummer 3034\, Afdeling 4e klasse II
DTSTART:20191113T200000
DTEND:20191113T230000
LOCATION:City Resort Helmond
ATTACH;FMTTYPE=text/plain:https://hbb.rivio.dev/senioren/2019/wedstrijd/259
 21
END:VEVENT
BEGIN:VEVENT
UID:https://hbb.rivio.dev/senioren/2019/wedstrijd/25983
DTSTAMP:20260420T090147Z
SUMMARY:Mierlo 10 - Gemert 4
DESCRIPTION:Baan 11\, Wedstrijdnummer 237\, Afdeling 4e klasse II
DTSTART:20191204T200000
DTEND:20191204T230000
LOCATION:City Resort Helmond
ATTACH;FMTTYPE=text/plain:https://hbb.rivio.dev/senioren/2019/wedstrijd/259
 83
END:VEVENT
BEGIN:VEVENT
UID:https://hbb.rivio.dev/senioren/2019/wedstrijd/26012
DTSTAMP:20260420T090147Z
SUMMARY:Gemert 4 - Mierlo 12
DESCRIPTION:Baan 5\, Wedstrijdnummer 240\, Afdeling 4e klasse II
DTSTART:20191218T200000
DTEND:20191218T230000
LOCATION:City Resort Helmond
ATTACH;FMTTYPE=text/plain:https://hbb.rivio.dev/senioren/2019/wedstrijd/260
 12
END:VEVENT
BEGIN:VEVENT
UID:https://hbb.rivio.dev/senioren/2019/wedstrijd/26099
DTSTAMP:20260420T090147Z
SUMMARY:Smashing Bruang 3 - Gemert 4
DESCRIPTION:Baan 13\, Wedstrijdnummer 1224\, Afdeling 4e klasse II
DTSTART:20200205T200000
DTEND:20200205T230000
LOCATION:City Resort Helmond
ATTACH;FMTTYPE=text/plain:https://hbb.rivio.dev/senioren/2019/wedstrijd/260
 99
END:VEVENT
BEGIN:VEVENT
UID:https://hbb.rivio.dev/senioren/2019/wedstrijd/26132
DTSTAMP:20260420T090147Z
SUMMARY:Gemert 4 - Dommelen 3
DESCRIPTION:Baan 15\, Wedstrijdnummer 1228\, Afdeling 4e klasse II
DTSTART:20200213T200000
DTEND:20200213T230000
LOCATION:City Resort Helmond
ATTACH;FMTTYPE=text/plain:https://hbb.rivio.dev/senioren/2019/wedstrijd/261
 32
END:VEVENT
BEGIN:VEVENT
UID:https://hbb.rivio.dev/senioren/2019/wedstrijd/26176
DTSTAMP:20260420T090147Z
SUMMARY:Phoenix 4 - Gemert 4
DESCRIPTION:Baan 10\, Wedstrijdnummer 1231\, Afdeling 4e klasse II
DTSTART:20200311T200000
DTEND:20200311T230000
LOCATION:City Resort Helmond
ATTACH;FMTTYPE=text/plain:https://hbb.rivio.dev/senioren/2019/wedstrijd/261
 76
END:VEVENT
BEGIN:VEVENT
UID:https://hbb.rivio.dev/senioren/2019/wedstrijd/26230
DTSTAMP:20260420T090147Z
SUMMARY:Gemert 4 - Mierlo 10
DESCRIPTION:Baan 14\, Wedstrijdnummer 1237\, Afdeling 4e klasse II
DTSTART:20200401T200000
DTEND:20200401T230000
LOCATION:City Resort Helmond
ATTACH;FMTTYPE=text/plain:https://hbb.rivio.dev/senioren/2019/wedstrijd/262
 30
END:VEVENT
BEGIN:VEVENT
UID:https://hbb.rivio.dev/senioren/2019/wedstrijd/26258
DTSTAMP:20260420T090147Z
SUMMARY:Mierlo 12 - Gemert 4
DESCRIPTION:Baan 14\, Wedstrijdnummer 1240\, Afdeling 4e klasse II
DTSTART:20200513T200000
DTEND:20200513T230000
LOCATION:City Resort Helmond
ATTACH;FMTTYPE=text/plain:https://hbb.rivio.dev/senioren/2019/wedstrijd/262
 58
END:VEVENT
BEGIN:VTIMEZONE
TZID:Europe/Amsterdam
BEGIN:STANDARD
DTSTART:20190101T000000
TZNAME:CET
TZOFFSETTO:+0100
TZOFFSETFROM:+0100
END:STANDARD
BEGIN:DAYLIGHT
DTSTART:20190331T030000
TZNAME:CEST
TZOFFSETTO:+0200
TZOFFSETFROM:+0100
END:DAYLIGHT
BEGIN:STANDARD
DTSTART:20191027T020000
TZNAME:CET
TZOFFSETTO:+0100
TZOFFSETFROM:+0200
END:STANDARD
BEGIN:DAYLIGHT
DTSTART:20200329T030000
TZNAME:CEST
TZOFFSETTO:+0200
TZOFFSETFROM:+0100
END:DAYLIGHT
BEGIN:STANDARD
DTSTART:20201025T020000
TZNAME:CET
TZOFFSETTO:+0100
TZOFFSETFROM:+0200
END:STANDARD
END:VTIMEZONE
END:VCALENDAR
