BEGIN:VCALENDAR
PRODID:-//eluceo/ical//2.0/EN
VERSION:2.0
CALSCALE:GREGORIAN
BEGIN:VEVENT
UID:https://hbb.rivio.dev/senioren/2019/wedstrijd/25797
DTSTAMP:20260420T150540Z
SUMMARY:Hanevoet 4 - Gemert 2
DESCRIPTION:Baan 15\, Wedstrijdnummer 178\, Afdeling 3e klasse II
DTSTART:20190919T200000
DTEND:20190919T230000
LOCATION:City Resort Helmond
ATTACH;FMTTYPE=text/plain:https://hbb.rivio.dev/senioren/2019/wedstrijd/257
 97
END:VEVENT
BEGIN:VEVENT
UID:https://hbb.rivio.dev/senioren/2019/wedstrijd/25821
DTSTAMP:20260420T150540Z
SUMMARY:Gemert 2 - Mierlo 8
DESCRIPTION:Baan 4\, Wedstrijdnummer 181\, Afdeling 3e klasse II
DTSTART:20191002T200000
DTEND:20191002T230000
LOCATION:City Resort Helmond
ATTACH;FMTTYPE=text/plain:https://hbb.rivio.dev/senioren/2019/wedstrijd/258
 21
END:VEVENT
BEGIN:VEVENT
UID:https://hbb.rivio.dev/senioren/2019/wedstrijd/25874
DTSTAMP:20260420T150540Z
SUMMARY:Someren 4 - Gemert 2
DESCRIPTION:Baan 12\, Wedstrijdnummer 185\, Afdeling 3e klasse II
DTSTART:20191024T200000
DTEND:20191024T230000
LOCATION:City Resort Helmond
ATTACH;FMTTYPE=text/plain:https://hbb.rivio.dev/senioren/2019/wedstrijd/258
 74
END:VEVENT
BEGIN:VEVENT
UID:https://hbb.rivio.dev/senioren/2019/wedstrijd/25903
DTSTAMP:20260420T150540Z
SUMMARY:Mierlo 9 - Gemert 2
DESCRIPTION:Baan 11\, Wedstrijdnummer 3029\, Afdeling 3e klasse I
DTSTART:20191106T200000
DTEND:20191106T230000
LOCATION:City Resort Helmond
ATTACH;FMTTYPE=text/plain:https://hbb.rivio.dev/senioren/2019/wedstrijd/259
 03
END:VEVENT
BEGIN:VEVENT
UID:https://hbb.rivio.dev/senioren/2019/wedstrijd/25927
DTSTAMP:20260420T150540Z
SUMMARY:Gemert 2 - Mixed 6
DESCRIPTION:Baan 15\, Wedstrijdnummer 188\, Afdeling 3e klasse II
DTSTART:20191113T200000
DTEND:20191113T230000
LOCATION:City Resort Helmond
ATTACH;FMTTYPE=text/plain:https://hbb.rivio.dev/senioren/2019/wedstrijd/259
 27
END:VEVENT
BEGIN:VEVENT
UID:https://hbb.rivio.dev/senioren/2019/wedstrijd/25971
DTSTAMP:20260420T150540Z
SUMMARY:Heiakker 1 - Gemert 2
DESCRIPTION:Baan 4\, Wedstrijdnummer 192\, Afdeling 3e klasse II
DTSTART:20191128T200000
DTEND:20191128T230000
LOCATION:City Resort Helmond
ATTACH;FMTTYPE=text/plain:https://hbb.rivio.dev/senioren/2019/wedstrijd/259
 71
END:VEVENT
BEGIN:VEVENT
UID:https://hbb.rivio.dev/senioren/2019/wedstrijd/25989
DTSTAMP:20260420T150540Z
SUMMARY:Gemert 2 - Heeze 1
DESCRIPTION:Baan 2\, Wedstrijdnummer 195\, Afdeling 3e klasse II
DTSTART:20191211T200000
DTEND:20191211T230000
LOCATION:City Resort Helmond
ATTACH;FMTTYPE=text/plain:https://hbb.rivio.dev/senioren/2019/wedstrijd/259
 89
END:VEVENT
BEGIN:VEVENT
UID:https://hbb.rivio.dev/senioren/2019/wedstrijd/26289
DTSTAMP:20260420T150540Z
SUMMARY:Gemert 2 - BCAB 4
DESCRIPTION:Baan 12\, Wedstrijdnummer 3054\, Afdeling 3e klasse II
DTSTART:20200122T200000
DTEND:20200122T230000
LOCATION:City Resort Helmond
ATTACH;FMTTYPE=text/plain:https://hbb.rivio.dev/senioren/2019/wedstrijd/262
 89
END:VEVENT
BEGIN:VEVENT
UID:https://hbb.rivio.dev/senioren/2019/wedstrijd/26083
DTSTAMP:20260420T150540Z
SUMMARY:Gemert 2 - Hanevoet 4
DESCRIPTION:Baan 2\, Wedstrijdnummer 1178\, Afdeling 3e klasse II
DTSTART:20200130T200000
DTEND:20200130T230000
LOCATION:City Resort Helmond
ATTACH;FMTTYPE=text/plain:https://hbb.rivio.dev/senioren/2019/wedstrijd/260
 83
END:VEVENT
BEGIN:VEVENT
UID:https://hbb.rivio.dev/senioren/2019/wedstrijd/26117
DTSTAMP:20260420T150540Z
SUMMARY:Mierlo 8 - Gemert 2
DESCRIPTION:Baan 11\, Wedstrijdnummer 1181\, Afdeling 3e klasse II
DTSTART:20200212T200000
DTEND:20200212T230000
LOCATION:City Resort Helmond
ATTACH;FMTTYPE=text/plain:https://hbb.rivio.dev/senioren/2019/wedstrijd/261
 17
END:VEVENT
BEGIN:VEVENT
UID:https://hbb.rivio.dev/senioren/2019/wedstrijd/26137
DTSTAMP:20260420T150540Z
SUMMARY:Gemert 2 - Someren 4
DESCRIPTION:Baan 5\, Wedstrijdnummer 1185\, Afdeling 3e klasse II
DTSTART:20200219T200000
DTEND:20200219T230000
LOCATION:City Resort Helmond
ATTACH;FMTTYPE=text/plain:https://hbb.rivio.dev/senioren/2019/wedstrijd/261
 37
END:VEVENT
BEGIN:VEVENT
UID:https://hbb.rivio.dev/senioren/2019/wedstrijd/26179
DTSTAMP:20260420T150540Z
SUMMARY:Mixed 6 - Gemert 2
DESCRIPTION:Baan 13\, Wedstrijdnummer 1188\, Afdeling 3e klasse II
DTSTART:20200311T200000
DTEND:20200311T230000
LOCATION:City Resort Helmond
ATTACH;FMTTYPE=text/plain:https://hbb.rivio.dev/senioren/2019/wedstrijd/261
 79
END:VEVENT
BEGIN:VEVENT
UID:https://hbb.rivio.dev/senioren/2019/wedstrijd/26215
DTSTAMP:20260420T150540Z
SUMMARY:Gemert 2 - Heiakker 1
DESCRIPTION:Baan 2\, Wedstrijdnummer 1192\, Afdeling 3e klasse II
DTSTART:20200326T200000
DTEND:20200326T230000
LOCATION:City Resort Helmond
ATTACH;FMTTYPE=text/plain:https://hbb.rivio.dev/senioren/2019/wedstrijd/262
 15
END:VEVENT
BEGIN:VEVENT
UID:https://hbb.rivio.dev/senioren/2019/wedstrijd/26354
DTSTAMP:20260420T150540Z
SUMMARY:Gemert 2 - Mierlo 8
DESCRIPTION:Baan 10\, Wedstrijdnummer 3068\, Afdeling 3e klasse II
DTSTART:20200402T200000
DTEND:20200402T230000
LOCATION:City Resort Helmond
ATTACH;FMTTYPE=text/plain:https://hbb.rivio.dev/senioren/2019/wedstrijd/263
 54
END:VEVENT
BEGIN:VEVENT
UID:https://hbb.rivio.dev/senioren/2019/wedstrijd/26240
DTSTAMP:20260420T150540Z
SUMMARY:Heeze 1 - Gemert 2
DESCRIPTION:Baan 4\, Wedstrijdnummer 1195\, Afdeling 3e klasse II
DTSTART:20200415T200000
DTEND:20200415T230000
LOCATION:City Resort Helmond
ATTACH;FMTTYPE=text/plain:https://hbb.rivio.dev/senioren/2019/wedstrijd/262
 40
END:VEVENT
BEGIN:VTIMEZONE
TZID:Europe/Amsterdam
BEGIN:STANDARD
DTSTART:20190101T000000
TZNAME:CET
TZOFFSETTO:+0100
TZOFFSETFROM:+0100
END:STANDARD
BEGIN:DAYLIGHT
DTSTART:20190331T030000
TZNAME:CEST
TZOFFSETTO:+0200
TZOFFSETFROM:+0100
END:DAYLIGHT
BEGIN:STANDARD
DTSTART:20191027T020000
TZNAME:CET
TZOFFSETTO:+0100
TZOFFSETFROM:+0200
END:STANDARD
BEGIN:DAYLIGHT
DTSTART:20200329T030000
TZNAME:CEST
TZOFFSETTO:+0200
TZOFFSETFROM:+0100
END:DAYLIGHT
BEGIN:STANDARD
DTSTART:20201025T020000
TZNAME:CET
TZOFFSETTO:+0100
TZOFFSETFROM:+0200
END:STANDARD
END:VTIMEZONE
END:VCALENDAR
