BEGIN:VCALENDAR
PRODID:-//eluceo/ical//2.0/EN
VERSION:2.0
CALSCALE:GREGORIAN
BEGIN:VEVENT
UID:https://hbb.rivio.dev/senioren/2019/wedstrijd/25770
DTSTAMP:20260420T182128Z
SUMMARY:Gemert 1 - RBC 2
DESCRIPTION:Baan 3\, Wedstrijdnummer 103\, Afdeling 2e klasse I
DTSTART:20190912T200000
DTEND:20190912T230000
LOCATION:City Resort Helmond
ATTACH;FMTTYPE=text/plain:https://hbb.rivio.dev/senioren/2019/wedstrijd/257
 70
END:VEVENT
BEGIN:VEVENT
UID:https://hbb.rivio.dev/senioren/2019/wedstrijd/25785
DTSTAMP:20260420T182128Z
SUMMARY:Dommelen 1 - Gemert 1
DESCRIPTION:Baan 13\, Wedstrijdnummer 106\, Afdeling 2e klasse I
DTSTART:20190918T200000
DTEND:20190918T230000
LOCATION:City Resort Helmond
ATTACH;FMTTYPE=text/plain:https://hbb.rivio.dev/senioren/2019/wedstrijd/257
 85
END:VEVENT
BEGIN:VEVENT
UID:https://hbb.rivio.dev/senioren/2019/wedstrijd/25824
DTSTAMP:20260420T182128Z
SUMMARY:Gemert 1 - Ganzeveer 3
DESCRIPTION:Baan 12\, Wedstrijdnummer 110\, Afdeling 2e klasse I
DTSTART:20191002T200000
DTEND:20191002T230000
LOCATION:City Resort Helmond
ATTACH;FMTTYPE=text/plain:https://hbb.rivio.dev/senioren/2019/wedstrijd/258
 24
END:VEVENT
BEGIN:VEVENT
UID:https://hbb.rivio.dev/senioren/2019/wedstrijd/25861
DTSTAMP:20260420T182128Z
SUMMARY:Gemert 1 - Ganzeveer 2
DESCRIPTION:Baan 4\, Wedstrijdnummer 3018\, Afdeling 2e klasse I
DTSTART:20191023T200000
DTEND:20191023T230000
LOCATION:City Resort Helmond
ATTACH;FMTTYPE=text/plain:https://hbb.rivio.dev/senioren/2019/wedstrijd/258
 61
END:VEVENT
BEGIN:VEVENT
UID:https://hbb.rivio.dev/senioren/2019/wedstrijd/25884
DTSTAMP:20260420T182128Z
SUMMARY:Mierlo 6 - Gemert 1
DESCRIPTION:Baan 12\, Wedstrijdnummer 113\, Afdeling 2e klasse I
DTSTART:20191030T200000
DTEND:20191030T230000
LOCATION:City Resort Helmond
ATTACH;FMTTYPE=text/plain:https://hbb.rivio.dev/senioren/2019/wedstrijd/258
 84
END:VEVENT
BEGIN:VEVENT
UID:https://hbb.rivio.dev/senioren/2019/wedstrijd/25915
DTSTAMP:20260420T182128Z
SUMMARY:Gemert 1 - Someren 2
DESCRIPTION:Baan 13\, Wedstrijdnummer 117\, Afdeling 2e klasse I
DTSTART:20191107T200000
DTEND:20191107T230000
LOCATION:City Resort Helmond
ATTACH;FMTTYPE=text/plain:https://hbb.rivio.dev/senioren/2019/wedstrijd/259
 15
END:VEVENT
BEGIN:VEVENT
UID:https://hbb.rivio.dev/senioren/2019/wedstrijd/25975
DTSTAMP:20260420T182128Z
SUMMARY:Geldrop 1 - Gemert 1
DESCRIPTION:Baan 13\, Wedstrijdnummer 124\, Afdeling 2e klasse I
DTSTART:20191128T200000
DTEND:20191128T230000
LOCATION:City Resort Helmond
ATTACH;FMTTYPE=text/plain:https://hbb.rivio.dev/senioren/2019/wedstrijd/259
 75
END:VEVENT
BEGIN:VEVENT
UID:https://hbb.rivio.dev/senioren/2019/wedstrijd/25992
DTSTAMP:20260420T182128Z
SUMMARY:Mixed 5 - Gemert 1
DESCRIPTION:Baan 5\, Wedstrijdnummer 125\, Afdeling 2e klasse I
DTSTART:20191211T200000
DTEND:20191211T230000
LOCATION:City Resort Helmond
ATTACH;FMTTYPE=text/plain:https://hbb.rivio.dev/senioren/2019/wedstrijd/259
 92
END:VEVENT
BEGIN:VEVENT
UID:https://hbb.rivio.dev/senioren/2019/wedstrijd/26063
DTSTAMP:20260420T182128Z
SUMMARY:RBC 2 - Gemert 1
DESCRIPTION:Baan 2\, Wedstrijdnummer 1103\, Afdeling 2e klasse I
DTSTART:20200123T200000
DTEND:20200123T230000
LOCATION:City Resort Helmond
ATTACH;FMTTYPE=text/plain:https://hbb.rivio.dev/senioren/2019/wedstrijd/260
 63
END:VEVENT
BEGIN:VEVENT
UID:https://hbb.rivio.dev/senioren/2019/wedstrijd/26095
DTSTAMP:20260420T182128Z
SUMMARY:Gemert 1 - Dommelen 1
DESCRIPTION:Baan 4\, Wedstrijdnummer 1106\, Afdeling 2e klasse I
DTSTART:20200205T200000
DTEND:20200205T230000
LOCATION:City Resort Helmond
ATTACH;FMTTYPE=text/plain:https://hbb.rivio.dev/senioren/2019/wedstrijd/260
 95
END:VEVENT
BEGIN:VEVENT
UID:https://hbb.rivio.dev/senioren/2019/wedstrijd/26120
DTSTAMP:20260420T182128Z
SUMMARY:Ganzeveer 3 - Gemert 1
DESCRIPTION:Baan 14\, Wedstrijdnummer 1110\, Afdeling 2e klasse I
DTSTART:20200212T200000
DTEND:20200212T230000
LOCATION:City Resort Helmond
ATTACH;FMTTYPE=text/plain:https://hbb.rivio.dev/senioren/2019/wedstrijd/261
 20
END:VEVENT
BEGIN:VEVENT
UID:https://hbb.rivio.dev/senioren/2019/wedstrijd/26158
DTSTAMP:20260420T182128Z
SUMMARY:Gemert 1 - Mierlo 6
DESCRIPTION:Baan 14\, Wedstrijdnummer 1113\, Afdeling 2e klasse I
DTSTART:20200304T200000
DTEND:20200304T230000
LOCATION:City Resort Helmond
ATTACH;FMTTYPE=text/plain:https://hbb.rivio.dev/senioren/2019/wedstrijd/261
 58
END:VEVENT
BEGIN:VEVENT
UID:https://hbb.rivio.dev/senioren/2019/wedstrijd/26188
DTSTAMP:20260420T182128Z
SUMMARY:Someren 2 - Gemert 1
DESCRIPTION:Baan 11\, Wedstrijdnummer 1117\, Afdeling 2e klasse I
DTSTART:20200312T200000
DTEND:20200312T230000
LOCATION:City Resort Helmond
ATTACH;FMTTYPE=text/plain:https://hbb.rivio.dev/senioren/2019/wedstrijd/261
 88
END:VEVENT
BEGIN:VEVENT
UID:https://hbb.rivio.dev/senioren/2019/wedstrijd/26218
DTSTAMP:20260420T182128Z
SUMMARY:Gemert 1 - Geldrop 1
DESCRIPTION:Baan 13\, Wedstrijdnummer 1124\, Afdeling 2e klasse I
DTSTART:20200326T200000
DTEND:20200326T230000
LOCATION:City Resort Helmond
ATTACH;FMTTYPE=text/plain:https://hbb.rivio.dev/senioren/2019/wedstrijd/262
 18
END:VEVENT
BEGIN:VEVENT
UID:https://hbb.rivio.dev/senioren/2019/wedstrijd/26249
DTSTAMP:20260420T182128Z
SUMMARY:Gemert 1 - Mixed 5
DESCRIPTION:Baan 1\, Wedstrijdnummer 1125\, Afdeling 2e klasse I
DTSTART:20200513T200000
DTEND:20200513T230000
LOCATION:City Resort Helmond
ATTACH;FMTTYPE=text/plain:https://hbb.rivio.dev/senioren/2019/wedstrijd/262
 49
END:VEVENT
BEGIN:VTIMEZONE
TZID:Europe/Amsterdam
BEGIN:STANDARD
DTSTART:20190101T000000
TZNAME:CET
TZOFFSETTO:+0100
TZOFFSETFROM:+0100
END:STANDARD
BEGIN:DAYLIGHT
DTSTART:20190331T030000
TZNAME:CEST
TZOFFSETTO:+0200
TZOFFSETFROM:+0100
END:DAYLIGHT
BEGIN:STANDARD
DTSTART:20191027T020000
TZNAME:CET
TZOFFSETTO:+0100
TZOFFSETFROM:+0200
END:STANDARD
BEGIN:DAYLIGHT
DTSTART:20200329T030000
TZNAME:CEST
TZOFFSETTO:+0200
TZOFFSETFROM:+0100
END:DAYLIGHT
BEGIN:STANDARD
DTSTART:20201025T020000
TZNAME:CET
TZOFFSETTO:+0100
TZOFFSETFROM:+0200
END:STANDARD
END:VTIMEZONE
END:VCALENDAR
