BEGIN:VCALENDAR
PRODID:-//eluceo/ical//2.0/EN
VERSION:2.0
CALSCALE:GREGORIAN
BEGIN:VEVENT
UID:https://hbb.rivio.dev/senioren/2019/wedstrijd/25788
DTSTAMP:20260420T133414Z
SUMMARY:Someren 3 - Dommelen 2
DESCRIPTION:Baan 1\, Wedstrijdnummer 130\, Afdeling 2e klasse II
DTSTART:20190919T200000
DTEND:20190919T230000
LOCATION:City Resort Helmond
ATTACH;FMTTYPE=text/plain:https://hbb.rivio.dev/senioren/2019/wedstrijd/257
 88
END:VEVENT
BEGIN:VEVENT
UID:https://hbb.rivio.dev/senioren/2019/wedstrijd/25801
DTSTAMP:20260420T133414Z
SUMMARY:Ganzeveer 2 - Someren 3
DESCRIPTION:Baan 4\, Wedstrijdnummer 133\, Afdeling 2e klasse II
DTSTART:20190925T200000
DTEND:20190925T230000
LOCATION:City Resort Helmond
ATTACH;FMTTYPE=text/plain:https://hbb.rivio.dev/senioren/2019/wedstrijd/258
 01
END:VEVENT
BEGIN:VEVENT
UID:https://hbb.rivio.dev/senioren/2019/wedstrijd/25851
DTSTAMP:20260420T133414Z
SUMMARY:Someren 3 - Mierlo 7
DESCRIPTION:Baan 4\, Wedstrijdnummer 137\, Afdeling 2e klasse II
DTSTART:20191010T200000
DTEND:20191010T230000
LOCATION:City Resort Helmond
ATTACH;FMTTYPE=text/plain:https://hbb.rivio.dev/senioren/2019/wedstrijd/258
 51
END:VEVENT
BEGIN:VEVENT
UID:https://hbb.rivio.dev/senioren/2019/wedstrijd/25866
DTSTAMP:20260420T133414Z
SUMMARY:Someren 3 - Someren 2
DESCRIPTION:Baan 14\, Wedstrijdnummer 3023\, Afdeling 2e klasse II
DTSTART:20191023T200000
DTEND:20191023T230000
LOCATION:City Resort Helmond
ATTACH;FMTTYPE=text/plain:https://hbb.rivio.dev/senioren/2019/wedstrijd/258
 66
END:VEVENT
BEGIN:VEVENT
UID:https://hbb.rivio.dev/senioren/2019/wedstrijd/25894
DTSTAMP:20260420T133414Z
SUMMARY:BCV '73 1 - Someren 3
DESCRIPTION:Baan 12\, Wedstrijdnummer 144\, Afdeling 2e klasse II
DTSTART:20191031T200000
DTEND:20191031T230000
LOCATION:City Resort Helmond
ATTACH;FMTTYPE=text/plain:https://hbb.rivio.dev/senioren/2019/wedstrijd/258
 94
END:VEVENT
BEGIN:VEVENT
UID:https://hbb.rivio.dev/senioren/2019/wedstrijd/25937
DTSTAMP:20260420T133415Z
SUMMARY:Hanevoet 3 - Someren 3
DESCRIPTION:Baan 15\, Wedstrijdnummer 145\, Afdeling 2e klasse II
DTSTART:20191114T200000
DTEND:20191114T230000
LOCATION:City Resort Helmond
ATTACH;FMTTYPE=text/plain:https://hbb.rivio.dev/senioren/2019/wedstrijd/259
 37
END:VEVENT
BEGIN:VEVENT
UID:https://hbb.rivio.dev/senioren/2019/wedstrijd/25999
DTSTAMP:20260420T133415Z
SUMMARY:Someren 3 - Bakel 3
DESCRIPTION:Baan 2\, Wedstrijdnummer 149\, Afdeling 2e klasse II
DTSTART:20191212T200000
DTEND:20191212T230000
LOCATION:City Resort Helmond
ATTACH;FMTTYPE=text/plain:https://hbb.rivio.dev/senioren/2019/wedstrijd/259
 99
END:VEVENT
BEGIN:VEVENT
UID:https://hbb.rivio.dev/senioren/2019/wedstrijd/26026
DTSTAMP:20260420T133415Z
SUMMARY:Con Brio 6 - Someren 3
DESCRIPTION:Baan 14\, Wedstrijdnummer 154\, Afdeling 2e klasse II
DTSTART:20191219T200000
DTEND:20191219T230000
LOCATION:City Resort Helmond
ATTACH;FMTTYPE=text/plain:https://hbb.rivio.dev/senioren/2019/wedstrijd/260
 26
END:VEVENT
BEGIN:VEVENT
UID:https://hbb.rivio.dev/senioren/2019/wedstrijd/26283
DTSTAMP:20260420T133415Z
SUMMARY:Someren 3 - Geldrop 1
DESCRIPTION:Baan 4\, Wedstrijdnummer 3048\, Afdeling 2e klasse II
DTSTART:20200115T200000
DTEND:20200115T230000
LOCATION:City Resort Helmond
ATTACH;FMTTYPE=text/plain:https://hbb.rivio.dev/senioren/2019/wedstrijd/262
 83
END:VEVENT
BEGIN:VEVENT
UID:https://hbb.rivio.dev/senioren/2019/wedstrijd/26065
DTSTAMP:20260420T133415Z
SUMMARY:Dommelen 2 - Someren 3
DESCRIPTION:Baan 4\, Wedstrijdnummer 1130\, Afdeling 2e klasse II
DTSTART:20200123T200000
DTEND:20200123T230000
LOCATION:City Resort Helmond
ATTACH;FMTTYPE=text/plain:https://hbb.rivio.dev/senioren/2019/wedstrijd/260
 65
END:VEVENT
BEGIN:VEVENT
UID:https://hbb.rivio.dev/senioren/2019/wedstrijd/26102
DTSTAMP:20260420T133415Z
SUMMARY:Someren 3 - Ganzeveer 2
DESCRIPTION:Baan 1\, Wedstrijdnummer 1133\, Afdeling 2e klasse II
DTSTART:20200206T200000
DTEND:20200206T230000
LOCATION:City Resort Helmond
ATTACH;FMTTYPE=text/plain:https://hbb.rivio.dev/senioren/2019/wedstrijd/261
 02
END:VEVENT
BEGIN:VEVENT
UID:https://hbb.rivio.dev/senioren/2019/wedstrijd/26129
DTSTAMP:20260420T133415Z
SUMMARY:Mierlo 7 - Someren 3
DESCRIPTION:Baan 12\, Wedstrijdnummer 1137\, Afdeling 2e klasse II
DTSTART:20200213T200000
DTEND:20200213T230000
LOCATION:City Resort Helmond
ATTACH;FMTTYPE=text/plain:https://hbb.rivio.dev/senioren/2019/wedstrijd/261
 29
END:VEVENT
BEGIN:VEVENT
UID:https://hbb.rivio.dev/senioren/2019/wedstrijd/26167
DTSTAMP:20260420T133415Z
SUMMARY:Someren 3 - BCV '73 1
DESCRIPTION:Baan 12\, Wedstrijdnummer 1144\, Afdeling 2e klasse II
DTSTART:20200305T200000
DTEND:20200305T230000
LOCATION:City Resort Helmond
ATTACH;FMTTYPE=text/plain:https://hbb.rivio.dev/senioren/2019/wedstrijd/261
 67
END:VEVENT
BEGIN:VEVENT
UID:https://hbb.rivio.dev/senioren/2019/wedstrijd/26190
DTSTAMP:20260420T133415Z
SUMMARY:Someren 3 - Hanevoet 3
DESCRIPTION:Baan 13\, Wedstrijdnummer 1145\, Afdeling 2e klasse II
DTSTART:20200312T200000
DTEND:20200312T230000
LOCATION:City Resort Helmond
ATTACH;FMTTYPE=text/plain:https://hbb.rivio.dev/senioren/2019/wedstrijd/261
 90
END:VEVENT
BEGIN:VEVENT
UID:https://hbb.rivio.dev/senioren/2019/wedstrijd/26233
DTSTAMP:20260420T133415Z
SUMMARY:Bakel 3 - Someren 3
DESCRIPTION:Baan 12\, Wedstrijdnummer 1149\, Afdeling 2e klasse II
DTSTART:20200402T200000
DTEND:20200402T230000
LOCATION:City Resort Helmond
ATTACH;FMTTYPE=text/plain:https://hbb.rivio.dev/senioren/2019/wedstrijd/262
 33
END:VEVENT
BEGIN:VEVENT
UID:https://hbb.rivio.dev/senioren/2019/wedstrijd/26264
DTSTAMP:20260420T133415Z
SUMMARY:Someren 3 - Con Brio 6
DESCRIPTION:Baan 5\, Wedstrijdnummer 1154\, Afdeling 2e klasse II
DTSTART:20200514T200000
DTEND:20200514T230000
LOCATION:City Resort Helmond
ATTACH;FMTTYPE=text/plain:https://hbb.rivio.dev/senioren/2019/wedstrijd/262
 64
END:VEVENT
BEGIN:VTIMEZONE
TZID:Europe/Amsterdam
BEGIN:STANDARD
DTSTART:20190101T000000
TZNAME:CET
TZOFFSETTO:+0100
TZOFFSETFROM:+0100
END:STANDARD
BEGIN:DAYLIGHT
DTSTART:20190331T030000
TZNAME:CEST
TZOFFSETTO:+0200
TZOFFSETFROM:+0100
END:DAYLIGHT
BEGIN:STANDARD
DTSTART:20191027T020000
TZNAME:CET
TZOFFSETTO:+0100
TZOFFSETFROM:+0200
END:STANDARD
BEGIN:DAYLIGHT
DTSTART:20200329T030000
TZNAME:CEST
TZOFFSETTO:+0200
TZOFFSETFROM:+0100
END:DAYLIGHT
BEGIN:STANDARD
DTSTART:20201025T020000
TZNAME:CET
TZOFFSETTO:+0100
TZOFFSETFROM:+0200
END:STANDARD
END:VTIMEZONE
END:VCALENDAR
