BEGIN:VCALENDAR
PRODID:-//eluceo/ical//2.0/EN
VERSION:2.0
CALSCALE:GREGORIAN
BEGIN:VEVENT
UID:https://hbb.rivio.dev/senioren/2019/wedstrijd/25774
DTSTAMP:20260420T171137Z
SUMMARY:Someren 1 - BCAB 2
DESCRIPTION:Baan 12\, Wedstrijdnummer 24\, Afdeling Hoofdklasse 
DTSTART:20190912T200000
DTEND:20190912T230000
LOCATION:City Resort Helmond
ATTACH;FMTTYPE=text/plain:https://hbb.rivio.dev/senioren/2019/wedstrijd/257
 74
END:VEVENT
BEGIN:VEVENT
UID:https://hbb.rivio.dev/senioren/2019/wedstrijd/25799
DTSTAMP:20260420T171137Z
SUMMARY:Phoenix 1 - Someren 1
DESCRIPTION:Baan 2\, Wedstrijdnummer 27\, Afdeling Hoofdklasse 
DTSTART:20190925T200000
DTEND:20190925T230000
LOCATION:City Resort Helmond
ATTACH;FMTTYPE=text/plain:https://hbb.rivio.dev/senioren/2019/wedstrijd/257
 99
END:VEVENT
BEGIN:VEVENT
UID:https://hbb.rivio.dev/senioren/2019/wedstrijd/25850
DTSTAMP:20260420T171137Z
SUMMARY:Someren 1 - Mierlo 3
DESCRIPTION:Baan 3\, Wedstrijdnummer 31\, Afdeling Hoofdklasse 
DTSTART:20191010T200000
DTEND:20191010T230000
LOCATION:City Resort Helmond
ATTACH;FMTTYPE=text/plain:https://hbb.rivio.dev/senioren/2019/wedstrijd/258
 50
END:VEVENT
BEGIN:VEVENT
UID:https://hbb.rivio.dev/senioren/2019/wedstrijd/25890
DTSTAMP:20260420T171137Z
SUMMARY:Hanevoet 1 - Someren 1
DESCRIPTION:Baan 3\, Wedstrijdnummer 34\, Afdeling Hoofdklasse 
DTSTART:20191031T200000
DTEND:20191031T230000
LOCATION:City Resort Helmond
ATTACH;FMTTYPE=text/plain:https://hbb.rivio.dev/senioren/2019/wedstrijd/258
 90
END:VEVENT
BEGIN:VEVENT
UID:https://hbb.rivio.dev/senioren/2019/wedstrijd/25935
DTSTAMP:20260420T171137Z
SUMMARY:Someren 1 - Smashing Bruang 1
DESCRIPTION:Baan 13\, Wedstrijdnummer 38\, Afdeling Hoofdklasse 
DTSTART:20191114T200000
DTEND:20191114T230000
LOCATION:City Resort Helmond
ATTACH;FMTTYPE=text/plain:https://hbb.rivio.dev/senioren/2019/wedstrijd/259
 35
END:VEVENT
BEGIN:VEVENT
UID:https://hbb.rivio.dev/senioren/2019/wedstrijd/25998
DTSTAMP:20260420T171137Z
SUMMARY:Con Brio 3 - Someren 1
DESCRIPTION:Baan 1\, Wedstrijdnummer 45\, Afdeling Hoofdklasse 
DTSTART:20191212T200000
DTEND:20191212T230000
LOCATION:City Resort Helmond
ATTACH;FMTTYPE=text/plain:https://hbb.rivio.dev/senioren/2019/wedstrijd/259
 98
END:VEVENT
BEGIN:VEVENT
UID:https://hbb.rivio.dev/senioren/2019/wedstrijd/26008
DTSTAMP:20260420T171137Z
SUMMARY:Mixed 1 - Someren 1
DESCRIPTION:Baan 1\, Wedstrijdnummer 46\, Afdeling Hoofdklasse 
DTSTART:20191218T200000
DTEND:20191218T230000
LOCATION:City Resort Helmond
ATTACH;FMTTYPE=text/plain:https://hbb.rivio.dev/senioren/2019/wedstrijd/260
 08
END:VEVENT
BEGIN:VEVENT
UID:https://hbb.rivio.dev/senioren/2019/wedstrijd/26030
DTSTAMP:20260420T171137Z
SUMMARY:Con Brio 3 - Someren 1
DESCRIPTION:Baan 3\, Wedstrijdnummer 3005\, Afdeling Hoofdklasse 
DTSTART:20200108T200000
DTEND:20200108T230000
LOCATION:City Resort Helmond
ATTACH;FMTTYPE=text/plain:https://hbb.rivio.dev/senioren/2019/wedstrijd/260
 30
END:VEVENT
BEGIN:VEVENT
UID:https://hbb.rivio.dev/senioren/2019/wedstrijd/26071
DTSTAMP:20260420T171137Z
SUMMARY:BCAB 2 - Someren 1
DESCRIPTION:Baan 15\, Wedstrijdnummer 1024\, Afdeling Hoofdklasse 
DTSTART:20200123T200000
DTEND:20200123T230000
LOCATION:City Resort Helmond
ATTACH;FMTTYPE=text/plain:https://hbb.rivio.dev/senioren/2019/wedstrijd/260
 71
END:VEVENT
BEGIN:VEVENT
UID:https://hbb.rivio.dev/senioren/2019/wedstrijd/26090
DTSTAMP:20260420T171137Z
SUMMARY:Someren 1 - Phoenix 1
DESCRIPTION:Baan 14\, Wedstrijdnummer 1027\, Afdeling Hoofdklasse 
DTSTART:20200130T200000
DTEND:20200130T230000
LOCATION:City Resort Helmond
ATTACH;FMTTYPE=text/plain:https://hbb.rivio.dev/senioren/2019/wedstrijd/260
 90
END:VEVENT
BEGIN:VEVENT
UID:https://hbb.rivio.dev/senioren/2019/wedstrijd/26128
DTSTAMP:20260420T171137Z
SUMMARY:Mierlo 3 - Someren 1
DESCRIPTION:Baan 11\, Wedstrijdnummer 1031\, Afdeling Hoofdklasse 
DTSTART:20200213T200000
DTEND:20200213T230000
LOCATION:City Resort Helmond
ATTACH;FMTTYPE=text/plain:https://hbb.rivio.dev/senioren/2019/wedstrijd/261
 28
END:VEVENT
BEGIN:VEVENT
UID:https://hbb.rivio.dev/senioren/2019/wedstrijd/26163
DTSTAMP:20260420T171137Z
SUMMARY:Someren 1 - Hanevoet 1
DESCRIPTION:Baan 4\, Wedstrijdnummer 1034\, Afdeling Hoofdklasse 
DTSTART:20200305T200000
DTEND:20200305T230000
LOCATION:City Resort Helmond
ATTACH;FMTTYPE=text/plain:https://hbb.rivio.dev/senioren/2019/wedstrijd/261
 63
END:VEVENT
BEGIN:VEVENT
UID:https://hbb.rivio.dev/senioren/2019/wedstrijd/26198
DTSTAMP:20260420T171137Z
SUMMARY:Smashing Bruang 1 - Someren 1
DESCRIPTION:Baan 1\, Wedstrijdnummer 1038\, Afdeling Hoofdklasse 
DTSTART:20200319T200000
DTEND:20200319T230000
LOCATION:City Resort Helmond
ATTACH;FMTTYPE=text/plain:https://hbb.rivio.dev/senioren/2019/wedstrijd/261
 98
END:VEVENT
BEGIN:VEVENT
UID:https://hbb.rivio.dev/senioren/2019/wedstrijd/26232
DTSTAMP:20260420T171137Z
SUMMARY:Someren 1 - Con Brio 3
DESCRIPTION:Baan 11\, Wedstrijdnummer 1045\, Afdeling Hoofdklasse 
DTSTART:20200402T200000
DTEND:20200402T230000
LOCATION:City Resort Helmond
ATTACH;FMTTYPE=text/plain:https://hbb.rivio.dev/senioren/2019/wedstrijd/262
 32
END:VEVENT
BEGIN:VEVENT
UID:https://hbb.rivio.dev/senioren/2019/wedstrijd/26262
DTSTAMP:20260420T171137Z
SUMMARY:Someren 1 - Mixed 1
DESCRIPTION:Baan 3\, Wedstrijdnummer 1046\, Afdeling Hoofdklasse 
DTSTART:20200514T200000
DTEND:20200514T230000
LOCATION:City Resort Helmond
ATTACH;FMTTYPE=text/plain:https://hbb.rivio.dev/senioren/2019/wedstrijd/262
 62
END:VEVENT
BEGIN:VTIMEZONE
TZID:Europe/Amsterdam
BEGIN:STANDARD
DTSTART:20190101T000000
TZNAME:CET
TZOFFSETTO:+0100
TZOFFSETFROM:+0100
END:STANDARD
BEGIN:DAYLIGHT
DTSTART:20190331T030000
TZNAME:CEST
TZOFFSETTO:+0200
TZOFFSETFROM:+0100
END:DAYLIGHT
BEGIN:STANDARD
DTSTART:20191027T020000
TZNAME:CET
TZOFFSETTO:+0100
TZOFFSETFROM:+0200
END:STANDARD
BEGIN:DAYLIGHT
DTSTART:20200329T030000
TZNAME:CEST
TZOFFSETTO:+0200
TZOFFSETFROM:+0100
END:DAYLIGHT
BEGIN:STANDARD
DTSTART:20201025T020000
TZNAME:CET
TZOFFSETTO:+0100
TZOFFSETFROM:+0200
END:STANDARD
END:VTIMEZONE
END:VCALENDAR
