BEGIN:VCALENDAR
PRODID:-//eluceo/ical//2.0/EN
VERSION:2.0
CALSCALE:GREGORIAN
BEGIN:VEVENT
UID:https://hbb.rivio.dev/senioren/2019/wedstrijd/25790
DTSTAMP:20260420T181709Z
SUMMARY:Hanevoet 2 - Bakel 2
DESCRIPTION:Baan 3\, Wedstrijdnummer 81\, Afdeling 1e klasse 
DTSTART:20190919T200000
DTEND:20190919T230000
LOCATION:City Resort Helmond
ATTACH;FMTTYPE=text/plain:https://hbb.rivio.dev/senioren/2019/wedstrijd/257
 90
END:VEVENT
BEGIN:VEVENT
UID:https://hbb.rivio.dev/senioren/2019/wedstrijd/25829
DTSTAMP:20260420T181709Z
SUMMARY:Bakel 2 - BCAB 3
DESCRIPTION:Baan 2\, Wedstrijdnummer 84\, Afdeling 1e klasse 
DTSTART:20191003T200000
DTEND:20191003T230000
LOCATION:City Resort Helmond
ATTACH;FMTTYPE=text/plain:https://hbb.rivio.dev/senioren/2019/wedstrijd/258
 29
END:VEVENT
BEGIN:VEVENT
UID:https://hbb.rivio.dev/senioren/2019/wedstrijd/25857
DTSTAMP:20260420T181709Z
SUMMARY:BC '85 1 - Bakel 2
DESCRIPTION:Baan 15\, Wedstrijdnummer 88\, Afdeling 1e klasse 
DTSTART:20191010T200000
DTEND:20191010T230000
LOCATION:City Resort Helmond
ATTACH;FMTTYPE=text/plain:https://hbb.rivio.dev/senioren/2019/wedstrijd/258
 57
END:VEVENT
BEGIN:VEVENT
UID:https://hbb.rivio.dev/senioren/2019/wedstrijd/25910
DTSTAMP:20260420T181709Z
SUMMARY:Bakel 2 - Smashing Bruang 2
DESCRIPTION:Baan 3\, Wedstrijdnummer 91\, Afdeling 1e klasse 
DTSTART:20191107T200000
DTEND:20191107T230000
LOCATION:City Resort Helmond
ATTACH;FMTTYPE=text/plain:https://hbb.rivio.dev/senioren/2019/wedstrijd/259
 10
END:VEVENT
BEGIN:VEVENT
UID:https://hbb.rivio.dev/senioren/2019/wedstrijd/26003
DTSTAMP:20260420T181709Z
SUMMARY:Mixed 4 - Bakel 2
DESCRIPTION:Baan 11\, Wedstrijdnummer 97\, Afdeling 1e klasse 
DTSTART:20191212T200000
DTEND:20191212T230000
LOCATION:City Resort Helmond
ATTACH;FMTTYPE=text/plain:https://hbb.rivio.dev/senioren/2019/wedstrijd/260
 03
END:VEVENT
BEGIN:VEVENT
UID:https://hbb.rivio.dev/senioren/2019/wedstrijd/26036
DTSTAMP:20260420T181709Z
SUMMARY:Bakel 2 - Never Down 1
DESCRIPTION:Baan 3\, Wedstrijdnummer 100\, Afdeling 1e klasse 
DTSTART:20200109T200000
DTEND:20200109T230000
LOCATION:City Resort Helmond
ATTACH;FMTTYPE=text/plain:https://hbb.rivio.dev/senioren/2019/wedstrijd/260
 36
END:VEVENT
BEGIN:VEVENT
UID:https://hbb.rivio.dev/senioren/2019/wedstrijd/26056
DTSTAMP:20260420T181709Z
SUMMARY:Bakel 2 - Hanevoet 2
DESCRIPTION:Baan 12\, Wedstrijdnummer 1081\, Afdeling 1e klasse 
DTSTART:20200116T200000
DTEND:20200116T230000
LOCATION:City Resort Helmond
ATTACH;FMTTYPE=text/plain:https://hbb.rivio.dev/senioren/2019/wedstrijd/260
 56
END:VEVENT
BEGIN:VEVENT
UID:https://hbb.rivio.dev/senioren/2019/wedstrijd/26280
DTSTAMP:20260420T181709Z
SUMMARY:Bakel 2 - Never Down 1
DESCRIPTION:Baan 1\, Wedstrijdnummer 3013\, Afdeling 1e klasse 
DTSTART:20200129T200000
DTEND:20200129T230000
LOCATION:City Resort Helmond
ATTACH;FMTTYPE=text/plain:https://hbb.rivio.dev/senioren/2019/wedstrijd/262
 80
END:VEVENT
BEGIN:VEVENT
UID:https://hbb.rivio.dev/senioren/2019/wedstrijd/26107
DTSTAMP:20260420T181709Z
SUMMARY:BCAB 3 - Bakel 2
DESCRIPTION:Baan 11\, Wedstrijdnummer 1084\, Afdeling 1e klasse 
DTSTART:20200206T200000
DTEND:20200206T230000
LOCATION:City Resort Helmond
ATTACH;FMTTYPE=text/plain:https://hbb.rivio.dev/senioren/2019/wedstrijd/261
 07
END:VEVENT
BEGIN:VEVENT
UID:https://hbb.rivio.dev/senioren/2019/wedstrijd/26146
DTSTAMP:20260420T181709Z
SUMMARY:Bakel 2 - BC '85 1
DESCRIPTION:Baan 3\, Wedstrijdnummer 1088\, Afdeling 1e klasse 
DTSTART:20200220T200000
DTEND:20200220T230000
LOCATION:City Resort Helmond
ATTACH;FMTTYPE=text/plain:https://hbb.rivio.dev/senioren/2019/wedstrijd/261
 46
END:VEVENT
BEGIN:VEVENT
UID:https://hbb.rivio.dev/senioren/2019/wedstrijd/26170
DTSTAMP:20260420T181709Z
SUMMARY:Smashing Bruang 2 - Bakel 2
DESCRIPTION:Baan 15\, Wedstrijdnummer 1091\, Afdeling 1e klasse 
DTSTART:20200305T200000
DTEND:20200305T230000
LOCATION:City Resort Helmond
ATTACH;FMTTYPE=text/plain:https://hbb.rivio.dev/senioren/2019/wedstrijd/261
 70
END:VEVENT
BEGIN:VEVENT
UID:https://hbb.rivio.dev/senioren/2019/wedstrijd/26349
DTSTAMP:20260420T181709Z
SUMMARY:BC '85 1 - Bakel 2
DESCRIPTION:Baan 5\, Wedstrijdnummer 3046\, Afdeling 1e klasse 
DTSTART:20200326T200000
DTEND:20200326T230000
LOCATION:City Resort Helmond
ATTACH;FMTTYPE=text/plain:https://hbb.rivio.dev/senioren/2019/wedstrijd/263
 49
END:VEVENT
BEGIN:VEVENT
UID:https://hbb.rivio.dev/senioren/2019/wedstrijd/26236
DTSTAMP:20260420T181709Z
SUMMARY:Bakel 2 - Mixed 4
DESCRIPTION:Baan 15\, Wedstrijdnummer 1097\, Afdeling 1e klasse 
DTSTART:20200402T200000
DTEND:20200402T230000
LOCATION:City Resort Helmond
ATTACH;FMTTYPE=text/plain:https://hbb.rivio.dev/senioren/2019/wedstrijd/262
 36
END:VEVENT
BEGIN:VEVENT
UID:https://hbb.rivio.dev/senioren/2019/wedstrijd/26267
DTSTAMP:20260420T181709Z
SUMMARY:Never Down 1 - Bakel 2
DESCRIPTION:Baan 12\, Wedstrijdnummer 1100\, Afdeling 1e klasse 
DTSTART:20200514T200000
DTEND:20200514T230000
LOCATION:City Resort Helmond
ATTACH;FMTTYPE=text/plain:https://hbb.rivio.dev/senioren/2019/wedstrijd/262
 67
END:VEVENT
BEGIN:VTIMEZONE
TZID:Europe/Amsterdam
BEGIN:STANDARD
DTSTART:20190101T000000
TZNAME:CET
TZOFFSETTO:+0100
TZOFFSETFROM:+0100
END:STANDARD
BEGIN:DAYLIGHT
DTSTART:20190331T030000
TZNAME:CEST
TZOFFSETTO:+0200
TZOFFSETFROM:+0100
END:DAYLIGHT
BEGIN:STANDARD
DTSTART:20191027T020000
TZNAME:CET
TZOFFSETTO:+0100
TZOFFSETFROM:+0200
END:STANDARD
BEGIN:DAYLIGHT
DTSTART:20200329T030000
TZNAME:CEST
TZOFFSETTO:+0200
TZOFFSETFROM:+0100
END:DAYLIGHT
BEGIN:STANDARD
DTSTART:20201025T020000
TZNAME:CET
TZOFFSETTO:+0100
TZOFFSETFROM:+0200
END:STANDARD
END:VTIMEZONE
END:VCALENDAR
