BEGIN:VCALENDAR
PRODID:-//eluceo/ical//2.0/EN
VERSION:2.0
CALSCALE:GREGORIAN
BEGIN:VEVENT
UID:https://hbb.rivio.dev/senioren/2019/wedstrijd/25761
DTSTAMP:20260420T164605Z
SUMMARY:Con Brio 7 - Ganzeveer 4
DESCRIPTION:Baan 4\, Wedstrijdnummer 199\, Afdeling 4e klasse I
DTSTART:20190911T200000
DTEND:20190911T230000
LOCATION:City Resort Helmond
ATTACH;FMTTYPE=text/plain:https://hbb.rivio.dev/senioren/2019/wedstrijd/257
 61
END:VEVENT
BEGIN:VEVENT
UID:https://hbb.rivio.dev/senioren/2019/wedstrijd/25786
DTSTAMP:20260420T164605Z
SUMMARY:Ganzeveer 4 - Mixed 7
DESCRIPTION:Baan 14\, Wedstrijdnummer 202\, Afdeling 4e klasse I
DTSTART:20190918T200000
DTEND:20190918T230000
LOCATION:City Resort Helmond
ATTACH;FMTTYPE=text/plain:https://hbb.rivio.dev/senioren/2019/wedstrijd/257
 86
END:VEVENT
BEGIN:VEVENT
UID:https://hbb.rivio.dev/senioren/2019/wedstrijd/25827
DTSTAMP:20260420T164605Z
SUMMARY:Mierlo 11 - Ganzeveer 4
DESCRIPTION:Baan 15\, Wedstrijdnummer 206\, Afdeling 4e klasse I
DTSTART:20191002T200000
DTEND:20191002T230000
LOCATION:City Resort Helmond
ATTACH;FMTTYPE=text/plain:https://hbb.rivio.dev/senioren/2019/wedstrijd/258
 27
END:VEVENT
BEGIN:VEVENT
UID:https://hbb.rivio.dev/senioren/2019/wedstrijd/25886
DTSTAMP:20260420T164605Z
SUMMARY:Ganzeveer 4 - BC '85 2
DESCRIPTION:Baan 14\, Wedstrijdnummer 209\, Afdeling 4e klasse I
DTSTART:20191030T200000
DTEND:20191030T230000
LOCATION:City Resort Helmond
ATTACH;FMTTYPE=text/plain:https://hbb.rivio.dev/senioren/2019/wedstrijd/258
 86
END:VEVENT
BEGIN:VEVENT
UID:https://hbb.rivio.dev/senioren/2019/wedstrijd/25923
DTSTAMP:20260420T164605Z
SUMMARY:Mierlo 10 - Ganzeveer 4
DESCRIPTION:Baan 11\, Wedstrijdnummer 3036\, Afdeling 4e klasse II
DTSTART:20191113T200000
DTEND:20191113T230000
LOCATION:City Resort Helmond
ATTACH;FMTTYPE=text/plain:https://hbb.rivio.dev/senioren/2019/wedstrijd/259
 23
END:VEVENT
BEGIN:VEVENT
UID:https://hbb.rivio.dev/senioren/2019/wedstrijd/25948
DTSTAMP:20260420T164605Z
SUMMARY:Someren 5 - Ganzeveer 4
DESCRIPTION:Baan 1\, Wedstrijdnummer 213\, Afdeling 4e klasse I
DTSTART:20191121T200000
DTEND:20191121T230000
LOCATION:City Resort Helmond
ATTACH;FMTTYPE=text/plain:https://hbb.rivio.dev/senioren/2019/wedstrijd/259
 48
END:VEVENT
BEGIN:VEVENT
UID:https://hbb.rivio.dev/senioren/2019/wedstrijd/25966
DTSTAMP:20260420T164605Z
SUMMARY:Ganzeveer 4 - RBC 3
DESCRIPTION:Baan 14\, Wedstrijdnummer 216\, Afdeling 4e klasse I
DTSTART:20191127T200000
DTEND:20191127T230000
LOCATION:City Resort Helmond
ATTACH;FMTTYPE=text/plain:https://hbb.rivio.dev/senioren/2019/wedstrijd/259
 66
END:VEVENT
BEGIN:VEVENT
UID:https://hbb.rivio.dev/senioren/2019/wedstrijd/26293
DTSTAMP:20260420T164605Z
SUMMARY:BC '85 2 - Ganzeveer 4
DESCRIPTION:Baan 12\, Wedstrijdnummer 3058\, Afdeling 4e klasse I
DTSTART:20200108T200000
DTEND:20200108T230000
LOCATION:City Resort Helmond
ATTACH;FMTTYPE=text/plain:https://hbb.rivio.dev/senioren/2019/wedstrijd/262
 93
END:VEVENT
BEGIN:VEVENT
UID:https://hbb.rivio.dev/senioren/2019/wedstrijd/26047
DTSTAMP:20260420T164605Z
SUMMARY:Ganzeveer 4 - Con Brio 7
DESCRIPTION:Baan 13\, Wedstrijdnummer 1199\, Afdeling 4e klasse I
DTSTART:20200115T200000
DTEND:20200115T230000
LOCATION:City Resort Helmond
ATTACH;FMTTYPE=text/plain:https://hbb.rivio.dev/senioren/2019/wedstrijd/260
 47
END:VEVENT
BEGIN:VEVENT
UID:https://hbb.rivio.dev/senioren/2019/wedstrijd/26096
DTSTAMP:20260420T164605Z
SUMMARY:Mixed 7 - Ganzeveer 4
DESCRIPTION:Baan 5\, Wedstrijdnummer 1202\, Afdeling 4e klasse I
DTSTART:20200205T200000
DTEND:20200205T230000
LOCATION:City Resort Helmond
ATTACH;FMTTYPE=text/plain:https://hbb.rivio.dev/senioren/2019/wedstrijd/260
 96
END:VEVENT
BEGIN:VEVENT
UID:https://hbb.rivio.dev/senioren/2019/wedstrijd/26134
DTSTAMP:20260420T164605Z
SUMMARY:Ganzeveer 4 - Mierlo 11
DESCRIPTION:Baan 2\, Wedstrijdnummer 1206\, Afdeling 4e klasse I
DTSTART:20200219T200000
DTEND:20200219T230000
LOCATION:City Resort Helmond
ATTACH;FMTTYPE=text/plain:https://hbb.rivio.dev/senioren/2019/wedstrijd/261
 34
END:VEVENT
BEGIN:VEVENT
UID:https://hbb.rivio.dev/senioren/2019/wedstrijd/26157
DTSTAMP:20260420T164605Z
SUMMARY:BC '85 2 - Ganzeveer 4
DESCRIPTION:Baan 13\, Wedstrijdnummer 1209\, Afdeling 4e klasse I
DTSTART:20200304T200000
DTEND:20200304T230000
LOCATION:City Resort Helmond
ATTACH;FMTTYPE=text/plain:https://hbb.rivio.dev/senioren/2019/wedstrijd/261
 57
END:VEVENT
BEGIN:VEVENT
UID:https://hbb.rivio.dev/senioren/2019/wedstrijd/26195
DTSTAMP:20260420T164605Z
SUMMARY:Ganzeveer 4 - Someren 5
DESCRIPTION:Baan 13\, Wedstrijdnummer 1213\, Afdeling 4e klasse I
DTSTART:20200318T200000
DTEND:20200318T230000
LOCATION:City Resort Helmond
ATTACH;FMTTYPE=text/plain:https://hbb.rivio.dev/senioren/2019/wedstrijd/261
 95
END:VEVENT
BEGIN:VEVENT
UID:https://hbb.rivio.dev/senioren/2019/wedstrijd/26222
DTSTAMP:20260420T164605Z
SUMMARY:RBC 3 - Ganzeveer 4
DESCRIPTION:Baan 2\, Wedstrijdnummer 1216\, Afdeling 4e klasse I
DTSTART:20200401T200000
DTEND:20200401T230000
LOCATION:City Resort Helmond
ATTACH;FMTTYPE=text/plain:https://hbb.rivio.dev/senioren/2019/wedstrijd/262
 22
END:VEVENT
BEGIN:VTIMEZONE
TZID:Europe/Amsterdam
BEGIN:STANDARD
DTSTART:20190101T000000
TZNAME:CET
TZOFFSETTO:+0100
TZOFFSETFROM:+0100
END:STANDARD
BEGIN:DAYLIGHT
DTSTART:20190331T030000
TZNAME:CEST
TZOFFSETTO:+0200
TZOFFSETFROM:+0100
END:DAYLIGHT
BEGIN:STANDARD
DTSTART:20191027T020000
TZNAME:CET
TZOFFSETTO:+0100
TZOFFSETFROM:+0200
END:STANDARD
BEGIN:DAYLIGHT
DTSTART:20200329T030000
TZNAME:CEST
TZOFFSETTO:+0200
TZOFFSETFROM:+0100
END:DAYLIGHT
BEGIN:STANDARD
DTSTART:20201025T020000
TZNAME:CET
TZOFFSETTO:+0100
TZOFFSETFROM:+0200
END:STANDARD
END:VTIMEZONE
END:VCALENDAR
