BEGIN:VCALENDAR
PRODID:-//eluceo/ical//2.0/EN
VERSION:2.0
CALSCALE:GREGORIAN
BEGIN:VEVENT
UID:https://hbb.rivio.dev/senioren/2019/wedstrijd/25760
DTSTAMP:20260420T164508Z
SUMMARY:Mierlo 6 - Ganzeveer 3
DESCRIPTION:Baan 3\, Wedstrijdnummer 101\, Afdeling 2e klasse I
DTSTART:20190911T200000
DTEND:20190911T230000
LOCATION:City Resort Helmond
ATTACH;FMTTYPE=text/plain:https://hbb.rivio.dev/senioren/2019/wedstrijd/257
 60
END:VEVENT
BEGIN:VEVENT
UID:https://hbb.rivio.dev/senioren/2019/wedstrijd/25784
DTSTAMP:20260420T164508Z
SUMMARY:Ganzeveer 3 - Someren 2
DESCRIPTION:Baan 12\, Wedstrijdnummer 105\, Afdeling 2e klasse I
DTSTART:20190918T200000
DTEND:20190918T230000
LOCATION:City Resort Helmond
ATTACH;FMTTYPE=text/plain:https://hbb.rivio.dev/senioren/2019/wedstrijd/257
 84
END:VEVENT
BEGIN:VEVENT
UID:https://hbb.rivio.dev/senioren/2019/wedstrijd/25824
DTSTAMP:20260420T164508Z
SUMMARY:Gemert 1 - Ganzeveer 3
DESCRIPTION:Baan 12\, Wedstrijdnummer 110\, Afdeling 2e klasse I
DTSTART:20191002T200000
DTEND:20191002T230000
LOCATION:City Resort Helmond
ATTACH;FMTTYPE=text/plain:https://hbb.rivio.dev/senioren/2019/wedstrijd/258
 24
END:VEVENT
BEGIN:VEVENT
UID:https://hbb.rivio.dev/senioren/2019/wedstrijd/25862
DTSTAMP:20260420T164508Z
SUMMARY:Con Brio 6 - Ganzeveer 3
DESCRIPTION:Baan 5\, Wedstrijdnummer 3019\, Afdeling 2e klasse II
DTSTART:20191023T200000
DTEND:20191023T230000
LOCATION:City Resort Helmond
ATTACH;FMTTYPE=text/plain:https://hbb.rivio.dev/senioren/2019/wedstrijd/258
 62
END:VEVENT
BEGIN:VEVENT
UID:https://hbb.rivio.dev/senioren/2019/wedstrijd/25885
DTSTAMP:20260420T164508Z
SUMMARY:Ganzeveer 3 - Mixed 5
DESCRIPTION:Baan 13\, Wedstrijdnummer 114\, Afdeling 2e klasse I
DTSTART:20191030T200000
DTEND:20191030T230000
LOCATION:City Resort Helmond
ATTACH;FMTTYPE=text/plain:https://hbb.rivio.dev/senioren/2019/wedstrijd/258
 85
END:VEVENT
BEGIN:VEVENT
UID:https://hbb.rivio.dev/senioren/2019/wedstrijd/25916
DTSTAMP:20260420T164508Z
SUMMARY:RBC 2 - Ganzeveer 3
DESCRIPTION:Baan 14\, Wedstrijdnummer 119\, Afdeling 2e klasse I
DTSTART:20191107T200000
DTEND:20191107T230000
LOCATION:City Resort Helmond
ATTACH;FMTTYPE=text/plain:https://hbb.rivio.dev/senioren/2019/wedstrijd/259
 16
END:VEVENT
BEGIN:VEVENT
UID:https://hbb.rivio.dev/senioren/2019/wedstrijd/25964
DTSTAMP:20260420T164508Z
SUMMARY:Ganzeveer 3 - Dommelen 1
DESCRIPTION:Baan 12\, Wedstrijdnummer 123\, Afdeling 2e klasse I
DTSTART:20191127T200000
DTEND:20191127T230000
LOCATION:City Resort Helmond
ATTACH;FMTTYPE=text/plain:https://hbb.rivio.dev/senioren/2019/wedstrijd/259
 64
END:VEVENT
BEGIN:VEVENT
UID:https://hbb.rivio.dev/senioren/2019/wedstrijd/25994
DTSTAMP:20260420T164508Z
SUMMARY:Geldrop 1 - Ganzeveer 3
DESCRIPTION:Baan 12\, Wedstrijdnummer 128\, Afdeling 2e klasse I
DTSTART:20191211T200000
DTEND:20191211T230000
LOCATION:City Resort Helmond
ATTACH;FMTTYPE=text/plain:https://hbb.rivio.dev/senioren/2019/wedstrijd/259
 94
END:VEVENT
BEGIN:VEVENT
UID:https://hbb.rivio.dev/senioren/2019/wedstrijd/26060
DTSTAMP:20260420T164508Z
SUMMARY:Ganzeveer 3 - Mierlo 6
DESCRIPTION:Baan 14\, Wedstrijdnummer 1101\, Afdeling 2e klasse I
DTSTART:20200122T200000
DTEND:20200122T230000
LOCATION:City Resort Helmond
ATTACH;FMTTYPE=text/plain:https://hbb.rivio.dev/senioren/2019/wedstrijd/260
 60
END:VEVENT
BEGIN:VEVENT
UID:https://hbb.rivio.dev/senioren/2019/wedstrijd/26087
DTSTAMP:20260420T164508Z
SUMMARY:Someren 2 - Ganzeveer 3
DESCRIPTION:Baan 11\, Wedstrijdnummer 1105\, Afdeling 2e klasse I
DTSTART:20200130T200000
DTEND:20200130T230000
LOCATION:City Resort Helmond
ATTACH;FMTTYPE=text/plain:https://hbb.rivio.dev/senioren/2019/wedstrijd/260
 87
END:VEVENT
BEGIN:VEVENT
UID:https://hbb.rivio.dev/senioren/2019/wedstrijd/26120
DTSTAMP:20260420T164508Z
SUMMARY:Ganzeveer 3 - Gemert 1
DESCRIPTION:Baan 14\, Wedstrijdnummer 1110\, Afdeling 2e klasse I
DTSTART:20200212T200000
DTEND:20200212T230000
LOCATION:City Resort Helmond
ATTACH;FMTTYPE=text/plain:https://hbb.rivio.dev/senioren/2019/wedstrijd/261
 20
END:VEVENT
BEGIN:VEVENT
UID:https://hbb.rivio.dev/senioren/2019/wedstrijd/26159
DTSTAMP:20260420T164508Z
SUMMARY:Mixed 5 - Ganzeveer 3
DESCRIPTION:Baan 15\, Wedstrijdnummer 1114\, Afdeling 2e klasse I
DTSTART:20200304T200000
DTEND:20200304T230000
LOCATION:City Resort Helmond
ATTACH;FMTTYPE=text/plain:https://hbb.rivio.dev/senioren/2019/wedstrijd/261
 59
END:VEVENT
BEGIN:VEVENT
UID:https://hbb.rivio.dev/senioren/2019/wedstrijd/26181
DTSTAMP:20260420T164508Z
SUMMARY:Ganzeveer 3 - RBC 2
DESCRIPTION:Baan 15\, Wedstrijdnummer 1119\, Afdeling 2e klasse I
DTSTART:20200311T200000
DTEND:20200311T230000
LOCATION:City Resort Helmond
ATTACH;FMTTYPE=text/plain:https://hbb.rivio.dev/senioren/2019/wedstrijd/261
 81
END:VEVENT
BEGIN:VEVENT
UID:https://hbb.rivio.dev/senioren/2019/wedstrijd/26221
DTSTAMP:20260420T164508Z
SUMMARY:Dommelen 1 - Ganzeveer 3
DESCRIPTION:Baan 1\, Wedstrijdnummer 1123\, Afdeling 2e klasse I
DTSTART:20200401T200000
DTEND:20200401T230000
LOCATION:City Resort Helmond
ATTACH;FMTTYPE=text/plain:https://hbb.rivio.dev/senioren/2019/wedstrijd/262
 21
END:VEVENT
BEGIN:VEVENT
UID:https://hbb.rivio.dev/senioren/2019/wedstrijd/26251
DTSTAMP:20260420T164508Z
SUMMARY:Ganzeveer 3 - Geldrop 1
DESCRIPTION:Baan 3\, Wedstrijdnummer 1128\, Afdeling 2e klasse I
DTSTART:20200513T200000
DTEND:20200513T230000
LOCATION:City Resort Helmond
ATTACH;FMTTYPE=text/plain:https://hbb.rivio.dev/senioren/2019/wedstrijd/262
 51
END:VEVENT
BEGIN:VTIMEZONE
TZID:Europe/Amsterdam
BEGIN:STANDARD
DTSTART:20190101T000000
TZNAME:CET
TZOFFSETTO:+0100
TZOFFSETFROM:+0100
END:STANDARD
BEGIN:DAYLIGHT
DTSTART:20190331T030000
TZNAME:CEST
TZOFFSETTO:+0200
TZOFFSETFROM:+0100
END:DAYLIGHT
BEGIN:STANDARD
DTSTART:20191027T020000
TZNAME:CET
TZOFFSETTO:+0100
TZOFFSETFROM:+0200
END:STANDARD
BEGIN:DAYLIGHT
DTSTART:20200329T030000
TZNAME:CEST
TZOFFSETTO:+0200
TZOFFSETFROM:+0100
END:DAYLIGHT
BEGIN:STANDARD
DTSTART:20201025T020000
TZNAME:CET
TZOFFSETTO:+0100
TZOFFSETFROM:+0200
END:STANDARD
END:VTIMEZONE
END:VCALENDAR
