BEGIN:VCALENDAR
PRODID:-//eluceo/ical//2.0/EN
VERSION:2.0
CALSCALE:GREGORIAN
BEGIN:VEVENT
UID:https://hbb.rivio.dev/senioren/2019/wedstrijd/25764
DTSTAMP:20260420T164444Z
SUMMARY:Mierlo 7 - Ganzeveer 2
DESCRIPTION:Baan 12\, Wedstrijdnummer 129\, Afdeling 2e klasse II
DTSTART:20190911T200000
DTEND:20190911T230000
LOCATION:City Resort Helmond
ATTACH;FMTTYPE=text/plain:https://hbb.rivio.dev/senioren/2019/wedstrijd/257
 64
END:VEVENT
BEGIN:VEVENT
UID:https://hbb.rivio.dev/senioren/2019/wedstrijd/25801
DTSTAMP:20260420T164444Z
SUMMARY:Ganzeveer 2 - Someren 3
DESCRIPTION:Baan 4\, Wedstrijdnummer 133\, Afdeling 2e klasse II
DTSTART:20190925T200000
DTEND:20190925T230000
LOCATION:City Resort Helmond
ATTACH;FMTTYPE=text/plain:https://hbb.rivio.dev/senioren/2019/wedstrijd/258
 01
END:VEVENT
BEGIN:VEVENT
UID:https://hbb.rivio.dev/senioren/2019/wedstrijd/25852
DTSTAMP:20260420T164444Z
SUMMARY:Hanevoet 3 - Ganzeveer 2
DESCRIPTION:Baan 10\, Wedstrijdnummer 138\, Afdeling 2e klasse II
DTSTART:20191010T200000
DTEND:20191010T230000
LOCATION:City Resort Helmond
ATTACH;FMTTYPE=text/plain:https://hbb.rivio.dev/senioren/2019/wedstrijd/258
 52
END:VEVENT
BEGIN:VEVENT
UID:https://hbb.rivio.dev/senioren/2019/wedstrijd/25861
DTSTAMP:20260420T164444Z
SUMMARY:Gemert 1 - Ganzeveer 2
DESCRIPTION:Baan 4\, Wedstrijdnummer 3018\, Afdeling 2e klasse I
DTSTART:20191023T200000
DTEND:20191023T230000
LOCATION:City Resort Helmond
ATTACH;FMTTYPE=text/plain:https://hbb.rivio.dev/senioren/2019/wedstrijd/258
 61
END:VEVENT
BEGIN:VEVENT
UID:https://hbb.rivio.dev/senioren/2019/wedstrijd/25906
DTSTAMP:20260420T164444Z
SUMMARY:Ganzeveer 2 - Bakel 3
DESCRIPTION:Baan 14\, Wedstrijdnummer 142\, Afdeling 2e klasse II
DTSTART:20191106T200000
DTEND:20191106T230000
LOCATION:City Resort Helmond
ATTACH;FMTTYPE=text/plain:https://hbb.rivio.dev/senioren/2019/wedstrijd/259
 06
END:VEVENT
BEGIN:VEVENT
UID:https://hbb.rivio.dev/senioren/2019/wedstrijd/25944
DTSTAMP:20260420T164444Z
SUMMARY:Con Brio 6 - Ganzeveer 2
DESCRIPTION:Baan 12\, Wedstrijdnummer 147\, Afdeling 2e klasse II
DTSTART:20191120T200000
DTEND:20191120T230000
LOCATION:City Resort Helmond
ATTACH;FMTTYPE=text/plain:https://hbb.rivio.dev/senioren/2019/wedstrijd/259
 44
END:VEVENT
BEGIN:VEVENT
UID:https://hbb.rivio.dev/senioren/2019/wedstrijd/25980
DTSTAMP:20260420T164444Z
SUMMARY:Ganzeveer 2 - Dommelen 2
DESCRIPTION:Baan 3\, Wedstrijdnummer 151\, Afdeling 2e klasse II
DTSTART:20191204T200000
DTEND:20191204T230000
LOCATION:City Resort Helmond
ATTACH;FMTTYPE=text/plain:https://hbb.rivio.dev/senioren/2019/wedstrijd/259
 80
END:VEVENT
BEGIN:VEVENT
UID:https://hbb.rivio.dev/senioren/2019/wedstrijd/26027
DTSTAMP:20260420T164444Z
SUMMARY:BCV '73 1 - Ganzeveer 2
DESCRIPTION:Baan 15\, Wedstrijdnummer 156\, Afdeling 2e klasse II
DTSTART:20191219T200000
DTEND:20191219T230000
LOCATION:City Resort Helmond
ATTACH;FMTTYPE=text/plain:https://hbb.rivio.dev/senioren/2019/wedstrijd/260
 27
END:VEVENT
BEGIN:VEVENT
UID:https://hbb.rivio.dev/senioren/2019/wedstrijd/26284
DTSTAMP:20260420T164444Z
SUMMARY:Dommelen 1 - Ganzeveer 2
DESCRIPTION:Baan 5\, Wedstrijdnummer 3049\, Afdeling 2e klasse I
DTSTART:20200115T200000
DTEND:20200115T230000
LOCATION:City Resort Helmond
ATTACH;FMTTYPE=text/plain:https://hbb.rivio.dev/senioren/2019/wedstrijd/262
 84
END:VEVENT
BEGIN:VEVENT
UID:https://hbb.rivio.dev/senioren/2019/wedstrijd/26075
DTSTAMP:20260420T164444Z
SUMMARY:Ganzeveer 2 - Mierlo 7
DESCRIPTION:Baan 4\, Wedstrijdnummer 1129\, Afdeling 2e klasse II
DTSTART:20200129T200000
DTEND:20200129T230000
LOCATION:City Resort Helmond
ATTACH;FMTTYPE=text/plain:https://hbb.rivio.dev/senioren/2019/wedstrijd/260
 75
END:VEVENT
BEGIN:VEVENT
UID:https://hbb.rivio.dev/senioren/2019/wedstrijd/26102
DTSTAMP:20260420T164444Z
SUMMARY:Someren 3 - Ganzeveer 2
DESCRIPTION:Baan 1\, Wedstrijdnummer 1133\, Afdeling 2e klasse II
DTSTART:20200206T200000
DTEND:20200206T230000
LOCATION:City Resort Helmond
ATTACH;FMTTYPE=text/plain:https://hbb.rivio.dev/senioren/2019/wedstrijd/261
 02
END:VEVENT
BEGIN:VEVENT
UID:https://hbb.rivio.dev/senioren/2019/wedstrijd/26138
DTSTAMP:20260420T164444Z
SUMMARY:Ganzeveer 2 - Hanevoet 3
DESCRIPTION:Baan 10\, Wedstrijdnummer 1138\, Afdeling 2e klasse II
DTSTART:20200219T200000
DTEND:20200219T230000
LOCATION:City Resort Helmond
ATTACH;FMTTYPE=text/plain:https://hbb.rivio.dev/senioren/2019/wedstrijd/261
 38
END:VEVENT
BEGIN:VEVENT
UID:https://hbb.rivio.dev/senioren/2019/wedstrijd/26166
DTSTAMP:20260420T164444Z
SUMMARY:Bakel 3 - Ganzeveer 2
DESCRIPTION:Baan 11\, Wedstrijdnummer 1142\, Afdeling 2e klasse II
DTSTART:20200305T200000
DTEND:20200305T230000
LOCATION:City Resort Helmond
ATTACH;FMTTYPE=text/plain:https://hbb.rivio.dev/senioren/2019/wedstrijd/261
 66
END:VEVENT
BEGIN:VEVENT
UID:https://hbb.rivio.dev/senioren/2019/wedstrijd/26213
DTSTAMP:20260420T164444Z
SUMMARY:Ganzeveer 2 - Con Brio 6
DESCRIPTION:Baan 5\, Wedstrijdnummer 1147\, Afdeling 2e klasse II
DTSTART:20200325T200000
DTEND:20200325T230000
LOCATION:City Resort Helmond
ATTACH;FMTTYPE=text/plain:https://hbb.rivio.dev/senioren/2019/wedstrijd/262
 13
END:VEVENT
BEGIN:VEVENT
UID:https://hbb.rivio.dev/senioren/2019/wedstrijd/26227
DTSTAMP:20260420T164444Z
SUMMARY:Dommelen 2 - Ganzeveer 2
DESCRIPTION:Baan 11\, Wedstrijdnummer 1151\, Afdeling 2e klasse II
DTSTART:20200401T200000
DTEND:20200401T230000
LOCATION:City Resort Helmond
ATTACH;FMTTYPE=text/plain:https://hbb.rivio.dev/senioren/2019/wedstrijd/262
 27
END:VEVENT
BEGIN:VEVENT
UID:https://hbb.rivio.dev/senioren/2019/wedstrijd/26255
DTSTAMP:20260420T164444Z
SUMMARY:Ganzeveer 2 - BCV '73 1
DESCRIPTION:Baan 11\, Wedstrijdnummer 1156\, Afdeling 2e klasse II
DTSTART:20200513T200000
DTEND:20200513T230000
LOCATION:City Resort Helmond
ATTACH;FMTTYPE=text/plain:https://hbb.rivio.dev/senioren/2019/wedstrijd/262
 55
END:VEVENT
BEGIN:VTIMEZONE
TZID:Europe/Amsterdam
BEGIN:STANDARD
DTSTART:20190101T000000
TZNAME:CET
TZOFFSETTO:+0100
TZOFFSETFROM:+0100
END:STANDARD
BEGIN:DAYLIGHT
DTSTART:20190331T030000
TZNAME:CEST
TZOFFSETTO:+0200
TZOFFSETFROM:+0100
END:DAYLIGHT
BEGIN:STANDARD
DTSTART:20191027T020000
TZNAME:CET
TZOFFSETTO:+0100
TZOFFSETFROM:+0200
END:STANDARD
BEGIN:DAYLIGHT
DTSTART:20200329T030000
TZNAME:CEST
TZOFFSETTO:+0200
TZOFFSETFROM:+0100
END:DAYLIGHT
BEGIN:STANDARD
DTSTART:20201025T020000
TZNAME:CET
TZOFFSETTO:+0100
TZOFFSETFROM:+0200
END:STANDARD
END:VTIMEZONE
END:VCALENDAR
