BEGIN:VCALENDAR
PRODID:-//eluceo/ical//2.0/EN
VERSION:2.0
CALSCALE:GREGORIAN
BEGIN:VEVENT
UID:https://hbb.rivio.dev/senioren/2019/wedstrijd/25804
DTSTAMP:20260420T133440Z
SUMMARY:Phoenix 4 - Dommelen 3
DESCRIPTION:Baan 12\, Wedstrijdnummer 225\, Afdeling 4e klasse II
DTSTART:20190925T200000
DTEND:20190925T230000
LOCATION:City Resort Helmond
ATTACH;FMTTYPE=text/plain:https://hbb.rivio.dev/senioren/2019/wedstrijd/258
 04
END:VEVENT
BEGIN:VEVENT
UID:https://hbb.rivio.dev/senioren/2019/wedstrijd/25843
DTSTAMP:20260420T133440Z
SUMMARY:Dommelen 3 - Gemert 4
DESCRIPTION:Baan 11\, Wedstrijdnummer 228\, Afdeling 4e klasse II
DTSTART:20191009T200000
DTEND:20191009T230000
LOCATION:City Resort Helmond
ATTACH;FMTTYPE=text/plain:https://hbb.rivio.dev/senioren/2019/wedstrijd/258
 43
END:VEVENT
BEGIN:VEVENT
UID:https://hbb.rivio.dev/senioren/2019/wedstrijd/25896
DTSTAMP:20260420T133440Z
SUMMARY:Mierlo 10 - Dommelen 3
DESCRIPTION:Baan 14\, Wedstrijdnummer 230\, Afdeling 4e klasse II
DTSTART:20191031T200000
DTEND:20191031T230000
LOCATION:City Resort Helmond
ATTACH;FMTTYPE=text/plain:https://hbb.rivio.dev/senioren/2019/wedstrijd/258
 96
END:VEVENT
BEGIN:VEVENT
UID:https://hbb.rivio.dev/senioren/2019/wedstrijd/25919
DTSTAMP:20260420T133440Z
SUMMARY:Dommelen 3 - Con Brio 7
DESCRIPTION:Baan 2\, Wedstrijdnummer 3032\, Afdeling 4e klasse II
DTSTART:20191113T200000
DTEND:20191113T230000
LOCATION:City Resort Helmond
ATTACH;FMTTYPE=text/plain:https://hbb.rivio.dev/senioren/2019/wedstrijd/259
 19
END:VEVENT
BEGIN:VEVENT
UID:https://hbb.rivio.dev/senioren/2019/wedstrijd/25946
DTSTAMP:20260420T133440Z
SUMMARY:Dommelen 3 - Mierlo 12
DESCRIPTION:Baan 14\, Wedstrijdnummer 233\, Afdeling 4e klasse II
DTSTART:20191120T200000
DTEND:20191120T230000
LOCATION:City Resort Helmond
ATTACH;FMTTYPE=text/plain:https://hbb.rivio.dev/senioren/2019/wedstrijd/259
 46
END:VEVENT
BEGIN:VEVENT
UID:https://hbb.rivio.dev/senioren/2019/wedstrijd/25981
DTSTAMP:20260420T133440Z
SUMMARY:BC '85 3 - Dommelen 3
DESCRIPTION:Baan 4\, Wedstrijdnummer 235\, Afdeling 4e klasse II
DTSTART:20191204T200000
DTEND:20191204T230000
LOCATION:City Resort Helmond
ATTACH;FMTTYPE=text/plain:https://hbb.rivio.dev/senioren/2019/wedstrijd/259
 81
END:VEVENT
BEGIN:VEVENT
UID:https://hbb.rivio.dev/senioren/2019/wedstrijd/26010
DTSTAMP:20260420T133440Z
SUMMARY:Dommelen 3 - Smashing Bruang 3
DESCRIPTION:Baan 3\, Wedstrijdnummer 238\, Afdeling 4e klasse II
DTSTART:20191218T200000
DTEND:20191218T230000
LOCATION:City Resort Helmond
ATTACH;FMTTYPE=text/plain:https://hbb.rivio.dev/senioren/2019/wedstrijd/260
 10
END:VEVENT
BEGIN:VEVENT
UID:https://hbb.rivio.dev/senioren/2019/wedstrijd/26100
DTSTAMP:20260420T133440Z
SUMMARY:Dommelen 3 - Phoenix 4
DESCRIPTION:Baan 14\, Wedstrijdnummer 1225\, Afdeling 4e klasse II
DTSTART:20200205T200000
DTEND:20200205T230000
LOCATION:City Resort Helmond
ATTACH;FMTTYPE=text/plain:https://hbb.rivio.dev/senioren/2019/wedstrijd/261
 00
END:VEVENT
BEGIN:VEVENT
UID:https://hbb.rivio.dev/senioren/2019/wedstrijd/26132
DTSTAMP:20260420T133440Z
SUMMARY:Gemert 4 - Dommelen 3
DESCRIPTION:Baan 15\, Wedstrijdnummer 1228\, Afdeling 4e klasse II
DTSTART:20200213T200000
DTEND:20200213T230000
LOCATION:City Resort Helmond
ATTACH;FMTTYPE=text/plain:https://hbb.rivio.dev/senioren/2019/wedstrijd/261
 32
END:VEVENT
BEGIN:VEVENT
UID:https://hbb.rivio.dev/senioren/2019/wedstrijd/26175
DTSTAMP:20260420T133440Z
SUMMARY:Dommelen 3 - Mierlo 10
DESCRIPTION:Baan 5\, Wedstrijdnummer 1230\, Afdeling 4e klasse II
DTSTART:20200311T200000
DTEND:20200311T230000
LOCATION:City Resort Helmond
ATTACH;FMTTYPE=text/plain:https://hbb.rivio.dev/senioren/2019/wedstrijd/261
 75
END:VEVENT
BEGIN:VEVENT
UID:https://hbb.rivio.dev/senioren/2019/wedstrijd/26196
DTSTAMP:20260420T133440Z
SUMMARY:Mierlo 12 - Dommelen 3
DESCRIPTION:Baan 14\, Wedstrijdnummer 1233\, Afdeling 4e klasse II
DTSTART:20200318T200000
DTEND:20200318T230000
LOCATION:City Resort Helmond
ATTACH;FMTTYPE=text/plain:https://hbb.rivio.dev/senioren/2019/wedstrijd/261
 96
END:VEVENT
BEGIN:VEVENT
UID:https://hbb.rivio.dev/senioren/2019/wedstrijd/26228
DTSTAMP:20260420T133440Z
SUMMARY:Dommelen 3 - BC '85 3
DESCRIPTION:Baan 12\, Wedstrijdnummer 1235\, Afdeling 4e klasse II
DTSTART:20200401T200000
DTEND:20200401T230000
LOCATION:City Resort Helmond
ATTACH;FMTTYPE=text/plain:https://hbb.rivio.dev/senioren/2019/wedstrijd/262
 28
END:VEVENT
BEGIN:VEVENT
UID:https://hbb.rivio.dev/senioren/2019/wedstrijd/26256
DTSTAMP:20260420T133440Z
SUMMARY:Smashing Bruang 3 - Dommelen 3
DESCRIPTION:Baan 12\, Wedstrijdnummer 1238\, Afdeling 4e klasse II
DTSTART:20200513T200000
DTEND:20200513T230000
LOCATION:City Resort Helmond
ATTACH;FMTTYPE=text/plain:https://hbb.rivio.dev/senioren/2019/wedstrijd/262
 56
END:VEVENT
BEGIN:VTIMEZONE
TZID:Europe/Amsterdam
BEGIN:STANDARD
DTSTART:20190101T000000
TZNAME:CET
TZOFFSETTO:+0100
TZOFFSETFROM:+0100
END:STANDARD
BEGIN:DAYLIGHT
DTSTART:20190331T030000
TZNAME:CEST
TZOFFSETTO:+0200
TZOFFSETFROM:+0100
END:DAYLIGHT
BEGIN:STANDARD
DTSTART:20191027T020000
TZNAME:CET
TZOFFSETTO:+0100
TZOFFSETFROM:+0200
END:STANDARD
BEGIN:DAYLIGHT
DTSTART:20200329T030000
TZNAME:CEST
TZOFFSETTO:+0200
TZOFFSETFROM:+0100
END:DAYLIGHT
BEGIN:STANDARD
DTSTART:20201025T020000
TZNAME:CET
TZOFFSETTO:+0100
TZOFFSETFROM:+0200
END:STANDARD
END:VTIMEZONE
END:VCALENDAR
