BEGIN:VCALENDAR
PRODID:-//eluceo/ical//2.0/EN
VERSION:2.0
CALSCALE:GREGORIAN
BEGIN:VEVENT
UID:https://hbb.rivio.dev/jeugd/2019/wedstrijd/24982
DTSTAMP:20260420T203211Z
SUMMARY:Hanevoet 2 - Someren 3
DESCRIPTION:Baan 13\, Afdeling E-klasse 
DTSTART:20190922T111500
DTEND:20190922T130000
LOCATION:City Resort Helmond
ATTACH;FMTTYPE=text/plain:https://hbb.rivio.dev/jeugd/2019/wedstrijd/24982
END:VEVENT
BEGIN:VEVENT
UID:https://hbb.rivio.dev/jeugd/2019/wedstrijd/24977
DTSTAMP:20260420T203211Z
SUMMARY:Hanevoet 1 - Hanevoet 2
DESCRIPTION:Baan 11\, Afdeling E-klasse 
DTSTART:20190922T093000
DTEND:20190922T111500
LOCATION:City Resort Helmond
ATTACH;FMTTYPE=text/plain:https://hbb.rivio.dev/jeugd/2019/wedstrijd/24977
END:VEVENT
BEGIN:VEVENT
UID:https://hbb.rivio.dev/jeugd/2019/wedstrijd/24992
DTSTAMP:20260420T203211Z
SUMMARY:Phoenix 4 - Hanevoet 2
DESCRIPTION:Baan 12\, Afdeling E-klasse 
DTSTART:20191006T093000
DTEND:20191006T111500
LOCATION:City Resort Helmond
ATTACH;FMTTYPE=text/plain:https://hbb.rivio.dev/jeugd/2019/wedstrijd/24992
END:VEVENT
BEGIN:VEVENT
UID:https://hbb.rivio.dev/jeugd/2019/wedstrijd/24995
DTSTAMP:20260420T203211Z
SUMMARY:Mierlo 7 - Hanevoet 2
DESCRIPTION:Baan 12\, Afdeling E-klasse 
DTSTART:20191006T111500
DTEND:20191006T130000
LOCATION:City Resort Helmond
ATTACH;FMTTYPE=text/plain:https://hbb.rivio.dev/jeugd/2019/wedstrijd/24995
END:VEVENT
BEGIN:VEVENT
UID:https://hbb.rivio.dev/jeugd/2019/wedstrijd/25034
DTSTAMP:20260420T203211Z
SUMMARY:Hanevoet 2 - Someren 2
DESCRIPTION:Baan 12\, Afdeling E-klasse 
DTSTART:20191027T093000
DTEND:20191027T111500
LOCATION:City Resort Helmond
ATTACH;FMTTYPE=text/plain:https://hbb.rivio.dev/jeugd/2019/wedstrijd/25034
END:VEVENT
BEGIN:VEVENT
UID:https://hbb.rivio.dev/jeugd/2019/wedstrijd/25036
DTSTAMP:20260420T203211Z
SUMMARY:Hanevoet 2 - Hanevoet 1
DESCRIPTION:Baan 11\, Afdeling E-klasse 
DTSTART:20191027T111500
DTEND:20191027T130000
LOCATION:City Resort Helmond
ATTACH;FMTTYPE=text/plain:https://hbb.rivio.dev/jeugd/2019/wedstrijd/25036
END:VEVENT
BEGIN:VEVENT
UID:https://hbb.rivio.dev/jeugd/2019/wedstrijd/25099
DTSTAMP:20260420T203211Z
SUMMARY:Hanevoet 2 - Phoenix 4
DESCRIPTION:Baan 14\, Afdeling E-klasse 
DTSTART:20191201T111500
DTEND:20191201T130000
LOCATION:City Resort Helmond
ATTACH;FMTTYPE=text/plain:https://hbb.rivio.dev/jeugd/2019/wedstrijd/25099
END:VEVENT
BEGIN:VEVENT
UID:https://hbb.rivio.dev/jeugd/2019/wedstrijd/25097
DTSTAMP:20260420T203211Z
SUMMARY:Someren 3 - Hanevoet 2
DESCRIPTION:Baan 15\, Afdeling E-klasse 
DTSTART:20191201T093000
DTEND:20191201T111500
LOCATION:City Resort Helmond
ATTACH;FMTTYPE=text/plain:https://hbb.rivio.dev/jeugd/2019/wedstrijd/25097
END:VEVENT
BEGIN:VEVENT
UID:https://hbb.rivio.dev/jeugd/2019/wedstrijd/25136
DTSTAMP:20260420T203211Z
SUMMARY:Hanevoet 2 - Mierlo 7
DESCRIPTION:Baan 12\, Afdeling E-klasse 
DTSTART:20191215T093000
DTEND:20191215T111500
LOCATION:City Resort Helmond
ATTACH;FMTTYPE=text/plain:https://hbb.rivio.dev/jeugd/2019/wedstrijd/25136
END:VEVENT
BEGIN:VEVENT
UID:https://hbb.rivio.dev/jeugd/2019/wedstrijd/25139
DTSTAMP:20260420T203211Z
SUMMARY:Someren 2 - Hanevoet 2
DESCRIPTION:Baan 12\, Afdeling E-klasse 
DTSTART:20191215T111500
DTEND:20191215T130000
LOCATION:City Resort Helmond
ATTACH;FMTTYPE=text/plain:https://hbb.rivio.dev/jeugd/2019/wedstrijd/25139
END:VEVENT
BEGIN:VEVENT
UID:https://hbb.rivio.dev/jeugd/2019/wedstrijd/25176
DTSTAMP:20260420T203211Z
SUMMARY:Hanevoet 2 - Someren 3
DESCRIPTION:Baan 15\, Afdeling E-klasse 
DTSTART:20200209T111500
DTEND:20200209T130000
LOCATION:City Resort Helmond
ATTACH;FMTTYPE=text/plain:https://hbb.rivio.dev/jeugd/2019/wedstrijd/25176
END:VEVENT
BEGIN:VEVENT
UID:https://hbb.rivio.dev/jeugd/2019/wedstrijd/25171
DTSTAMP:20260420T203211Z
SUMMARY:Hanevoet 1 - Hanevoet 2
DESCRIPTION:Baan 5\, Afdeling E-klasse 
DTSTART:20200209T093000
DTEND:20200209T111500
LOCATION:City Resort Helmond
ATTACH;FMTTYPE=text/plain:https://hbb.rivio.dev/jeugd/2019/wedstrijd/25171
END:VEVENT
BEGIN:VEVENT
UID:https://hbb.rivio.dev/jeugd/2019/wedstrijd/25210
DTSTAMP:20260420T203212Z
SUMMARY:Phoenix 4 - Hanevoet 2
DESCRIPTION:Baan 5\, Afdeling E-klasse 
DTSTART:20200322T093000
DTEND:20200322T111500
LOCATION:City Resort Helmond
ATTACH;FMTTYPE=text/plain:https://hbb.rivio.dev/jeugd/2019/wedstrijd/25210
END:VEVENT
BEGIN:VEVENT
UID:https://hbb.rivio.dev/jeugd/2019/wedstrijd/25213
DTSTAMP:20260420T203212Z
SUMMARY:Mierlo 7 - Hanevoet 2
DESCRIPTION:Baan 5\, Afdeling E-klasse 
DTSTART:20200322T111500
DTEND:20200322T130000
LOCATION:City Resort Helmond
ATTACH;FMTTYPE=text/plain:https://hbb.rivio.dev/jeugd/2019/wedstrijd/25213
END:VEVENT
BEGIN:VEVENT
UID:https://hbb.rivio.dev/jeugd/2019/wedstrijd/25228
DTSTAMP:20260420T203212Z
SUMMARY:Hanevoet 2 - Someren 2
DESCRIPTION:Baan 12\, Afdeling E-klasse 
DTSTART:20200329T093000
DTEND:20200329T111500
LOCATION:City Resort Helmond
ATTACH;FMTTYPE=text/plain:https://hbb.rivio.dev/jeugd/2019/wedstrijd/25228
END:VEVENT
BEGIN:VTIMEZONE
TZID:Europe/Amsterdam
BEGIN:STANDARD
DTSTART:20190101T000000
TZNAME:CET
TZOFFSETTO:+0100
TZOFFSETFROM:+0100
END:STANDARD
BEGIN:DAYLIGHT
DTSTART:20190331T030000
TZNAME:CEST
TZOFFSETTO:+0200
TZOFFSETFROM:+0100
END:DAYLIGHT
BEGIN:STANDARD
DTSTART:20191027T020000
TZNAME:CET
TZOFFSETTO:+0100
TZOFFSETFROM:+0200
END:STANDARD
BEGIN:DAYLIGHT
DTSTART:20200329T030000
TZNAME:CEST
TZOFFSETTO:+0200
TZOFFSETFROM:+0100
END:DAYLIGHT
BEGIN:STANDARD
DTSTART:20201025T020000
TZNAME:CET
TZOFFSETTO:+0100
TZOFFSETFROM:+0200
END:STANDARD
END:VTIMEZONE
END:VCALENDAR
