BEGIN:VCALENDAR
PRODID:-//eluceo/ical//2.0/EN
VERSION:2.0
CALSCALE:GREGORIAN
BEGIN:VEVENT
UID:https://hbb.rivio.dev/senioren/2019/wedstrijd/25765
DTSTAMP:20260420T103608Z
SUMMARY:Mierlo 12 - Mierlo 10
DESCRIPTION:Baan 13\, Wedstrijdnummer 220\, Afdeling 4e klasse II
DTSTART:20190911T200000
DTEND:20190911T230000
LOCATION:City Resort Helmond
ATTACH;FMTTYPE=text/plain:https://hbb.rivio.dev/senioren/2019/wedstrijd/257
 65
END:VEVENT
BEGIN:VEVENT
UID:https://hbb.rivio.dev/senioren/2019/wedstrijd/25802
DTSTAMP:20260420T103608Z
SUMMARY:Mierlo 10 - BC '85 3
DESCRIPTION:Baan 10\, Wedstrijdnummer 223\, Afdeling 4e klasse II
DTSTART:20190925T200000
DTEND:20190925T230000
LOCATION:City Resort Helmond
ATTACH;FMTTYPE=text/plain:https://hbb.rivio.dev/senioren/2019/wedstrijd/258
 02
END:VEVENT
BEGIN:VEVENT
UID:https://hbb.rivio.dev/senioren/2019/wedstrijd/25842
DTSTAMP:20260420T103608Z
SUMMARY:Smashing Bruang 3 - Mierlo 10
DESCRIPTION:Baan 10\, Wedstrijdnummer 227\, Afdeling 4e klasse II
DTSTART:20191009T200000
DTEND:20191009T230000
LOCATION:City Resort Helmond
ATTACH;FMTTYPE=text/plain:https://hbb.rivio.dev/senioren/2019/wedstrijd/258
 42
END:VEVENT
BEGIN:VEVENT
UID:https://hbb.rivio.dev/senioren/2019/wedstrijd/25896
DTSTAMP:20260420T103608Z
SUMMARY:Mierlo 10 - Dommelen 3
DESCRIPTION:Baan 14\, Wedstrijdnummer 230\, Afdeling 4e klasse II
DTSTART:20191031T200000
DTEND:20191031T230000
LOCATION:City Resort Helmond
ATTACH;FMTTYPE=text/plain:https://hbb.rivio.dev/senioren/2019/wedstrijd/258
 96
END:VEVENT
BEGIN:VEVENT
UID:https://hbb.rivio.dev/senioren/2019/wedstrijd/25923
DTSTAMP:20260420T103608Z
SUMMARY:Mierlo 10 - Ganzeveer 4
DESCRIPTION:Baan 11\, Wedstrijdnummer 3036\, Afdeling 4e klasse II
DTSTART:20191113T200000
DTEND:20191113T230000
LOCATION:City Resort Helmond
ATTACH;FMTTYPE=text/plain:https://hbb.rivio.dev/senioren/2019/wedstrijd/259
 23
END:VEVENT
BEGIN:VEVENT
UID:https://hbb.rivio.dev/senioren/2019/wedstrijd/25947
DTSTAMP:20260420T103608Z
SUMMARY:Phoenix 4 - Mierlo 10
DESCRIPTION:Baan 15\, Wedstrijdnummer 234\, Afdeling 4e klasse II
DTSTART:20191120T200000
DTEND:20191120T230000
LOCATION:City Resort Helmond
ATTACH;FMTTYPE=text/plain:https://hbb.rivio.dev/senioren/2019/wedstrijd/259
 47
END:VEVENT
BEGIN:VEVENT
UID:https://hbb.rivio.dev/senioren/2019/wedstrijd/25983
DTSTAMP:20260420T103608Z
SUMMARY:Mierlo 10 - Gemert 4
DESCRIPTION:Baan 11\, Wedstrijdnummer 237\, Afdeling 4e klasse II
DTSTART:20191204T200000
DTEND:20191204T230000
LOCATION:City Resort Helmond
ATTACH;FMTTYPE=text/plain:https://hbb.rivio.dev/senioren/2019/wedstrijd/259
 83
END:VEVENT
BEGIN:VEVENT
UID:https://hbb.rivio.dev/senioren/2019/wedstrijd/26291
DTSTAMP:20260420T103608Z
SUMMARY:Con Brio 7 - Mierlo 10
DESCRIPTION:Baan 5\, Wedstrijdnummer 3056\, Afdeling 4e klasse I
DTSTART:20200108T200000
DTEND:20200108T230000
LOCATION:City Resort Helmond
ATTACH;FMTTYPE=text/plain:https://hbb.rivio.dev/senioren/2019/wedstrijd/262
 91
END:VEVENT
BEGIN:VEVENT
UID:https://hbb.rivio.dev/senioren/2019/wedstrijd/26048
DTSTAMP:20260420T103608Z
SUMMARY:Mierlo 10 - Mierlo 12
DESCRIPTION:Baan 14\, Wedstrijdnummer 1220\, Afdeling 4e klasse II
DTSTART:20200115T200000
DTEND:20200115T230000
LOCATION:City Resort Helmond
ATTACH;FMTTYPE=text/plain:https://hbb.rivio.dev/senioren/2019/wedstrijd/260
 48
END:VEVENT
BEGIN:VEVENT
UID:https://hbb.rivio.dev/senioren/2019/wedstrijd/26098
DTSTAMP:20260420T103608Z
SUMMARY:BC '85 3 - Mierlo 10
DESCRIPTION:Baan 12\, Wedstrijdnummer 1223\, Afdeling 4e klasse II
DTSTART:20200205T200000
DTEND:20200205T230000
LOCATION:City Resort Helmond
ATTACH;FMTTYPE=text/plain:https://hbb.rivio.dev/senioren/2019/wedstrijd/260
 98
END:VEVENT
BEGIN:VEVENT
UID:https://hbb.rivio.dev/senioren/2019/wedstrijd/26140
DTSTAMP:20260420T103608Z
SUMMARY:Mierlo 10 - Smashing Bruang 3
DESCRIPTION:Baan 12\, Wedstrijdnummer 1227\, Afdeling 4e klasse II
DTSTART:20200219T200000
DTEND:20200219T230000
LOCATION:City Resort Helmond
ATTACH;FMTTYPE=text/plain:https://hbb.rivio.dev/senioren/2019/wedstrijd/261
 40
END:VEVENT
BEGIN:VEVENT
UID:https://hbb.rivio.dev/senioren/2019/wedstrijd/26175
DTSTAMP:20260420T103608Z
SUMMARY:Dommelen 3 - Mierlo 10
DESCRIPTION:Baan 5\, Wedstrijdnummer 1230\, Afdeling 4e klasse II
DTSTART:20200311T200000
DTEND:20200311T230000
LOCATION:City Resort Helmond
ATTACH;FMTTYPE=text/plain:https://hbb.rivio.dev/senioren/2019/wedstrijd/261
 75
END:VEVENT
BEGIN:VEVENT
UID:https://hbb.rivio.dev/senioren/2019/wedstrijd/26210
DTSTAMP:20260420T103608Z
SUMMARY:Mierlo 10 - Phoenix 4
DESCRIPTION:Baan 2\, Wedstrijdnummer 1234\, Afdeling 4e klasse II
DTSTART:20200325T200000
DTEND:20200325T230000
LOCATION:City Resort Helmond
ATTACH;FMTTYPE=text/plain:https://hbb.rivio.dev/senioren/2019/wedstrijd/262
 10
END:VEVENT
BEGIN:VEVENT
UID:https://hbb.rivio.dev/senioren/2019/wedstrijd/26230
DTSTAMP:20260420T103608Z
SUMMARY:Gemert 4 - Mierlo 10
DESCRIPTION:Baan 14\, Wedstrijdnummer 1237\, Afdeling 4e klasse II
DTSTART:20200401T200000
DTEND:20200401T230000
LOCATION:City Resort Helmond
ATTACH;FMTTYPE=text/plain:https://hbb.rivio.dev/senioren/2019/wedstrijd/262
 30
END:VEVENT
BEGIN:VTIMEZONE
TZID:Europe/Amsterdam
BEGIN:STANDARD
DTSTART:20190101T000000
TZNAME:CET
TZOFFSETTO:+0100
TZOFFSETFROM:+0100
END:STANDARD
BEGIN:DAYLIGHT
DTSTART:20190331T030000
TZNAME:CEST
TZOFFSETTO:+0200
TZOFFSETFROM:+0100
END:DAYLIGHT
BEGIN:STANDARD
DTSTART:20191027T020000
TZNAME:CET
TZOFFSETTO:+0100
TZOFFSETFROM:+0200
END:STANDARD
BEGIN:DAYLIGHT
DTSTART:20200329T030000
TZNAME:CEST
TZOFFSETTO:+0200
TZOFFSETFROM:+0100
END:DAYLIGHT
BEGIN:STANDARD
DTSTART:20201025T020000
TZNAME:CET
TZOFFSETTO:+0100
TZOFFSETFROM:+0200
END:STANDARD
END:VTIMEZONE
END:VCALENDAR
