BEGIN:VCALENDAR
PRODID:-//eluceo/ical//2.0/EN
VERSION:2.0
CALSCALE:GREGORIAN
BEGIN:VEVENT
UID:https://hbb.rivio.dev/senioren/2019/wedstrijd/25764
DTSTAMP:20260420T165833Z
SUMMARY:Mierlo 7 - Ganzeveer 2
DESCRIPTION:Baan 12\, Wedstrijdnummer 129\, Afdeling 2e klasse II
DTSTART:20190911T200000
DTEND:20190911T230000
LOCATION:City Resort Helmond
ATTACH;FMTTYPE=text/plain:https://hbb.rivio.dev/senioren/2019/wedstrijd/257
 64
END:VEVENT
BEGIN:VEVENT
UID:https://hbb.rivio.dev/senioren/2019/wedstrijd/25817
DTSTAMP:20260420T165833Z
SUMMARY:BCV '73 1 - Mierlo 7
DESCRIPTION:Baan 15\, Wedstrijdnummer 136\, Afdeling 2e klasse II
DTSTART:20190926T200000
DTEND:20190926T230000
LOCATION:City Resort Helmond
ATTACH;FMTTYPE=text/plain:https://hbb.rivio.dev/senioren/2019/wedstrijd/258
 17
END:VEVENT
BEGIN:VEVENT
UID:https://hbb.rivio.dev/senioren/2019/wedstrijd/25851
DTSTAMP:20260420T165833Z
SUMMARY:Someren 3 - Mierlo 7
DESCRIPTION:Baan 4\, Wedstrijdnummer 137\, Afdeling 2e klasse II
DTSTART:20191010T200000
DTEND:20191010T230000
LOCATION:City Resort Helmond
ATTACH;FMTTYPE=text/plain:https://hbb.rivio.dev/senioren/2019/wedstrijd/258
 51
END:VEVENT
BEGIN:VEVENT
UID:https://hbb.rivio.dev/senioren/2019/wedstrijd/25865
DTSTAMP:20260420T165833Z
SUMMARY:Mierlo 6 - Mierlo 7
DESCRIPTION:Baan 13\, Wedstrijdnummer 3022\, Afdeling 2e klasse I
DTSTART:20191023T200000
DTEND:20191023T230000
LOCATION:City Resort Helmond
ATTACH;FMTTYPE=text/plain:https://hbb.rivio.dev/senioren/2019/wedstrijd/258
 65
END:VEVENT
BEGIN:VEVENT
UID:https://hbb.rivio.dev/senioren/2019/wedstrijd/25893
DTSTAMP:20260420T165833Z
SUMMARY:Mierlo 7 - Hanevoet 3
DESCRIPTION:Baan 11\, Wedstrijdnummer 141\, Afdeling 2e klasse II
DTSTART:20191031T200000
DTEND:20191031T230000
LOCATION:City Resort Helmond
ATTACH;FMTTYPE=text/plain:https://hbb.rivio.dev/senioren/2019/wedstrijd/258
 93
END:VEVENT
BEGIN:VEVENT
UID:https://hbb.rivio.dev/senioren/2019/wedstrijd/25949
DTSTAMP:20260420T165833Z
SUMMARY:Bakel 3 - Mierlo 7
DESCRIPTION:Baan 2\, Wedstrijdnummer 146\, Afdeling 2e klasse II
DTSTART:20191121T200000
DTEND:20191121T230000
LOCATION:City Resort Helmond
ATTACH;FMTTYPE=text/plain:https://hbb.rivio.dev/senioren/2019/wedstrijd/259
 49
END:VEVENT
BEGIN:VEVENT
UID:https://hbb.rivio.dev/senioren/2019/wedstrijd/25979
DTSTAMP:20260420T165833Z
SUMMARY:Mierlo 7 - Con Brio 6
DESCRIPTION:Baan 2\, Wedstrijdnummer 150\, Afdeling 2e klasse II
DTSTART:20191204T200000
DTEND:20191204T230000
LOCATION:City Resort Helmond
ATTACH;FMTTYPE=text/plain:https://hbb.rivio.dev/senioren/2019/wedstrijd/259
 79
END:VEVENT
BEGIN:VEVENT
UID:https://hbb.rivio.dev/senioren/2019/wedstrijd/25997
DTSTAMP:20260420T165833Z
SUMMARY:Dommelen 2 - Mierlo 7
DESCRIPTION:Baan 15\, Wedstrijdnummer 155\, Afdeling 2e klasse II
DTSTART:20191211T200000
DTEND:20191211T230000
LOCATION:City Resort Helmond
ATTACH;FMTTYPE=text/plain:https://hbb.rivio.dev/senioren/2019/wedstrijd/259
 97
END:VEVENT
BEGIN:VEVENT
UID:https://hbb.rivio.dev/senioren/2019/wedstrijd/26286
DTSTAMP:20260420T165833Z
SUMMARY:Con Brio 6 - Mierlo 7
DESCRIPTION:Baan 12\, Wedstrijdnummer 3051\, Afdeling 2e klasse II
DTSTART:20200115T200000
DTEND:20200115T230000
LOCATION:City Resort Helmond
ATTACH;FMTTYPE=text/plain:https://hbb.rivio.dev/senioren/2019/wedstrijd/262
 86
END:VEVENT
BEGIN:VEVENT
UID:https://hbb.rivio.dev/senioren/2019/wedstrijd/26075
DTSTAMP:20260420T165833Z
SUMMARY:Ganzeveer 2 - Mierlo 7
DESCRIPTION:Baan 4\, Wedstrijdnummer 1129\, Afdeling 2e klasse II
DTSTART:20200129T200000
DTEND:20200129T230000
LOCATION:City Resort Helmond
ATTACH;FMTTYPE=text/plain:https://hbb.rivio.dev/senioren/2019/wedstrijd/260
 75
END:VEVENT
BEGIN:VEVENT
UID:https://hbb.rivio.dev/senioren/2019/wedstrijd/26105
DTSTAMP:20260420T165833Z
SUMMARY:Mierlo 7 - BCV '73 1
DESCRIPTION:Baan 4\, Wedstrijdnummer 1136\, Afdeling 2e klasse II
DTSTART:20200206T200000
DTEND:20200206T230000
LOCATION:City Resort Helmond
ATTACH;FMTTYPE=text/plain:https://hbb.rivio.dev/senioren/2019/wedstrijd/261
 05
END:VEVENT
BEGIN:VEVENT
UID:https://hbb.rivio.dev/senioren/2019/wedstrijd/26129
DTSTAMP:20260420T165833Z
SUMMARY:Mierlo 7 - Someren 3
DESCRIPTION:Baan 12\, Wedstrijdnummer 1137\, Afdeling 2e klasse II
DTSTART:20200213T200000
DTEND:20200213T230000
LOCATION:City Resort Helmond
ATTACH;FMTTYPE=text/plain:https://hbb.rivio.dev/senioren/2019/wedstrijd/261
 29
END:VEVENT
BEGIN:VEVENT
UID:https://hbb.rivio.dev/senioren/2019/wedstrijd/26165
DTSTAMP:20260420T165833Z
SUMMARY:Hanevoet 3 - Mierlo 7
DESCRIPTION:Baan 10\, Wedstrijdnummer 1141\, Afdeling 2e klasse II
DTSTART:20200305T200000
DTEND:20200305T230000
LOCATION:City Resort Helmond
ATTACH;FMTTYPE=text/plain:https://hbb.rivio.dev/senioren/2019/wedstrijd/261
 65
END:VEVENT
BEGIN:VEVENT
UID:https://hbb.rivio.dev/senioren/2019/wedstrijd/26191
DTSTAMP:20260420T165833Z
SUMMARY:Mierlo 7 - Bakel 3
DESCRIPTION:Baan 14\, Wedstrijdnummer 1146\, Afdeling 2e klasse II
DTSTART:20200312T200000
DTEND:20200312T230000
LOCATION:City Resort Helmond
ATTACH;FMTTYPE=text/plain:https://hbb.rivio.dev/senioren/2019/wedstrijd/261
 91
END:VEVENT
BEGIN:VEVENT
UID:https://hbb.rivio.dev/senioren/2019/wedstrijd/26226
DTSTAMP:20260420T165833Z
SUMMARY:Con Brio 6 - Mierlo 7
DESCRIPTION:Baan 10\, Wedstrijdnummer 1150\, Afdeling 2e klasse II
DTSTART:20200401T200000
DTEND:20200401T230000
LOCATION:City Resort Helmond
ATTACH;FMTTYPE=text/plain:https://hbb.rivio.dev/senioren/2019/wedstrijd/262
 26
END:VEVENT
BEGIN:VEVENT
UID:https://hbb.rivio.dev/senioren/2019/wedstrijd/26351
DTSTAMP:20260420T165833Z
SUMMARY:RBC 2 - Mierlo 7
DESCRIPTION:Baan 1\, Wedstrijdnummer 3065\, Afdeling 2e klasse I
DTSTART:20200416T200000
DTEND:20200416T230000
LOCATION:City Resort Helmond
ATTACH;FMTTYPE=text/plain:https://hbb.rivio.dev/senioren/2019/wedstrijd/263
 51
END:VEVENT
BEGIN:VEVENT
UID:https://hbb.rivio.dev/senioren/2019/wedstrijd/26254
DTSTAMP:20260420T165833Z
SUMMARY:Mierlo 7 - Dommelen 2
DESCRIPTION:Baan 10\, Wedstrijdnummer 1155\, Afdeling 2e klasse II
DTSTART:20200513T200000
DTEND:20200513T230000
LOCATION:City Resort Helmond
ATTACH;FMTTYPE=text/plain:https://hbb.rivio.dev/senioren/2019/wedstrijd/262
 54
END:VEVENT
BEGIN:VTIMEZONE
TZID:Europe/Amsterdam
BEGIN:STANDARD
DTSTART:20190101T000000
TZNAME:CET
TZOFFSETTO:+0100
TZOFFSETFROM:+0100
END:STANDARD
BEGIN:DAYLIGHT
DTSTART:20190331T030000
TZNAME:CEST
TZOFFSETTO:+0200
TZOFFSETFROM:+0100
END:DAYLIGHT
BEGIN:STANDARD
DTSTART:20191027T020000
TZNAME:CET
TZOFFSETTO:+0100
TZOFFSETFROM:+0200
END:STANDARD
BEGIN:DAYLIGHT
DTSTART:20200329T030000
TZNAME:CEST
TZOFFSETTO:+0200
TZOFFSETFROM:+0100
END:DAYLIGHT
BEGIN:STANDARD
DTSTART:20201025T020000
TZNAME:CET
TZOFFSETTO:+0100
TZOFFSETFROM:+0200
END:STANDARD
END:VTIMEZONE
END:VCALENDAR
