BEGIN:VCALENDAR
PRODID:-//eluceo/ical//2.0/EN
VERSION:2.0
CALSCALE:GREGORIAN
BEGIN:VEVENT
UID:https://hbb.rivio.dev/senioren/2019/wedstrijd/25760
DTSTAMP:20260420T165708Z
SUMMARY:Mierlo 6 - Ganzeveer 3
DESCRIPTION:Baan 3\, Wedstrijdnummer 101\, Afdeling 2e klasse I
DTSTART:20190911T200000
DTEND:20190911T230000
LOCATION:City Resort Helmond
ATTACH;FMTTYPE=text/plain:https://hbb.rivio.dev/senioren/2019/wedstrijd/257
 60
END:VEVENT
BEGIN:VEVENT
UID:https://hbb.rivio.dev/senioren/2019/wedstrijd/25812
DTSTAMP:20260420T165708Z
SUMMARY:Geldrop 1 - Mierlo 6
DESCRIPTION:Baan 10\, Wedstrijdnummer 108\, Afdeling 2e klasse I
DTSTART:20190926T200000
DTEND:20190926T230000
LOCATION:City Resort Helmond
ATTACH;FMTTYPE=text/plain:https://hbb.rivio.dev/senioren/2019/wedstrijd/258
 12
END:VEVENT
BEGIN:VEVENT
UID:https://hbb.rivio.dev/senioren/2019/wedstrijd/25837
DTSTAMP:20260420T165708Z
SUMMARY:Someren 2 - Mierlo 6
DESCRIPTION:Baan 15\, Wedstrijdnummer 109\, Afdeling 2e klasse I
DTSTART:20191003T200000
DTEND:20191003T230000
LOCATION:City Resort Helmond
ATTACH;FMTTYPE=text/plain:https://hbb.rivio.dev/senioren/2019/wedstrijd/258
 37
END:VEVENT
BEGIN:VEVENT
UID:https://hbb.rivio.dev/senioren/2019/wedstrijd/25865
DTSTAMP:20260420T165708Z
SUMMARY:Mierlo 6 - Mierlo 7
DESCRIPTION:Baan 13\, Wedstrijdnummer 3022\, Afdeling 2e klasse I
DTSTART:20191023T200000
DTEND:20191023T230000
LOCATION:City Resort Helmond
ATTACH;FMTTYPE=text/plain:https://hbb.rivio.dev/senioren/2019/wedstrijd/258
 65
END:VEVENT
BEGIN:VEVENT
UID:https://hbb.rivio.dev/senioren/2019/wedstrijd/25884
DTSTAMP:20260420T165708Z
SUMMARY:Mierlo 6 - Gemert 1
DESCRIPTION:Baan 12\, Wedstrijdnummer 113\, Afdeling 2e klasse I
DTSTART:20191030T200000
DTEND:20191030T230000
LOCATION:City Resort Helmond
ATTACH;FMTTYPE=text/plain:https://hbb.rivio.dev/senioren/2019/wedstrijd/258
 84
END:VEVENT
BEGIN:VEVENT
UID:https://hbb.rivio.dev/senioren/2019/wedstrijd/25934
DTSTAMP:20260420T165708Z
SUMMARY:Mixed 5 - Mierlo 6
DESCRIPTION:Baan 12\, Wedstrijdnummer 118\, Afdeling 2e klasse I
DTSTART:20191114T200000
DTEND:20191114T230000
LOCATION:City Resort Helmond
ATTACH;FMTTYPE=text/plain:https://hbb.rivio.dev/senioren/2019/wedstrijd/259
 34
END:VEVENT
BEGIN:VEVENT
UID:https://hbb.rivio.dev/senioren/2019/wedstrijd/25974
DTSTAMP:20260420T165708Z
SUMMARY:Mierlo 6 - RBC 2
DESCRIPTION:Baan 12\, Wedstrijdnummer 122\, Afdeling 2e klasse I
DTSTART:20191128T200000
DTEND:20191128T230000
LOCATION:City Resort Helmond
ATTACH;FMTTYPE=text/plain:https://hbb.rivio.dev/senioren/2019/wedstrijd/259
 74
END:VEVENT
BEGIN:VEVENT
UID:https://hbb.rivio.dev/senioren/2019/wedstrijd/25993
DTSTAMP:20260420T165708Z
SUMMARY:Dommelen 1 - Mierlo 6
DESCRIPTION:Baan 11\, Wedstrijdnummer 127\, Afdeling 2e klasse I
DTSTART:20191211T200000
DTEND:20191211T230000
LOCATION:City Resort Helmond
ATTACH;FMTTYPE=text/plain:https://hbb.rivio.dev/senioren/2019/wedstrijd/259
 93
END:VEVENT
BEGIN:VEVENT
UID:https://hbb.rivio.dev/senioren/2019/wedstrijd/26060
DTSTAMP:20260420T165708Z
SUMMARY:Ganzeveer 3 - Mierlo 6
DESCRIPTION:Baan 14\, Wedstrijdnummer 1101\, Afdeling 2e klasse I
DTSTART:20200122T200000
DTEND:20200122T230000
LOCATION:City Resort Helmond
ATTACH;FMTTYPE=text/plain:https://hbb.rivio.dev/senioren/2019/wedstrijd/260
 60
END:VEVENT
BEGIN:VEVENT
UID:https://hbb.rivio.dev/senioren/2019/wedstrijd/26089
DTSTAMP:20260420T165708Z
SUMMARY:Mierlo 6 - Geldrop 1
DESCRIPTION:Baan 13\, Wedstrijdnummer 1108\, Afdeling 2e klasse I
DTSTART:20200130T200000
DTEND:20200130T230000
LOCATION:City Resort Helmond
ATTACH;FMTTYPE=text/plain:https://hbb.rivio.dev/senioren/2019/wedstrijd/260
 89
END:VEVENT
BEGIN:VEVENT
UID:https://hbb.rivio.dev/senioren/2019/wedstrijd/26125
DTSTAMP:20260420T165708Z
SUMMARY:Mierlo 6 - Someren 2
DESCRIPTION:Baan 4\, Wedstrijdnummer 1109\, Afdeling 2e klasse I
DTSTART:20200213T200000
DTEND:20200213T230000
LOCATION:City Resort Helmond
ATTACH;FMTTYPE=text/plain:https://hbb.rivio.dev/senioren/2019/wedstrijd/261
 25
END:VEVENT
BEGIN:VEVENT
UID:https://hbb.rivio.dev/senioren/2019/wedstrijd/26158
DTSTAMP:20260420T165708Z
SUMMARY:Gemert 1 - Mierlo 6
DESCRIPTION:Baan 14\, Wedstrijdnummer 1113\, Afdeling 2e klasse I
DTSTART:20200304T200000
DTEND:20200304T230000
LOCATION:City Resort Helmond
ATTACH;FMTTYPE=text/plain:https://hbb.rivio.dev/senioren/2019/wedstrijd/261
 58
END:VEVENT
BEGIN:VEVENT
UID:https://hbb.rivio.dev/senioren/2019/wedstrijd/26180
DTSTAMP:20260420T165708Z
SUMMARY:Mierlo 6 - Mixed 5
DESCRIPTION:Baan 14\, Wedstrijdnummer 1118\, Afdeling 2e klasse I
DTSTART:20200311T200000
DTEND:20200311T230000
LOCATION:City Resort Helmond
ATTACH;FMTTYPE=text/plain:https://hbb.rivio.dev/senioren/2019/wedstrijd/261
 80
END:VEVENT
BEGIN:VEVENT
UID:https://hbb.rivio.dev/senioren/2019/wedstrijd/26217
DTSTAMP:20260420T165708Z
SUMMARY:RBC 2 - Mierlo 6
DESCRIPTION:Baan 12\, Wedstrijdnummer 1122\, Afdeling 2e klasse I
DTSTART:20200326T200000
DTEND:20200326T230000
LOCATION:City Resort Helmond
ATTACH;FMTTYPE=text/plain:https://hbb.rivio.dev/senioren/2019/wedstrijd/262
 17
END:VEVENT
BEGIN:VEVENT
UID:https://hbb.rivio.dev/senioren/2019/wedstrijd/26250
DTSTAMP:20260420T165708Z
SUMMARY:Mierlo 6 - Dommelen 1
DESCRIPTION:Baan 2\, Wedstrijdnummer 1127\, Afdeling 2e klasse I
DTSTART:20200513T200000
DTEND:20200513T230000
LOCATION:City Resort Helmond
ATTACH;FMTTYPE=text/plain:https://hbb.rivio.dev/senioren/2019/wedstrijd/262
 50
END:VEVENT
BEGIN:VTIMEZONE
TZID:Europe/Amsterdam
BEGIN:STANDARD
DTSTART:20190101T000000
TZNAME:CET
TZOFFSETTO:+0100
TZOFFSETFROM:+0100
END:STANDARD
BEGIN:DAYLIGHT
DTSTART:20190331T030000
TZNAME:CEST
TZOFFSETTO:+0200
TZOFFSETFROM:+0100
END:DAYLIGHT
BEGIN:STANDARD
DTSTART:20191027T020000
TZNAME:CET
TZOFFSETTO:+0100
TZOFFSETFROM:+0200
END:STANDARD
BEGIN:DAYLIGHT
DTSTART:20200329T030000
TZNAME:CEST
TZOFFSETTO:+0200
TZOFFSETFROM:+0100
END:DAYLIGHT
BEGIN:STANDARD
DTSTART:20201025T020000
TZNAME:CET
TZOFFSETTO:+0100
TZOFFSETFROM:+0200
END:STANDARD
END:VTIMEZONE
END:VCALENDAR
