BEGIN:VCALENDAR
PRODID:-//eluceo/ical//2.0/EN
VERSION:2.0
CALSCALE:GREGORIAN
BEGIN:VEVENT
UID:https://hbb.rivio.dev/senioren/2019/wedstrijd/25758
DTSTAMP:20260420T150449Z
SUMMARY:Mierlo 5 - Eindhoven 1
DESCRIPTION:Baan 1\, Wedstrijdnummer 51\, Afdeling Overgangsklasse D
DTSTART:20190911T200000
DTEND:20190911T230000
LOCATION:City Resort Helmond
ATTACH;FMTTYPE=text/plain:https://hbb.rivio.dev/senioren/2019/wedstrijd/257
 58
END:VEVENT
BEGIN:VEVENT
UID:https://hbb.rivio.dev/senioren/2019/wedstrijd/25783
DTSTAMP:20260420T150449Z
SUMMARY:Phoenix 3 - Mierlo 5
DESCRIPTION:Baan 11\, Wedstrijdnummer 55\, Afdeling Overgangsklasse D
DTSTART:20190918T200000
DTEND:20190918T230000
LOCATION:City Resort Helmond
ATTACH;FMTTYPE=text/plain:https://hbb.rivio.dev/senioren/2019/wedstrijd/257
 83
END:VEVENT
BEGIN:VEVENT
UID:https://hbb.rivio.dev/senioren/2019/wedstrijd/25822
DTSTAMP:20260420T150449Z
SUMMARY:Mierlo 5 - Bakel 1
DESCRIPTION:Baan 10\, Wedstrijdnummer 56\, Afdeling Overgangsklasse D
DTSTART:20191002T200000
DTEND:20191002T230000
LOCATION:City Resort Helmond
ATTACH;FMTTYPE=text/plain:https://hbb.rivio.dev/senioren/2019/wedstrijd/258
 22
END:VEVENT
BEGIN:VEVENT
UID:https://hbb.rivio.dev/senioren/2019/wedstrijd/25883
DTSTAMP:20260420T150449Z
SUMMARY:Mierlo 4 - Mierlo 5
DESCRIPTION:Baan 11\, Wedstrijdnummer 3012\, Afdeling Overgangsklasse K
DTSTART:20191030T200000
DTEND:20191030T230000
LOCATION:City Resort Helmond
ATTACH;FMTTYPE=text/plain:https://hbb.rivio.dev/senioren/2019/wedstrijd/258
 83
END:VEVENT
BEGIN:VEVENT
UID:https://hbb.rivio.dev/senioren/2019/wedstrijd/25905
DTSTAMP:20260420T150449Z
SUMMARY:Mixed 2 - Mierlo 5
DESCRIPTION:Baan 13\, Wedstrijdnummer 60\, Afdeling Overgangsklasse K
DTSTART:20191106T200000
DTEND:20191106T230000
LOCATION:City Resort Helmond
ATTACH;FMTTYPE=text/plain:https://hbb.rivio.dev/senioren/2019/wedstrijd/259
 05
END:VEVENT
BEGIN:VEVENT
UID:https://hbb.rivio.dev/senioren/2019/wedstrijd/25939
DTSTAMP:20260420T150449Z
SUMMARY:Mierlo 5 - Con Brio 4
DESCRIPTION:Baan 2\, Wedstrijdnummer 64\, Afdeling Overgangsklasse D
DTSTART:20191120T200000
DTEND:20191120T230000
LOCATION:City Resort Helmond
ATTACH;FMTTYPE=text/plain:https://hbb.rivio.dev/senioren/2019/wedstrijd/259
 39
END:VEVENT
BEGIN:VEVENT
UID:https://hbb.rivio.dev/senioren/2019/wedstrijd/25972
DTSTAMP:20260420T150449Z
SUMMARY:Eindhoven 1 - Mierlo 5
DESCRIPTION:Baan 5\, Wedstrijdnummer 1051\, Afdeling Overgangsklasse D
DTSTART:20191128T200000
DTEND:20191128T230000
LOCATION:City Resort Helmond
ATTACH;FMTTYPE=text/plain:https://hbb.rivio.dev/senioren/2019/wedstrijd/259
 72
END:VEVENT
BEGIN:VEVENT
UID:https://hbb.rivio.dev/senioren/2019/wedstrijd/25991
DTSTAMP:20260420T150449Z
SUMMARY:Mierlo 5 - Phoenix 3
DESCRIPTION:Baan 4\, Wedstrijdnummer 1055\, Afdeling Overgangsklasse D
DTSTART:20191211T200000
DTEND:20191211T230000
LOCATION:City Resort Helmond
ATTACH;FMTTYPE=text/plain:https://hbb.rivio.dev/senioren/2019/wedstrijd/259
 91
END:VEVENT
BEGIN:VEVENT
UID:https://hbb.rivio.dev/senioren/2019/wedstrijd/26050
DTSTAMP:20260420T150449Z
SUMMARY:Bakel 1 - Mierlo 5
DESCRIPTION:Baan 1\, Wedstrijdnummer 1056\, Afdeling Overgangsklasse K
DTSTART:20200116T200000
DTEND:20200116T230000
LOCATION:City Resort Helmond
ATTACH;FMTTYPE=text/plain:https://hbb.rivio.dev/senioren/2019/wedstrijd/260
 50
END:VEVENT
BEGIN:VEVENT
UID:https://hbb.rivio.dev/senioren/2019/wedstrijd/26094
DTSTAMP:20260420T150449Z
SUMMARY:Mierlo 5 - Mixed 2
DESCRIPTION:Baan 3\, Wedstrijdnummer 1060\, Afdeling Overgangsklasse D
DTSTART:20200205T200000
DTEND:20200205T230000
LOCATION:City Resort Helmond
ATTACH;FMTTYPE=text/plain:https://hbb.rivio.dev/senioren/2019/wedstrijd/260
 94
END:VEVENT
BEGIN:VEVENT
UID:https://hbb.rivio.dev/senioren/2019/wedstrijd/26119
DTSTAMP:20260420T150450Z
SUMMARY:Con Brio 4 - Mierlo 5
DESCRIPTION:Baan 13\, Wedstrijdnummer 1064\, Afdeling Overgangsklasse K
DTSTART:20200212T200000
DTEND:20200212T230000
LOCATION:City Resort Helmond
ATTACH;FMTTYPE=text/plain:https://hbb.rivio.dev/senioren/2019/wedstrijd/261
 19
END:VEVENT
BEGIN:VEVENT
UID:https://hbb.rivio.dev/senioren/2019/wedstrijd/26362
DTSTAMP:20260420T150450Z
SUMMARY:Con Brio 5 - Mierlo 5
DESCRIPTION:Baan 11\, Wedstrijdnummer 2005\, Afdeling Overgangsklasse D
DTSTART:20200304T200000
DTEND:20200304T230000
LOCATION:City Resort Helmond
ATTACH;FMTTYPE=text/plain:https://hbb.rivio.dev/senioren/2019/wedstrijd/263
 62
END:VEVENT
BEGIN:VEVENT
UID:https://hbb.rivio.dev/senioren/2019/wedstrijd/26368
DTSTAMP:20260420T150450Z
SUMMARY:Phoenix 2 - Mierlo 5
DESCRIPTION:Baan 10\, Wedstrijdnummer 2011\, Afdeling Overgangsklasse D
DTSTART:20200318T200000
DTEND:20200318T230000
LOCATION:City Resort Helmond
ATTACH;FMTTYPE=text/plain:https://hbb.rivio.dev/senioren/2019/wedstrijd/263
 68
END:VEVENT
BEGIN:VEVENT
UID:https://hbb.rivio.dev/senioren/2019/wedstrijd/26373
DTSTAMP:20260420T150450Z
SUMMARY:Mierlo 5 - Brabantia 2
DESCRIPTION:Baan 14\, Wedstrijdnummer 2016\, Afdeling Overgangsklasse D
DTSTART:20200325T200000
DTEND:20200325T230000
LOCATION:City Resort Helmond
ATTACH;FMTTYPE=text/plain:https://hbb.rivio.dev/senioren/2019/wedstrijd/263
 73
END:VEVENT
BEGIN:VEVENT
UID:https://hbb.rivio.dev/senioren/2019/wedstrijd/26378
DTSTAMP:20260420T150450Z
SUMMARY:Mierlo 5 - Phoenix 3
DESCRIPTION:Baan 12\, Wedstrijdnummer 2021\, Afdeling Overgangsklasse D
DTSTART:20200415T200000
DTEND:20200415T230000
LOCATION:City Resort Helmond
ATTACH;FMTTYPE=text/plain:https://hbb.rivio.dev/senioren/2019/wedstrijd/263
 78
END:VEVENT
BEGIN:VEVENT
UID:https://hbb.rivio.dev/senioren/2019/wedstrijd/26386
DTSTAMP:20260420T150450Z
SUMMARY:Mierlo 5 - Eindhoven 1
DESCRIPTION:Baan 15\, Wedstrijdnummer 2029\, Afdeling Overgangsklasse D
DTSTART:20200520T200000
DTEND:20200520T230000
LOCATION:City Resort Helmond
ATTACH;FMTTYPE=text/plain:https://hbb.rivio.dev/senioren/2019/wedstrijd/263
 86
END:VEVENT
BEGIN:VTIMEZONE
TZID:Europe/Amsterdam
BEGIN:STANDARD
DTSTART:20190101T000000
TZNAME:CET
TZOFFSETTO:+0100
TZOFFSETFROM:+0100
END:STANDARD
BEGIN:DAYLIGHT
DTSTART:20190331T030000
TZNAME:CEST
TZOFFSETTO:+0200
TZOFFSETFROM:+0100
END:DAYLIGHT
BEGIN:STANDARD
DTSTART:20191027T020000
TZNAME:CET
TZOFFSETTO:+0100
TZOFFSETFROM:+0200
END:STANDARD
BEGIN:DAYLIGHT
DTSTART:20200329T030000
TZNAME:CEST
TZOFFSETTO:+0200
TZOFFSETFROM:+0100
END:DAYLIGHT
BEGIN:STANDARD
DTSTART:20201025T020000
TZNAME:CET
TZOFFSETTO:+0100
TZOFFSETFROM:+0200
END:STANDARD
END:VTIMEZONE
END:VCALENDAR
