BEGIN:VCALENDAR
PRODID:-//eluceo/ical//2.0/EN
VERSION:2.0
CALSCALE:GREGORIAN
BEGIN:VEVENT
UID:https://hbb.rivio.dev/senioren/2019/wedstrijd/25778
DTSTAMP:20260420T133229Z
SUMMARY:Mierlo 1 - Mierlo 2
DESCRIPTION:Baan 1\, Wedstrijdnummer 2\, Afdeling Topklasse 
DTSTART:20190918T200000
DTEND:20190918T230000
LOCATION:City Resort Helmond
ATTACH;FMTTYPE=text/plain:https://hbb.rivio.dev/senioren/2019/wedstrijd/257
 78
END:VEVENT
BEGIN:VEVENT
UID:https://hbb.rivio.dev/senioren/2019/wedstrijd/25818
DTSTAMP:20260420T133229Z
SUMMARY:Mierlo 2 - Ganzeveer 1
DESCRIPTION:Baan 1\, Wedstrijdnummer 5\, Afdeling Topklasse 
DTSTART:20191002T200000
DTEND:20191002T230000
LOCATION:City Resort Helmond
ATTACH;FMTTYPE=text/plain:https://hbb.rivio.dev/senioren/2019/wedstrijd/258
 18
END:VEVENT
BEGIN:VEVENT
UID:https://hbb.rivio.dev/senioren/2019/wedstrijd/25871
DTSTAMP:20260420T133229Z
SUMMARY:Brabantia 1 - Mierlo 2
DESCRIPTION:Baan 4\, Wedstrijdnummer 9\, Afdeling Topklasse 
DTSTART:20191024T200000
DTEND:20191024T230000
LOCATION:City Resort Helmond
ATTACH;FMTTYPE=text/plain:https://hbb.rivio.dev/senioren/2019/wedstrijd/258
 71
END:VEVENT
BEGIN:VEVENT
UID:https://hbb.rivio.dev/senioren/2019/wedstrijd/25911
DTSTAMP:20260420T133229Z
SUMMARY:Mierlo 2 - BCAB 1
DESCRIPTION:Baan 4\, Wedstrijdnummer 12\, Afdeling Topklasse 
DTSTART:20191107T200000
DTEND:20191107T230000
LOCATION:City Resort Helmond
ATTACH;FMTTYPE=text/plain:https://hbb.rivio.dev/senioren/2019/wedstrijd/259
 11
END:VEVENT
BEGIN:VEVENT
UID:https://hbb.rivio.dev/senioren/2019/wedstrijd/25985
DTSTAMP:20260420T133229Z
SUMMARY:Con Brio 2 - Mierlo 2
DESCRIPTION:Baan 13\, Wedstrijdnummer 18\, Afdeling Topklasse 
DTSTART:20191204T200000
DTEND:20191204T230000
LOCATION:City Resort Helmond
ATTACH;FMTTYPE=text/plain:https://hbb.rivio.dev/senioren/2019/wedstrijd/259
 85
END:VEVENT
BEGIN:VEVENT
UID:https://hbb.rivio.dev/senioren/2019/wedstrijd/26015
DTSTAMP:20260420T133229Z
SUMMARY:Mierlo 2 - Con Brio 1
DESCRIPTION:Baan 13\, Wedstrijdnummer 21\, Afdeling Topklasse 
DTSTART:20191218T200000
DTEND:20191218T230000
LOCATION:City Resort Helmond
ATTACH;FMTTYPE=text/plain:https://hbb.rivio.dev/senioren/2019/wedstrijd/260
 15
END:VEVENT
BEGIN:VEVENT
UID:https://hbb.rivio.dev/senioren/2019/wedstrijd/26045
DTSTAMP:20260420T133229Z
SUMMARY:Mierlo 2 - Con Brio 1
DESCRIPTION:Baan 2\, Wedstrijdnummer 3001\, Afdeling Topklasse 
DTSTART:20200115T200000
DTEND:20200115T230000
LOCATION:City Resort Helmond
ATTACH;FMTTYPE=text/plain:https://hbb.rivio.dev/senioren/2019/wedstrijd/260
 45
END:VEVENT
BEGIN:VEVENT
UID:https://hbb.rivio.dev/senioren/2019/wedstrijd/26080
DTSTAMP:20260420T133229Z
SUMMARY:Mierlo 2 - Mierlo 1
DESCRIPTION:Baan 14\, Wedstrijdnummer 1002\, Afdeling Topklasse 
DTSTART:20200129T200000
DTEND:20200129T230000
LOCATION:City Resort Helmond
ATTACH;FMTTYPE=text/plain:https://hbb.rivio.dev/senioren/2019/wedstrijd/260
 80
END:VEVENT
BEGIN:VEVENT
UID:https://hbb.rivio.dev/senioren/2019/wedstrijd/26113
DTSTAMP:20260420T133229Z
SUMMARY:Ganzeveer 1 - Mierlo 2
DESCRIPTION:Baan 2\, Wedstrijdnummer 1005\, Afdeling Topklasse 
DTSTART:20200212T200000
DTEND:20200212T230000
LOCATION:City Resort Helmond
ATTACH;FMTTYPE=text/plain:https://hbb.rivio.dev/senioren/2019/wedstrijd/261
 13
END:VEVENT
BEGIN:VEVENT
UID:https://hbb.rivio.dev/senioren/2019/wedstrijd/26142
DTSTAMP:20260420T133229Z
SUMMARY:Mierlo 2 - Brabantia 1
DESCRIPTION:Baan 14\, Wedstrijdnummer 1009\, Afdeling Topklasse 
DTSTART:20200219T200000
DTEND:20200219T230000
LOCATION:City Resort Helmond
ATTACH;FMTTYPE=text/plain:https://hbb.rivio.dev/senioren/2019/wedstrijd/261
 42
END:VEVENT
BEGIN:VEVENT
UID:https://hbb.rivio.dev/senioren/2019/wedstrijd/26185
DTSTAMP:20260420T133229Z
SUMMARY:BCAB 1 - Mierlo 2
DESCRIPTION:Baan 4\, Wedstrijdnummer 1012\, Afdeling Topklasse 
DTSTART:20200312T200000
DTEND:20200312T230000
LOCATION:City Resort Helmond
ATTACH;FMTTYPE=text/plain:https://hbb.rivio.dev/senioren/2019/wedstrijd/261
 85
END:VEVENT
BEGIN:VEVENT
UID:https://hbb.rivio.dev/senioren/2019/wedstrijd/26238
DTSTAMP:20260420T133229Z
SUMMARY:Mierlo 2 - Con Brio 2
DESCRIPTION:Baan 2\, Wedstrijdnummer 1018\, Afdeling Topklasse 
DTSTART:20200415T200000
DTEND:20200415T230000
LOCATION:City Resort Helmond
ATTACH;FMTTYPE=text/plain:https://hbb.rivio.dev/senioren/2019/wedstrijd/262
 38
END:VEVENT
BEGIN:VEVENT
UID:https://hbb.rivio.dev/senioren/2019/wedstrijd/26272
DTSTAMP:20260420T133229Z
SUMMARY:Con Brio 1 - Mierlo 2
DESCRIPTION:Baan 2\, Wedstrijdnummer 1021\, Afdeling Topklasse 
DTSTART:20200520T200000
DTEND:20200520T230000
LOCATION:City Resort Helmond
ATTACH;FMTTYPE=text/plain:https://hbb.rivio.dev/senioren/2019/wedstrijd/262
 72
END:VEVENT
BEGIN:VTIMEZONE
TZID:Europe/Amsterdam
BEGIN:STANDARD
DTSTART:20190101T000000
TZNAME:CET
TZOFFSETTO:+0100
TZOFFSETFROM:+0100
END:STANDARD
BEGIN:DAYLIGHT
DTSTART:20190331T030000
TZNAME:CEST
TZOFFSETTO:+0200
TZOFFSETFROM:+0100
END:DAYLIGHT
BEGIN:STANDARD
DTSTART:20191027T020000
TZNAME:CET
TZOFFSETTO:+0100
TZOFFSETFROM:+0200
END:STANDARD
BEGIN:DAYLIGHT
DTSTART:20200329T030000
TZNAME:CEST
TZOFFSETTO:+0200
TZOFFSETFROM:+0100
END:DAYLIGHT
BEGIN:STANDARD
DTSTART:20201025T020000
TZNAME:CET
TZOFFSETTO:+0100
TZOFFSETFROM:+0200
END:STANDARD
END:VTIMEZONE
END:VCALENDAR
