BEGIN:VCALENDAR
PRODID:-//eluceo/ical//2.0/EN
VERSION:2.0
CALSCALE:GREGORIAN
BEGIN:VEVENT
UID:https://hbb.rivio.dev/jeugd/2019/wedstrijd/25015
DTSTAMP:20260420T200543Z
SUMMARY:Bakel 4 - Mixed 4
DESCRIPTION:Baan 11\, Afdeling G-klasse 
DTSTART:20191006T144500
DTEND:20191006T160000
LOCATION:City Resort Helmond
ATTACH;FMTTYPE=text/plain:https://hbb.rivio.dev/jeugd/2019/wedstrijd/25015
END:VEVENT
BEGIN:VEVENT
UID:https://hbb.rivio.dev/jeugd/2019/wedstrijd/25048
DTSTAMP:20260420T200543Z
SUMMARY:Bakel 4 - Mierlo 10
DESCRIPTION:Baan 12\, Afdeling G-klasse 
DTSTART:20191110T111500
DTEND:20191110T130000
LOCATION:City Resort Helmond
ATTACH;FMTTYPE=text/plain:https://hbb.rivio.dev/jeugd/2019/wedstrijd/25048
END:VEVENT
BEGIN:VEVENT
UID:https://hbb.rivio.dev/jeugd/2019/wedstrijd/25046
DTSTAMP:20260420T200543Z
SUMMARY:Mixed 5 - Bakel 4
DESCRIPTION:Baan 14\, Afdeling H-klasse 
DTSTART:20191110T093000
DTEND:20191110T111500
LOCATION:City Resort Helmond
ATTACH;FMTTYPE=text/plain:https://hbb.rivio.dev/jeugd/2019/wedstrijd/25046
END:VEVENT
BEGIN:VEVENT
UID:https://hbb.rivio.dev/jeugd/2019/wedstrijd/25087
DTSTAMP:20260420T200543Z
SUMMARY:Bakel 4 - Phoenix 5
DESCRIPTION:Baan 14\, Afdeling G-klasse 
DTSTART:20191124T093000
DTEND:20191124T111500
LOCATION:City Resort Helmond
ATTACH;FMTTYPE=text/plain:https://hbb.rivio.dev/jeugd/2019/wedstrijd/25087
END:VEVENT
BEGIN:VEVENT
UID:https://hbb.rivio.dev/jeugd/2019/wedstrijd/25090
DTSTAMP:20260420T200543Z
SUMMARY:Con Brio 1 - Bakel 4
DESCRIPTION:Baan 13\, Afdeling H-klasse 
DTSTART:20191124T111500
DTEND:20191124T130000
LOCATION:City Resort Helmond
ATTACH;FMTTYPE=text/plain:https://hbb.rivio.dev/jeugd/2019/wedstrijd/25090
END:VEVENT
BEGIN:VEVENT
UID:https://hbb.rivio.dev/jeugd/2019/wedstrijd/25121
DTSTAMP:20260420T200543Z
SUMMARY:Bakel 4 - Hanevoet 3
DESCRIPTION:Baan 13\, Afdeling G-klasse 
DTSTART:20191208T111500
DTEND:20191208T130000
LOCATION:City Resort Helmond
ATTACH;FMTTYPE=text/plain:https://hbb.rivio.dev/jeugd/2019/wedstrijd/25121
END:VEVENT
BEGIN:VEVENT
UID:https://hbb.rivio.dev/jeugd/2019/wedstrijd/25116
DTSTAMP:20260420T200543Z
SUMMARY:Ganzeveer 1 - Bakel 4
DESCRIPTION:Baan 12\, Afdeling G-klasse 
DTSTART:20191208T093000
DTEND:20191208T111500
LOCATION:City Resort Helmond
ATTACH;FMTTYPE=text/plain:https://hbb.rivio.dev/jeugd/2019/wedstrijd/25116
END:VEVENT
BEGIN:VEVENT
UID:https://hbb.rivio.dev/jeugd/2019/wedstrijd/25144
DTSTAMP:20260420T200543Z
SUMMARY:Phoenix 6 - Bakel 4
DESCRIPTION:Baan 15\, Afdeling H-klasse 
DTSTART:20191215T111500
DTEND:20191215T130000
LOCATION:City Resort Helmond
ATTACH;FMTTYPE=text/plain:https://hbb.rivio.dev/jeugd/2019/wedstrijd/25144
END:VEVENT
BEGIN:VEVENT
UID:https://hbb.rivio.dev/jeugd/2019/wedstrijd/26311
DTSTAMP:20260420T200543Z
SUMMARY:Bakel 4 - Ganzeveer 1
DESCRIPTION:Baan 11\, Afdeling G-klasse 
DTSTART:20200119T093000
DTEND:20200119T111500
LOCATION:City Resort Helmond
ATTACH;FMTTYPE=text/plain:https://hbb.rivio.dev/jeugd/2019/wedstrijd/26311
END:VEVENT
BEGIN:VEVENT
UID:https://hbb.rivio.dev/jeugd/2019/wedstrijd/26313
DTSTAMP:20260420T200543Z
SUMMARY:Mierlo 10 - Bakel 4
DESCRIPTION:Baan 11\, Afdeling G-klasse 
DTSTART:20200119T111500
DTEND:20200119T130000
LOCATION:City Resort Helmond
ATTACH;FMTTYPE=text/plain:https://hbb.rivio.dev/jeugd/2019/wedstrijd/26313
END:VEVENT
BEGIN:VEVENT
UID:https://hbb.rivio.dev/jeugd/2019/wedstrijd/26327
DTSTAMP:20260420T200543Z
SUMMARY:Hanevoet 3 - Bakel 4
DESCRIPTION:Baan 11\, Afdeling G-klasse 
DTSTART:20200308T093000
DTEND:20200308T111500
LOCATION:City Resort Helmond
ATTACH;FMTTYPE=text/plain:https://hbb.rivio.dev/jeugd/2019/wedstrijd/26327
END:VEVENT
BEGIN:VEVENT
UID:https://hbb.rivio.dev/jeugd/2019/wedstrijd/26329
DTSTAMP:20260420T200543Z
SUMMARY:Phoenix 5 - Bakel 4
DESCRIPTION:Baan 11\, Afdeling G-klasse 
DTSTART:20200308T111500
DTEND:20200308T130000
LOCATION:City Resort Helmond
ATTACH;FMTTYPE=text/plain:https://hbb.rivio.dev/jeugd/2019/wedstrijd/26329
END:VEVENT
BEGIN:VEVENT
UID:https://hbb.rivio.dev/jeugd/2019/wedstrijd/26338
DTSTAMP:20260420T200543Z
SUMMARY:Bakel 4 - Hanevoet 3
DESCRIPTION:Baan 12\, Afdeling G-klasse 
DTSTART:20200322T111500
DTEND:20200322T130000
LOCATION:City Resort Helmond
ATTACH;FMTTYPE=text/plain:https://hbb.rivio.dev/jeugd/2019/wedstrijd/26338
END:VEVENT
BEGIN:VEVENT
UID:https://hbb.rivio.dev/jeugd/2019/wedstrijd/26336
DTSTAMP:20260420T200543Z
SUMMARY:Ganzeveer 1 - Bakel 4
DESCRIPTION:Baan 12\, Afdeling G-klasse 
DTSTART:20200322T093000
DTEND:20200322T111500
LOCATION:City Resort Helmond
ATTACH;FMTTYPE=text/plain:https://hbb.rivio.dev/jeugd/2019/wedstrijd/26336
END:VEVENT
BEGIN:VEVENT
UID:https://hbb.rivio.dev/jeugd/2019/wedstrijd/26339
DTSTAMP:20260420T200543Z
SUMMARY:Bakel 4 - Mierlo 10
DESCRIPTION:Baan 9\, Afdeling G-klasse 
DTSTART:20200329T093000
DTEND:20200329T111500
LOCATION:City Resort Helmond
ATTACH;FMTTYPE=text/plain:https://hbb.rivio.dev/jeugd/2019/wedstrijd/26339
END:VEVENT
BEGIN:VEVENT
UID:https://hbb.rivio.dev/jeugd/2019/wedstrijd/26341
DTSTAMP:20260420T200543Z
SUMMARY:Bakel 4 - Phoenix 5
DESCRIPTION:Baan 9\, Afdeling G-klasse 
DTSTART:20200329T111500
DTEND:20200329T130000
LOCATION:City Resort Helmond
ATTACH;FMTTYPE=text/plain:https://hbb.rivio.dev/jeugd/2019/wedstrijd/26341
END:VEVENT
BEGIN:VTIMEZONE
TZID:Europe/Amsterdam
BEGIN:STANDARD
DTSTART:20190101T000000
TZNAME:CET
TZOFFSETTO:+0100
TZOFFSETFROM:+0100
END:STANDARD
BEGIN:DAYLIGHT
DTSTART:20190331T030000
TZNAME:CEST
TZOFFSETTO:+0200
TZOFFSETFROM:+0100
END:DAYLIGHT
BEGIN:STANDARD
DTSTART:20191027T020000
TZNAME:CET
TZOFFSETTO:+0100
TZOFFSETFROM:+0200
END:STANDARD
BEGIN:DAYLIGHT
DTSTART:20200329T030000
TZNAME:CEST
TZOFFSETTO:+0200
TZOFFSETFROM:+0100
END:DAYLIGHT
BEGIN:STANDARD
DTSTART:20201025T020000
TZNAME:CET
TZOFFSETTO:+0100
TZOFFSETFROM:+0200
END:STANDARD
END:VTIMEZONE
END:VCALENDAR
