BEGIN:VCALENDAR
PRODID:-//eluceo/ical//2.0/EN
VERSION:2.0
CALSCALE:GREGORIAN
BEGIN:VEVENT
UID:https://hbb.rivio.dev/senioren/2019/wedstrijd/25759
DTSTAMP:20260420T090418Z
SUMMARY:Con Brio 4 - Phoenix 3
DESCRIPTION:Baan 2\, Wedstrijdnummer 52\, Afdeling Overgangsklasse K
DTSTART:20190911T200000
DTEND:20190911T230000
LOCATION:City Resort Helmond
ATTACH;FMTTYPE=text/plain:https://hbb.rivio.dev/senioren/2019/wedstrijd/257
 59
END:VEVENT
BEGIN:VEVENT
UID:https://hbb.rivio.dev/senioren/2019/wedstrijd/25783
DTSTAMP:20260420T090418Z
SUMMARY:Phoenix 3 - Mierlo 5
DESCRIPTION:Baan 11\, Wedstrijdnummer 55\, Afdeling Overgangsklasse D
DTSTART:20190918T200000
DTEND:20190918T230000
LOCATION:City Resort Helmond
ATTACH;FMTTYPE=text/plain:https://hbb.rivio.dev/senioren/2019/wedstrijd/257
 83
END:VEVENT
BEGIN:VEVENT
UID:https://hbb.rivio.dev/senioren/2019/wedstrijd/25836
DTSTAMP:20260420T090418Z
SUMMARY:Eindhoven 1 - Phoenix 3
DESCRIPTION:Baan 14\, Wedstrijdnummer 58\, Afdeling Overgangsklasse D
DTSTART:20191003T200000
DTEND:20191003T230000
LOCATION:City Resort Helmond
ATTACH;FMTTYPE=text/plain:https://hbb.rivio.dev/senioren/2019/wedstrijd/258
 36
END:VEVENT
BEGIN:VEVENT
UID:https://hbb.rivio.dev/senioren/2019/wedstrijd/25867
DTSTAMP:20260420T090418Z
SUMMARY:Phoenix 3 - Bakel 1
DESCRIPTION:Baan 15\, Wedstrijdnummer 59\, Afdeling Overgangsklasse D
DTSTART:20191023T200000
DTEND:20191023T230000
LOCATION:City Resort Helmond
ATTACH;FMTTYPE=text/plain:https://hbb.rivio.dev/senioren/2019/wedstrijd/258
 67
END:VEVENT
BEGIN:VEVENT
UID:https://hbb.rivio.dev/senioren/2019/wedstrijd/25881
DTSTAMP:20260420T090418Z
SUMMARY:Brabantia 2 - Phoenix 3
DESCRIPTION:Baan 4\, Wedstrijdnummer 3010\, Afdeling Overgangsklasse D
DTSTART:20191030T200000
DTEND:20191030T230000
LOCATION:City Resort Helmond
ATTACH;FMTTYPE=text/plain:https://hbb.rivio.dev/senioren/2019/wedstrijd/258
 81
END:VEVENT
BEGIN:VEVENT
UID:https://hbb.rivio.dev/senioren/2019/wedstrijd/25938
DTSTAMP:20260420T090418Z
SUMMARY:Mixed 2 - Phoenix 3
DESCRIPTION:Baan 1\, Wedstrijdnummer 63\, Afdeling Overgangsklasse K
DTSTART:20191120T200000
DTEND:20191120T230000
LOCATION:City Resort Helmond
ATTACH;FMTTYPE=text/plain:https://hbb.rivio.dev/senioren/2019/wedstrijd/259
 38
END:VEVENT
BEGIN:VEVENT
UID:https://hbb.rivio.dev/senioren/2019/wedstrijd/25963
DTSTAMP:20260420T090418Z
SUMMARY:Phoenix 3 - Con Brio 4
DESCRIPTION:Baan 11\, Wedstrijdnummer 1052\, Afdeling Overgangsklasse D
DTSTART:20191127T200000
DTEND:20191127T230000
LOCATION:City Resort Helmond
ATTACH;FMTTYPE=text/plain:https://hbb.rivio.dev/senioren/2019/wedstrijd/259
 63
END:VEVENT
BEGIN:VEVENT
UID:https://hbb.rivio.dev/senioren/2019/wedstrijd/25991
DTSTAMP:20260420T090418Z
SUMMARY:Mierlo 5 - Phoenix 3
DESCRIPTION:Baan 4\, Wedstrijdnummer 1055\, Afdeling Overgangsklasse D
DTSTART:20191211T200000
DTEND:20191211T230000
LOCATION:City Resort Helmond
ATTACH;FMTTYPE=text/plain:https://hbb.rivio.dev/senioren/2019/wedstrijd/259
 91
END:VEVENT
BEGIN:VEVENT
UID:https://hbb.rivio.dev/senioren/2019/wedstrijd/26016
DTSTAMP:20260420T090418Z
SUMMARY:Phoenix 3 - Eindhoven 1
DESCRIPTION:Baan 14\, Wedstrijdnummer 1058\, Afdeling Overgangsklasse D
DTSTART:20191218T200000
DTEND:20191218T230000
LOCATION:City Resort Helmond
ATTACH;FMTTYPE=text/plain:https://hbb.rivio.dev/senioren/2019/wedstrijd/260
 16
END:VEVENT
BEGIN:VEVENT
UID:https://hbb.rivio.dev/senioren/2019/wedstrijd/26085
DTSTAMP:20260420T090418Z
SUMMARY:Bakel 1 - Phoenix 3
DESCRIPTION:Baan 4\, Wedstrijdnummer 1059\, Afdeling Overgangsklasse K
DTSTART:20200130T200000
DTEND:20200130T230000
LOCATION:City Resort Helmond
ATTACH;FMTTYPE=text/plain:https://hbb.rivio.dev/senioren/2019/wedstrijd/260
 85
END:VEVENT
BEGIN:VEVENT
UID:https://hbb.rivio.dev/senioren/2019/wedstrijd/26118
DTSTAMP:20260420T090418Z
SUMMARY:Phoenix 3 - Mixed 2
DESCRIPTION:Baan 12\, Wedstrijdnummer 1063\, Afdeling Overgangsklasse D
DTSTART:20200212T200000
DTEND:20200212T230000
LOCATION:City Resort Helmond
ATTACH;FMTTYPE=text/plain:https://hbb.rivio.dev/senioren/2019/wedstrijd/261
 18
END:VEVENT
BEGIN:VEVENT
UID:https://hbb.rivio.dev/senioren/2019/wedstrijd/26361
DTSTAMP:20260420T090418Z
SUMMARY:Phoenix 3 - Phoenix 2
DESCRIPTION:Baan 10\, Wedstrijdnummer 2004\, Afdeling Overgangsklasse D
DTSTART:20200304T200000
DTEND:20200304T230000
LOCATION:City Resort Helmond
ATTACH;FMTTYPE=text/plain:https://hbb.rivio.dev/senioren/2019/wedstrijd/263
 61
END:VEVENT
BEGIN:VEVENT
UID:https://hbb.rivio.dev/senioren/2019/wedstrijd/26366
DTSTAMP:20260420T090418Z
SUMMARY:Eindhoven 1 - Phoenix 3
DESCRIPTION:Baan 4\, Wedstrijdnummer 2009\, Afdeling Overgangsklasse D
DTSTART:20200318T200000
DTEND:20200318T230000
LOCATION:City Resort Helmond
ATTACH;FMTTYPE=text/plain:https://hbb.rivio.dev/senioren/2019/wedstrijd/263
 66
END:VEVENT
BEGIN:VEVENT
UID:https://hbb.rivio.dev/senioren/2019/wedstrijd/26372
DTSTAMP:20260420T090418Z
SUMMARY:Phoenix 3 - Con Brio 5
DESCRIPTION:Baan 13\, Wedstrijdnummer 2015\, Afdeling Overgangsklasse D
DTSTART:20200325T200000
DTEND:20200325T230000
LOCATION:City Resort Helmond
ATTACH;FMTTYPE=text/plain:https://hbb.rivio.dev/senioren/2019/wedstrijd/263
 72
END:VEVENT
BEGIN:VEVENT
UID:https://hbb.rivio.dev/senioren/2019/wedstrijd/26378
DTSTAMP:20260420T090418Z
SUMMARY:Mierlo 5 - Phoenix 3
DESCRIPTION:Baan 12\, Wedstrijdnummer 2021\, Afdeling Overgangsklasse D
DTSTART:20200415T200000
DTEND:20200415T230000
LOCATION:City Resort Helmond
ATTACH;FMTTYPE=text/plain:https://hbb.rivio.dev/senioren/2019/wedstrijd/263
 78
END:VEVENT
BEGIN:VEVENT
UID:https://hbb.rivio.dev/senioren/2019/wedstrijd/26384
DTSTAMP:20260420T090418Z
SUMMARY:Phoenix 3 - Brabantia 2
DESCRIPTION:Baan 13\, Wedstrijdnummer 2027\, Afdeling Overgangsklasse D
DTSTART:20200520T200000
DTEND:20200520T230000
LOCATION:City Resort Helmond
ATTACH;FMTTYPE=text/plain:https://hbb.rivio.dev/senioren/2019/wedstrijd/263
 84
END:VEVENT
BEGIN:VTIMEZONE
TZID:Europe/Amsterdam
BEGIN:STANDARD
DTSTART:20190101T000000
TZNAME:CET
TZOFFSETTO:+0100
TZOFFSETFROM:+0100
END:STANDARD
BEGIN:DAYLIGHT
DTSTART:20190331T030000
TZNAME:CEST
TZOFFSETTO:+0200
TZOFFSETFROM:+0100
END:DAYLIGHT
BEGIN:STANDARD
DTSTART:20191027T020000
TZNAME:CET
TZOFFSETTO:+0100
TZOFFSETFROM:+0200
END:STANDARD
BEGIN:DAYLIGHT
DTSTART:20200329T030000
TZNAME:CEST
TZOFFSETTO:+0200
TZOFFSETFROM:+0100
END:DAYLIGHT
BEGIN:STANDARD
DTSTART:20201025T020000
TZNAME:CET
TZOFFSETTO:+0100
TZOFFSETFROM:+0200
END:STANDARD
END:VTIMEZONE
END:VCALENDAR
