BEGIN:VCALENDAR
PRODID:-//eluceo/ical//2.0/EN
VERSION:2.0
CALSCALE:GREGORIAN
BEGIN:VEVENT
UID:https://hbb.rivio.dev/senioren/2019/wedstrijd/25780
DTSTAMP:20260420T164244Z
SUMMARY:Phoenix 2 - Brabantia 2
DESCRIPTION:Baan 3\, Wedstrijdnummer 65\, Afdeling Overgangsklasse D
DTSTART:20190918T200000
DTEND:20190918T230000
LOCATION:City Resort Helmond
ATTACH;FMTTYPE=text/plain:https://hbb.rivio.dev/senioren/2019/wedstrijd/257
 80
END:VEVENT
BEGIN:VEVENT
UID:https://hbb.rivio.dev/senioren/2019/wedstrijd/25819
DTSTAMP:20260420T164244Z
SUMMARY:Mixed 3 - Phoenix 2
DESCRIPTION:Baan 2\, Wedstrijdnummer 68\, Afdeling Overgangsklasse K
DTSTART:20191002T200000
DTEND:20191002T230000
LOCATION:City Resort Helmond
ATTACH;FMTTYPE=text/plain:https://hbb.rivio.dev/senioren/2019/wedstrijd/258
 19
END:VEVENT
BEGIN:VEVENT
UID:https://hbb.rivio.dev/senioren/2019/wedstrijd/25846
DTSTAMP:20260420T164244Z
SUMMARY:Mierlo 4 - Phoenix 2
DESCRIPTION:Baan 14\, Wedstrijdnummer 71\, Afdeling Overgangsklasse K
DTSTART:20191009T200000
DTEND:20191009T230000
LOCATION:City Resort Helmond
ATTACH;FMTTYPE=text/plain:https://hbb.rivio.dev/senioren/2019/wedstrijd/258
 46
END:VEVENT
BEGIN:VEVENT
UID:https://hbb.rivio.dev/senioren/2019/wedstrijd/25880
DTSTAMP:20260420T164244Z
SUMMARY:Con Brio 4 - Phoenix 2
DESCRIPTION:Baan 3\, Wedstrijdnummer 3009\, Afdeling Overgangsklasse K
DTSTART:20191030T200000
DTEND:20191030T230000
LOCATION:City Resort Helmond
ATTACH;FMTTYPE=text/plain:https://hbb.rivio.dev/senioren/2019/wedstrijd/258
 80
END:VEVENT
BEGIN:VEVENT
UID:https://hbb.rivio.dev/senioren/2019/wedstrijd/25912
DTSTAMP:20260420T164244Z
SUMMARY:RBC 1 - Phoenix 2
DESCRIPTION:Baan 5\, Wedstrijdnummer 74\, Afdeling Overgangsklasse K
DTSTART:20191107T200000
DTEND:20191107T230000
LOCATION:City Resort Helmond
ATTACH;FMTTYPE=text/plain:https://hbb.rivio.dev/senioren/2019/wedstrijd/259
 12
END:VEVENT
BEGIN:VEVENT
UID:https://hbb.rivio.dev/senioren/2019/wedstrijd/25960
DTSTAMP:20260420T164244Z
SUMMARY:Phoenix 2 - Con Brio 5
DESCRIPTION:Baan 3\, Wedstrijdnummer 77\, Afdeling Overgangsklasse D
DTSTART:20191127T200000
DTEND:20191127T230000
LOCATION:City Resort Helmond
ATTACH;FMTTYPE=text/plain:https://hbb.rivio.dev/senioren/2019/wedstrijd/259
 60
END:VEVENT
BEGIN:VEVENT
UID:https://hbb.rivio.dev/senioren/2019/wedstrijd/25986
DTSTAMP:20260420T164244Z
SUMMARY:Brabantia 2 - Phoenix 2
DESCRIPTION:Baan 14\, Wedstrijdnummer 1065\, Afdeling Overgangsklasse D
DTSTART:20191204T200000
DTEND:20191204T230000
LOCATION:City Resort Helmond
ATTACH;FMTTYPE=text/plain:https://hbb.rivio.dev/senioren/2019/wedstrijd/259
 86
END:VEVENT
BEGIN:VEVENT
UID:https://hbb.rivio.dev/senioren/2019/wedstrijd/26033
DTSTAMP:20260420T164244Z
SUMMARY:Phoenix 2 - Mixed 3
DESCRIPTION:Baan 15\, Wedstrijdnummer 1068\, Afdeling Overgangsklasse D
DTSTART:20200108T200000
DTEND:20200108T230000
LOCATION:City Resort Helmond
ATTACH;FMTTYPE=text/plain:https://hbb.rivio.dev/senioren/2019/wedstrijd/260
 33
END:VEVENT
BEGIN:VEVENT
UID:https://hbb.rivio.dev/senioren/2019/wedstrijd/26081
DTSTAMP:20260420T164244Z
SUMMARY:Phoenix 2 - Mierlo 4
DESCRIPTION:Baan 15\, Wedstrijdnummer 1071\, Afdeling Overgangsklasse D
DTSTART:20200129T200000
DTEND:20200129T230000
LOCATION:City Resort Helmond
ATTACH;FMTTYPE=text/plain:https://hbb.rivio.dev/senioren/2019/wedstrijd/260
 81
END:VEVENT
BEGIN:VEVENT
UID:https://hbb.rivio.dev/senioren/2019/wedstrijd/26114
DTSTAMP:20260420T164244Z
SUMMARY:Phoenix 2 - RBC 1
DESCRIPTION:Baan 3\, Wedstrijdnummer 1074\, Afdeling Overgangsklasse D
DTSTART:20200212T200000
DTEND:20200212T230000
LOCATION:City Resort Helmond
ATTACH;FMTTYPE=text/plain:https://hbb.rivio.dev/senioren/2019/wedstrijd/261
 14
END:VEVENT
BEGIN:VEVENT
UID:https://hbb.rivio.dev/senioren/2019/wedstrijd/26143
DTSTAMP:20260420T164244Z
SUMMARY:Con Brio 5 - Phoenix 2
DESCRIPTION:Baan 15\, Wedstrijdnummer 1077\, Afdeling Overgangsklasse D
DTSTART:20200219T200000
DTEND:20200219T230000
LOCATION:City Resort Helmond
ATTACH;FMTTYPE=text/plain:https://hbb.rivio.dev/senioren/2019/wedstrijd/261
 43
END:VEVENT
BEGIN:VEVENT
UID:https://hbb.rivio.dev/senioren/2019/wedstrijd/26361
DTSTAMP:20260420T164244Z
SUMMARY:Phoenix 3 - Phoenix 2
DESCRIPTION:Baan 10\, Wedstrijdnummer 2004\, Afdeling Overgangsklasse D
DTSTART:20200304T200000
DTEND:20200304T230000
LOCATION:City Resort Helmond
ATTACH;FMTTYPE=text/plain:https://hbb.rivio.dev/senioren/2019/wedstrijd/263
 61
END:VEVENT
BEGIN:VEVENT
UID:https://hbb.rivio.dev/senioren/2019/wedstrijd/26368
DTSTAMP:20260420T164244Z
SUMMARY:Phoenix 2 - Mierlo 5
DESCRIPTION:Baan 10\, Wedstrijdnummer 2011\, Afdeling Overgangsklasse D
DTSTART:20200318T200000
DTEND:20200318T230000
LOCATION:City Resort Helmond
ATTACH;FMTTYPE=text/plain:https://hbb.rivio.dev/senioren/2019/wedstrijd/263
 68
END:VEVENT
BEGIN:VEVENT
UID:https://hbb.rivio.dev/senioren/2019/wedstrijd/26374
DTSTAMP:20260420T164244Z
SUMMARY:Phoenix 2 - Eindhoven 1
DESCRIPTION:Baan 15\, Wedstrijdnummer 2017\, Afdeling Overgangsklasse D
DTSTART:20200325T200000
DTEND:20200325T230000
LOCATION:City Resort Helmond
ATTACH;FMTTYPE=text/plain:https://hbb.rivio.dev/senioren/2019/wedstrijd/263
 74
END:VEVENT
BEGIN:VEVENT
UID:https://hbb.rivio.dev/senioren/2019/wedstrijd/26379
DTSTAMP:20260420T164244Z
SUMMARY:Brabantia 2 - Phoenix 2
DESCRIPTION:Baan 13\, Wedstrijdnummer 2022\, Afdeling Overgangsklasse D
DTSTART:20200415T200000
DTEND:20200415T230000
LOCATION:City Resort Helmond
ATTACH;FMTTYPE=text/plain:https://hbb.rivio.dev/senioren/2019/wedstrijd/263
 79
END:VEVENT
BEGIN:VEVENT
UID:https://hbb.rivio.dev/senioren/2019/wedstrijd/26385
DTSTAMP:20260420T164244Z
SUMMARY:Con Brio 5 - Phoenix 2
DESCRIPTION:Baan 14\, Wedstrijdnummer 2028\, Afdeling Overgangsklasse D
DTSTART:20200520T200000
DTEND:20200520T230000
LOCATION:City Resort Helmond
ATTACH;FMTTYPE=text/plain:https://hbb.rivio.dev/senioren/2019/wedstrijd/263
 85
END:VEVENT
BEGIN:VTIMEZONE
TZID:Europe/Amsterdam
BEGIN:STANDARD
DTSTART:20190101T000000
TZNAME:CET
TZOFFSETTO:+0100
TZOFFSETFROM:+0100
END:STANDARD
BEGIN:DAYLIGHT
DTSTART:20190331T030000
TZNAME:CEST
TZOFFSETTO:+0200
TZOFFSETFROM:+0100
END:DAYLIGHT
BEGIN:STANDARD
DTSTART:20191027T020000
TZNAME:CET
TZOFFSETTO:+0100
TZOFFSETFROM:+0200
END:STANDARD
BEGIN:DAYLIGHT
DTSTART:20200329T030000
TZNAME:CEST
TZOFFSETTO:+0200
TZOFFSETFROM:+0100
END:DAYLIGHT
BEGIN:STANDARD
DTSTART:20201025T020000
TZNAME:CET
TZOFFSETTO:+0100
TZOFFSETFROM:+0200
END:STANDARD
END:VTIMEZONE
END:VCALENDAR
