BEGIN:VCALENDAR
PRODID:-//eluceo/ical//2.0/EN
VERSION:2.0
CALSCALE:GREGORIAN
BEGIN:VEVENT
UID:https://hbb.rivio.dev/senioren/2019/wedstrijd/25763
DTSTAMP:20260420T224047Z
SUMMARY:Smashing Bruang 1 - Phoenix 1
DESCRIPTION:Baan 11\, Wedstrijdnummer 23\, Afdeling Hoofdklasse 
DTSTART:20190911T200000
DTEND:20190911T230000
LOCATION:City Resort Helmond
ATTACH;FMTTYPE=text/plain:https://hbb.rivio.dev/senioren/2019/wedstrijd/257
 63
END:VEVENT
BEGIN:VEVENT
UID:https://hbb.rivio.dev/senioren/2019/wedstrijd/25799
DTSTAMP:20260420T224047Z
SUMMARY:Phoenix 1 - Someren 1
DESCRIPTION:Baan 2\, Wedstrijdnummer 27\, Afdeling Hoofdklasse 
DTSTART:20190925T200000
DTEND:20190925T230000
LOCATION:City Resort Helmond
ATTACH;FMTTYPE=text/plain:https://hbb.rivio.dev/senioren/2019/wedstrijd/257
 99
END:VEVENT
BEGIN:VEVENT
UID:https://hbb.rivio.dev/senioren/2019/wedstrijd/25839
DTSTAMP:20260420T224047Z
SUMMARY:Mixed 1 - Phoenix 1
DESCRIPTION:Baan 2\, Wedstrijdnummer 32\, Afdeling Hoofdklasse 
DTSTART:20191009T200000
DTEND:20191009T230000
LOCATION:City Resort Helmond
ATTACH;FMTTYPE=text/plain:https://hbb.rivio.dev/senioren/2019/wedstrijd/258
 39
END:VEVENT
BEGIN:VEVENT
UID:https://hbb.rivio.dev/senioren/2019/wedstrijd/25887
DTSTAMP:20260420T224047Z
SUMMARY:Phoenix 1 - BCAB 2
DESCRIPTION:Baan 15\, Wedstrijdnummer 36\, Afdeling Hoofdklasse 
DTSTART:20191030T200000
DTEND:20191030T230000
LOCATION:City Resort Helmond
ATTACH;FMTTYPE=text/plain:https://hbb.rivio.dev/senioren/2019/wedstrijd/258
 87
END:VEVENT
BEGIN:VEVENT
UID:https://hbb.rivio.dev/senioren/2019/wedstrijd/25943
DTSTAMP:20260420T224047Z
SUMMARY:Con Brio 3 - Phoenix 1
DESCRIPTION:Baan 11\, Wedstrijdnummer 41\, Afdeling Hoofdklasse 
DTSTART:20191120T200000
DTEND:20191120T230000
LOCATION:City Resort Helmond
ATTACH;FMTTYPE=text/plain:https://hbb.rivio.dev/senioren/2019/wedstrijd/259
 43
END:VEVENT
BEGIN:VEVENT
UID:https://hbb.rivio.dev/senioren/2019/wedstrijd/25978
DTSTAMP:20260420T224047Z
SUMMARY:Mierlo 3 - Phoenix 1
DESCRIPTION:Baan 1\, Wedstrijdnummer 44\, Afdeling Hoofdklasse 
DTSTART:20191204T200000
DTEND:20191204T230000
LOCATION:City Resort Helmond
ATTACH;FMTTYPE=text/plain:https://hbb.rivio.dev/senioren/2019/wedstrijd/259
 78
END:VEVENT
BEGIN:VEVENT
UID:https://hbb.rivio.dev/senioren/2019/wedstrijd/26009
DTSTAMP:20260420T224047Z
SUMMARY:Phoenix 1 - Hanevoet 1
DESCRIPTION:Baan 2\, Wedstrijdnummer 48\, Afdeling Hoofdklasse 
DTSTART:20191218T200000
DTEND:20191218T230000
LOCATION:City Resort Helmond
ATTACH;FMTTYPE=text/plain:https://hbb.rivio.dev/senioren/2019/wedstrijd/260
 09
END:VEVENT
BEGIN:VEVENT
UID:https://hbb.rivio.dev/senioren/2019/wedstrijd/26029
DTSTAMP:20260420T224047Z
SUMMARY:Mixed 1 - Phoenix 1
DESCRIPTION:Baan 2\, Wedstrijdnummer 3004\, Afdeling Hoofdklasse 
DTSTART:20200108T200000
DTEND:20200108T230000
LOCATION:City Resort Helmond
ATTACH;FMTTYPE=text/plain:https://hbb.rivio.dev/senioren/2019/wedstrijd/260
 29
END:VEVENT
BEGIN:VEVENT
UID:https://hbb.rivio.dev/senioren/2019/wedstrijd/26049
DTSTAMP:20260420T224047Z
SUMMARY:Phoenix 1 - Smashing Bruang 1
DESCRIPTION:Baan 15\, Wedstrijdnummer 1023\, Afdeling Hoofdklasse 
DTSTART:20200115T200000
DTEND:20200115T230000
LOCATION:City Resort Helmond
ATTACH;FMTTYPE=text/plain:https://hbb.rivio.dev/senioren/2019/wedstrijd/260
 49
END:VEVENT
BEGIN:VEVENT
UID:https://hbb.rivio.dev/senioren/2019/wedstrijd/26090
DTSTAMP:20260420T224047Z
SUMMARY:Someren 1 - Phoenix 1
DESCRIPTION:Baan 14\, Wedstrijdnummer 1027\, Afdeling Hoofdklasse 
DTSTART:20200130T200000
DTEND:20200130T230000
LOCATION:City Resort Helmond
ATTACH;FMTTYPE=text/plain:https://hbb.rivio.dev/senioren/2019/wedstrijd/260
 90
END:VEVENT
BEGIN:VEVENT
UID:https://hbb.rivio.dev/senioren/2019/wedstrijd/26136
DTSTAMP:20260420T224047Z
SUMMARY:Phoenix 1 - Mixed 1
DESCRIPTION:Baan 4\, Wedstrijdnummer 1032\, Afdeling Hoofdklasse 
DTSTART:20200219T200000
DTEND:20200219T230000
LOCATION:City Resort Helmond
ATTACH;FMTTYPE=text/plain:https://hbb.rivio.dev/senioren/2019/wedstrijd/261
 36
END:VEVENT
BEGIN:VEVENT
UID:https://hbb.rivio.dev/senioren/2019/wedstrijd/26189
DTSTAMP:20260420T224047Z
SUMMARY:BCAB 2 - Phoenix 1
DESCRIPTION:Baan 12\, Wedstrijdnummer 1036\, Afdeling Hoofdklasse 
DTSTART:20200312T200000
DTEND:20200312T230000
LOCATION:City Resort Helmond
ATTACH;FMTTYPE=text/plain:https://hbb.rivio.dev/senioren/2019/wedstrijd/261
 89
END:VEVENT
BEGIN:VEVENT
UID:https://hbb.rivio.dev/senioren/2019/wedstrijd/26197
DTSTAMP:20260420T224047Z
SUMMARY:Phoenix 1 - Con Brio 3
DESCRIPTION:Baan 15\, Wedstrijdnummer 1041\, Afdeling Hoofdklasse 
DTSTART:20200318T200000
DTEND:20200318T230000
LOCATION:City Resort Helmond
ATTACH;FMTTYPE=text/plain:https://hbb.rivio.dev/senioren/2019/wedstrijd/261
 97
END:VEVENT
BEGIN:VEVENT
UID:https://hbb.rivio.dev/senioren/2019/wedstrijd/26225
DTSTAMP:20260420T224047Z
SUMMARY:Phoenix 1 - Mierlo 3
DESCRIPTION:Baan 5\, Wedstrijdnummer 1044\, Afdeling Hoofdklasse 
DTSTART:20200401T200000
DTEND:20200401T230000
LOCATION:City Resort Helmond
ATTACH;FMTTYPE=text/plain:https://hbb.rivio.dev/senioren/2019/wedstrijd/262
 25
END:VEVENT
BEGIN:VEVENT
UID:https://hbb.rivio.dev/senioren/2019/wedstrijd/26247
DTSTAMP:20260420T224047Z
SUMMARY:Hanevoet 1 - Phoenix 1
DESCRIPTION:Baan 14\, Wedstrijdnummer 1048\, Afdeling Hoofdklasse 
DTSTART:20200416T200000
DTEND:20200416T230000
LOCATION:City Resort Helmond
ATTACH;FMTTYPE=text/plain:https://hbb.rivio.dev/senioren/2019/wedstrijd/262
 47
END:VEVENT
BEGIN:VTIMEZONE
TZID:Europe/Amsterdam
BEGIN:STANDARD
DTSTART:20190101T000000
TZNAME:CET
TZOFFSETTO:+0100
TZOFFSETFROM:+0100
END:STANDARD
BEGIN:DAYLIGHT
DTSTART:20190331T030000
TZNAME:CEST
TZOFFSETTO:+0200
TZOFFSETFROM:+0100
END:DAYLIGHT
BEGIN:STANDARD
DTSTART:20191027T020000
TZNAME:CET
TZOFFSETTO:+0100
TZOFFSETFROM:+0200
END:STANDARD
BEGIN:DAYLIGHT
DTSTART:20200329T030000
TZNAME:CEST
TZOFFSETTO:+0200
TZOFFSETFROM:+0100
END:DAYLIGHT
BEGIN:STANDARD
DTSTART:20201025T020000
TZNAME:CET
TZOFFSETTO:+0100
TZOFFSETFROM:+0200
END:STANDARD
END:VTIMEZONE
END:VCALENDAR
