BEGIN:VCALENDAR
PRODID:-//eluceo/ical//2.0/EN
VERSION:2.0
CALSCALE:GREGORIAN
BEGIN:VEVENT
UID:https://hbb.rivio.dev/senioren/2019/wedstrijd/25797
DTSTAMP:20260420T165404Z
SUMMARY:Hanevoet 4 - Gemert 2
DESCRIPTION:Baan 15\, Wedstrijdnummer 178\, Afdeling 3e klasse II
DTSTART:20190919T200000
DTEND:20190919T230000
LOCATION:City Resort Helmond
ATTACH;FMTTYPE=text/plain:https://hbb.rivio.dev/senioren/2019/wedstrijd/257
 97
END:VEVENT
BEGIN:VEVENT
UID:https://hbb.rivio.dev/senioren/2019/wedstrijd/25873
DTSTAMP:20260420T165404Z
SUMMARY:Mierlo 8 - Hanevoet 4
DESCRIPTION:Baan 11\, Wedstrijdnummer 184\, Afdeling 3e klasse II
DTSTART:20191024T200000
DTEND:20191024T230000
LOCATION:City Resort Helmond
ATTACH;FMTTYPE=text/plain:https://hbb.rivio.dev/senioren/2019/wedstrijd/258
 73
END:VEVENT
BEGIN:VEVENT
UID:https://hbb.rivio.dev/senioren/2019/wedstrijd/25899
DTSTAMP:20260420T165404Z
SUMMARY:Hanevoet 4 - Gemert 3
DESCRIPTION:Baan 2\, Wedstrijdnummer 3025\, Afdeling 3e klasse II
DTSTART:20191106T200000
DTEND:20191106T230000
LOCATION:City Resort Helmond
ATTACH;FMTTYPE=text/plain:https://hbb.rivio.dev/senioren/2019/wedstrijd/258
 99
END:VEVENT
BEGIN:VEVENT
UID:https://hbb.rivio.dev/senioren/2019/wedstrijd/25931
DTSTAMP:20260420T165404Z
SUMMARY:Hanevoet 4 - Someren 4
DESCRIPTION:Baan 4\, Wedstrijdnummer 187\, Afdeling 3e klasse II
DTSTART:20191114T200000
DTEND:20191114T230000
LOCATION:City Resort Helmond
ATTACH;FMTTYPE=text/plain:https://hbb.rivio.dev/senioren/2019/wedstrijd/259
 31
END:VEVENT
BEGIN:VEVENT
UID:https://hbb.rivio.dev/senioren/2019/wedstrijd/25970
DTSTAMP:20260420T165404Z
SUMMARY:Mixed 6 - Hanevoet 4
DESCRIPTION:Baan 3\, Wedstrijdnummer 191\, Afdeling 3e klasse II
DTSTART:20191128T200000
DTEND:20191128T230000
LOCATION:City Resort Helmond
ATTACH;FMTTYPE=text/plain:https://hbb.rivio.dev/senioren/2019/wedstrijd/259
 70
END:VEVENT
BEGIN:VEVENT
UID:https://hbb.rivio.dev/senioren/2019/wedstrijd/26019
DTSTAMP:20260420T165404Z
SUMMARY:Hanevoet 4 - Heiakker 1
DESCRIPTION:Baan 2\, Wedstrijdnummer 194\, Afdeling 3e klasse II
DTSTART:20191219T200000
DTEND:20191219T230000
LOCATION:City Resort Helmond
ATTACH;FMTTYPE=text/plain:https://hbb.rivio.dev/senioren/2019/wedstrijd/260
 19
END:VEVENT
BEGIN:VEVENT
UID:https://hbb.rivio.dev/senioren/2019/wedstrijd/26043
DTSTAMP:20260420T165404Z
SUMMARY:Heeze 1 - Hanevoet 4
DESCRIPTION:Baan 15\, Wedstrijdnummer 198\, Afdeling 3e klasse II
DTSTART:20200109T200000
DTEND:20200109T230000
LOCATION:City Resort Helmond
ATTACH;FMTTYPE=text/plain:https://hbb.rivio.dev/senioren/2019/wedstrijd/260
 43
END:VEVENT
BEGIN:VEVENT
UID:https://hbb.rivio.dev/senioren/2019/wedstrijd/26083
DTSTAMP:20260420T165404Z
SUMMARY:Gemert 2 - Hanevoet 4
DESCRIPTION:Baan 2\, Wedstrijdnummer 1178\, Afdeling 3e klasse II
DTSTART:20200130T200000
DTEND:20200130T230000
LOCATION:City Resort Helmond
ATTACH;FMTTYPE=text/plain:https://hbb.rivio.dev/senioren/2019/wedstrijd/260
 83
END:VEVENT
BEGIN:VEVENT
UID:https://hbb.rivio.dev/senioren/2019/wedstrijd/26153
DTSTAMP:20260420T165404Z
SUMMARY:Hanevoet 4 - Mierlo 8
DESCRIPTION:Baan 14\, Wedstrijdnummer 1184\, Afdeling 3e klasse II
DTSTART:20200220T200000
DTEND:20200220T230000
LOCATION:City Resort Helmond
ATTACH;FMTTYPE=text/plain:https://hbb.rivio.dev/senioren/2019/wedstrijd/261
 53
END:VEVENT
BEGIN:VEVENT
UID:https://hbb.rivio.dev/senioren/2019/wedstrijd/26186
DTSTAMP:20260420T165404Z
SUMMARY:Someren 4 - Hanevoet 4
DESCRIPTION:Baan 5\, Wedstrijdnummer 1187\, Afdeling 3e klasse II
DTSTART:20200312T200000
DTEND:20200312T230000
LOCATION:City Resort Helmond
ATTACH;FMTTYPE=text/plain:https://hbb.rivio.dev/senioren/2019/wedstrijd/261
 86
END:VEVENT
BEGIN:VEVENT
UID:https://hbb.rivio.dev/senioren/2019/wedstrijd/26214
DTSTAMP:20260420T165404Z
SUMMARY:Hanevoet 4 - Mixed 6
DESCRIPTION:Baan 1\, Wedstrijdnummer 1191\, Afdeling 3e klasse II
DTSTART:20200326T200000
DTEND:20200326T230000
LOCATION:City Resort Helmond
ATTACH;FMTTYPE=text/plain:https://hbb.rivio.dev/senioren/2019/wedstrijd/262
 14
END:VEVENT
BEGIN:VEVENT
UID:https://hbb.rivio.dev/senioren/2019/wedstrijd/26246
DTSTAMP:20260420T165404Z
SUMMARY:Heiakker 1 - Hanevoet 4
DESCRIPTION:Baan 13\, Wedstrijdnummer 1194\, Afdeling 3e klasse II
DTSTART:20200416T200000
DTEND:20200416T230000
LOCATION:City Resort Helmond
ATTACH;FMTTYPE=text/plain:https://hbb.rivio.dev/senioren/2019/wedstrijd/262
 46
END:VEVENT
BEGIN:VEVENT
UID:https://hbb.rivio.dev/senioren/2019/wedstrijd/26270
DTSTAMP:20260420T165404Z
SUMMARY:Hanevoet 4 - Heeze 1
DESCRIPTION:Baan 15\, Wedstrijdnummer 1198\, Afdeling 3e klasse II
DTSTART:20200514T200000
DTEND:20200514T230000
LOCATION:City Resort Helmond
ATTACH;FMTTYPE=text/plain:https://hbb.rivio.dev/senioren/2019/wedstrijd/262
 70
END:VEVENT
BEGIN:VTIMEZONE
TZID:Europe/Amsterdam
BEGIN:STANDARD
DTSTART:20190101T000000
TZNAME:CET
TZOFFSETTO:+0100
TZOFFSETFROM:+0100
END:STANDARD
BEGIN:DAYLIGHT
DTSTART:20190331T030000
TZNAME:CEST
TZOFFSETTO:+0200
TZOFFSETFROM:+0100
END:DAYLIGHT
BEGIN:STANDARD
DTSTART:20191027T020000
TZNAME:CET
TZOFFSETTO:+0100
TZOFFSETFROM:+0200
END:STANDARD
BEGIN:DAYLIGHT
DTSTART:20200329T030000
TZNAME:CEST
TZOFFSETTO:+0200
TZOFFSETFROM:+0100
END:DAYLIGHT
BEGIN:STANDARD
DTSTART:20201025T020000
TZNAME:CET
TZOFFSETTO:+0100
TZOFFSETFROM:+0200
END:STANDARD
END:VTIMEZONE
END:VCALENDAR
