BEGIN:VCALENDAR
PRODID:-//eluceo/ical//2.0/EN
VERSION:2.0
CALSCALE:GREGORIAN
BEGIN:VEVENT
UID:https://hbb.rivio.dev/senioren/2019/wedstrijd/25832
DTSTAMP:20260420T150823Z
SUMMARY:BCAB 1 - Brabantia 1
DESCRIPTION:Baan 10\, Wedstrijdnummer 6\, Afdeling Topklasse 
DTSTART:20191003T200000
DTEND:20191003T230000
LOCATION:City Resort Helmond
ATTACH;FMTTYPE=text/plain:https://hbb.rivio.dev/senioren/2019/wedstrijd/258
 32
END:VEVENT
BEGIN:VEVENT
UID:https://hbb.rivio.dev/senioren/2019/wedstrijd/25871
DTSTAMP:20260420T150823Z
SUMMARY:Brabantia 1 - Mierlo 2
DESCRIPTION:Baan 4\, Wedstrijdnummer 9\, Afdeling Topklasse 
DTSTART:20191024T200000
DTEND:20191024T230000
LOCATION:City Resort Helmond
ATTACH;FMTTYPE=text/plain:https://hbb.rivio.dev/senioren/2019/wedstrijd/258
 71
END:VEVENT
BEGIN:VEVENT
UID:https://hbb.rivio.dev/senioren/2019/wedstrijd/25926
DTSTAMP:20260420T150823Z
SUMMARY:Con Brio 2 - Brabantia 1
DESCRIPTION:Baan 14\, Wedstrijdnummer 11\, Afdeling Topklasse 
DTSTART:20191113T200000
DTEND:20191113T230000
LOCATION:City Resort Helmond
ATTACH;FMTTYPE=text/plain:https://hbb.rivio.dev/senioren/2019/wedstrijd/259
 26
END:VEVENT
BEGIN:VEVENT
UID:https://hbb.rivio.dev/senioren/2019/wedstrijd/25956
DTSTAMP:20260420T150823Z
SUMMARY:Brabantia 1 - Con Brio 1
DESCRIPTION:Baan 14\, Wedstrijdnummer 14\, Afdeling Topklasse 
DTSTART:20191121T200000
DTEND:20191121T230000
LOCATION:City Resort Helmond
ATTACH;FMTTYPE=text/plain:https://hbb.rivio.dev/senioren/2019/wedstrijd/259
 56
END:VEVENT
BEGIN:VEVENT
UID:https://hbb.rivio.dev/senioren/2019/wedstrijd/25984
DTSTAMP:20260420T150823Z
SUMMARY:Mierlo 1 - Brabantia 1
DESCRIPTION:Baan 12\, Wedstrijdnummer 16\, Afdeling Topklasse 
DTSTART:20191204T200000
DTEND:20191204T230000
LOCATION:City Resort Helmond
ATTACH;FMTTYPE=text/plain:https://hbb.rivio.dev/senioren/2019/wedstrijd/259
 84
END:VEVENT
BEGIN:VEVENT
UID:https://hbb.rivio.dev/senioren/2019/wedstrijd/26014
DTSTAMP:20260420T150823Z
SUMMARY:Brabantia 1 - Ganzeveer 1
DESCRIPTION:Baan 12\, Wedstrijdnummer 19\, Afdeling Topklasse 
DTSTART:20191218T200000
DTEND:20191218T230000
LOCATION:City Resort Helmond
ATTACH;FMTTYPE=text/plain:https://hbb.rivio.dev/senioren/2019/wedstrijd/260
 14
END:VEVENT
BEGIN:VEVENT
UID:https://hbb.rivio.dev/senioren/2019/wedstrijd/26046
DTSTAMP:20260420T150823Z
SUMMARY:Con Brio 2 - Brabantia 1
DESCRIPTION:Baan 3\, Wedstrijdnummer 3002\, Afdeling Topklasse 
DTSTART:20200115T200000
DTEND:20200115T230000
LOCATION:City Resort Helmond
ATTACH;FMTTYPE=text/plain:https://hbb.rivio.dev/senioren/2019/wedstrijd/260
 46
END:VEVENT
BEGIN:VEVENT
UID:https://hbb.rivio.dev/senioren/2019/wedstrijd/26111
DTSTAMP:20260420T150823Z
SUMMARY:Brabantia 1 - BCAB 1
DESCRIPTION:Baan 15\, Wedstrijdnummer 1006\, Afdeling Topklasse 
DTSTART:20200206T200000
DTEND:20200206T230000
LOCATION:City Resort Helmond
ATTACH;FMTTYPE=text/plain:https://hbb.rivio.dev/senioren/2019/wedstrijd/261
 11
END:VEVENT
BEGIN:VEVENT
UID:https://hbb.rivio.dev/senioren/2019/wedstrijd/26142
DTSTAMP:20260420T150823Z
SUMMARY:Mierlo 2 - Brabantia 1
DESCRIPTION:Baan 14\, Wedstrijdnummer 1009\, Afdeling Topklasse 
DTSTART:20200219T200000
DTEND:20200219T230000
LOCATION:City Resort Helmond
ATTACH;FMTTYPE=text/plain:https://hbb.rivio.dev/senioren/2019/wedstrijd/261
 42
END:VEVENT
BEGIN:VEVENT
UID:https://hbb.rivio.dev/senioren/2019/wedstrijd/26184
DTSTAMP:20260420T150823Z
SUMMARY:Brabantia 1 - Con Brio 2
DESCRIPTION:Baan 3\, Wedstrijdnummer 1011\, Afdeling Topklasse 
DTSTART:20200312T200000
DTEND:20200312T230000
LOCATION:City Resort Helmond
ATTACH;FMTTYPE=text/plain:https://hbb.rivio.dev/senioren/2019/wedstrijd/261
 84
END:VEVENT
BEGIN:VEVENT
UID:https://hbb.rivio.dev/senioren/2019/wedstrijd/26206
DTSTAMP:20260420T150823Z
SUMMARY:Con Brio 1 - Brabantia 1
DESCRIPTION:Baan 13\, Wedstrijdnummer 1014\, Afdeling Topklasse 
DTSTART:20200319T200000
DTEND:20200319T230000
LOCATION:City Resort Helmond
ATTACH;FMTTYPE=text/plain:https://hbb.rivio.dev/senioren/2019/wedstrijd/262
 06
END:VEVENT
BEGIN:VEVENT
UID:https://hbb.rivio.dev/senioren/2019/wedstrijd/26244
DTSTAMP:20260420T150823Z
SUMMARY:Brabantia 1 - Mierlo 1
DESCRIPTION:Baan 11\, Wedstrijdnummer 1016\, Afdeling Topklasse 
DTSTART:20200416T200000
DTEND:20200416T230000
LOCATION:City Resort Helmond
ATTACH;FMTTYPE=text/plain:https://hbb.rivio.dev/senioren/2019/wedstrijd/262
 44
END:VEVENT
BEGIN:VEVENT
UID:https://hbb.rivio.dev/senioren/2019/wedstrijd/26259
DTSTAMP:20260420T150823Z
SUMMARY:Ganzeveer 1 - Brabantia 1
DESCRIPTION:Baan 15\, Wedstrijdnummer 1019\, Afdeling Topklasse 
DTSTART:20200513T200000
DTEND:20200513T230000
LOCATION:City Resort Helmond
ATTACH;FMTTYPE=text/plain:https://hbb.rivio.dev/senioren/2019/wedstrijd/262
 59
END:VEVENT
BEGIN:VTIMEZONE
TZID:Europe/Amsterdam
BEGIN:STANDARD
DTSTART:20190101T000000
TZNAME:CET
TZOFFSETTO:+0100
TZOFFSETFROM:+0100
END:STANDARD
BEGIN:DAYLIGHT
DTSTART:20190331T030000
TZNAME:CEST
TZOFFSETTO:+0200
TZOFFSETFROM:+0100
END:DAYLIGHT
BEGIN:STANDARD
DTSTART:20191027T020000
TZNAME:CET
TZOFFSETTO:+0100
TZOFFSETFROM:+0200
END:STANDARD
BEGIN:DAYLIGHT
DTSTART:20200329T030000
TZNAME:CEST
TZOFFSETTO:+0200
TZOFFSETFROM:+0100
END:DAYLIGHT
BEGIN:STANDARD
DTSTART:20201025T020000
TZNAME:CET
TZOFFSETTO:+0100
TZOFFSETFROM:+0200
END:STANDARD
END:VTIMEZONE
END:VCALENDAR
