BEGIN:VCALENDAR
PRODID:-//eluceo/ical//2.0/EN
VERSION:2.0
CALSCALE:GREGORIAN
BEGIN:VEVENT
UID:https://hbb.rivio.dev/jeugd/2019/wedstrijd/24963
DTSTAMP:20260420T133349Z
SUMMARY:BCV '73 4 - Mierlo 9
DESCRIPTION:Baan 10\, Afdeling F-klasse 
DTSTART:20190915T111500
DTEND:20190915T130000
LOCATION:City Resort Helmond
ATTACH;FMTTYPE=text/plain:https://hbb.rivio.dev/jeugd/2019/wedstrijd/24963
END:VEVENT
BEGIN:VEVENT
UID:https://hbb.rivio.dev/jeugd/2019/wedstrijd/24958
DTSTAMP:20260420T133349Z
SUMMARY:BCV '73 3 - BCV '73 4
DESCRIPTION:Baan 5\, Afdeling F-klasse 
DTSTART:20190915T093000
DTEND:20190915T111500
LOCATION:City Resort Helmond
ATTACH;FMTTYPE=text/plain:https://hbb.rivio.dev/jeugd/2019/wedstrijd/24958
END:VEVENT
BEGIN:VEVENT
UID:https://hbb.rivio.dev/jeugd/2019/wedstrijd/24998
DTSTAMP:20260420T133349Z
SUMMARY:Gemert 1 - BCV '73 4
DESCRIPTION:Baan 14\, Afdeling F-klasse 
DTSTART:20191006T093000
DTEND:20191006T111500
LOCATION:City Resort Helmond
ATTACH;FMTTYPE=text/plain:https://hbb.rivio.dev/jeugd/2019/wedstrijd/24998
END:VEVENT
BEGIN:VEVENT
UID:https://hbb.rivio.dev/jeugd/2019/wedstrijd/25001
DTSTAMP:20260420T133349Z
SUMMARY:BCAB 2 - BCV '73 4
DESCRIPTION:Baan 14\, Afdeling F-klasse 
DTSTART:20191006T111500
DTEND:20191006T130000
LOCATION:City Resort Helmond
ATTACH;FMTTYPE=text/plain:https://hbb.rivio.dev/jeugd/2019/wedstrijd/25001
END:VEVENT
BEGIN:VEVENT
UID:https://hbb.rivio.dev/jeugd/2019/wedstrijd/25065
DTSTAMP:20260420T133350Z
SUMMARY:BCV '73 4 - Mierlo 8
DESCRIPTION:Baan 14\, Afdeling F-klasse 
DTSTART:20191117T093000
DTEND:20191117T111500
LOCATION:City Resort Helmond
ATTACH;FMTTYPE=text/plain:https://hbb.rivio.dev/jeugd/2019/wedstrijd/25065
END:VEVENT
BEGIN:VEVENT
UID:https://hbb.rivio.dev/jeugd/2019/wedstrijd/25067
DTSTAMP:20260420T133350Z
SUMMARY:BCV '73 4 - BCV '73 3
DESCRIPTION:Baan 13\, Afdeling F-klasse 
DTSTART:20191117T111500
DTEND:20191117T130000
LOCATION:City Resort Helmond
ATTACH;FMTTYPE=text/plain:https://hbb.rivio.dev/jeugd/2019/wedstrijd/25067
END:VEVENT
BEGIN:VEVENT
UID:https://hbb.rivio.dev/jeugd/2019/wedstrijd/25105
DTSTAMP:20260420T133350Z
SUMMARY:BCV '73 4 - Gemert 1
DESCRIPTION:Baan 12\, Afdeling F-klasse 
DTSTART:20191201T111500
DTEND:20191201T130000
LOCATION:City Resort Helmond
ATTACH;FMTTYPE=text/plain:https://hbb.rivio.dev/jeugd/2019/wedstrijd/25105
END:VEVENT
BEGIN:VEVENT
UID:https://hbb.rivio.dev/jeugd/2019/wedstrijd/25103
DTSTAMP:20260420T133350Z
SUMMARY:Mierlo 9 - BCV '73 4
DESCRIPTION:Baan 13\, Afdeling F-klasse 
DTSTART:20191201T093000
DTEND:20191201T111500
LOCATION:City Resort Helmond
ATTACH;FMTTYPE=text/plain:https://hbb.rivio.dev/jeugd/2019/wedstrijd/25103
END:VEVENT
BEGIN:VEVENT
UID:https://hbb.rivio.dev/jeugd/2019/wedstrijd/25152
DTSTAMP:20260420T133350Z
SUMMARY:BCV '73 4 - BCAB 2
DESCRIPTION:Baan 14\, Afdeling F-klasse 
DTSTART:20200112T093000
DTEND:20200112T111500
LOCATION:City Resort Helmond
ATTACH;FMTTYPE=text/plain:https://hbb.rivio.dev/jeugd/2019/wedstrijd/25152
END:VEVENT
BEGIN:VEVENT
UID:https://hbb.rivio.dev/jeugd/2019/wedstrijd/25155
DTSTAMP:20260420T133350Z
SUMMARY:Mierlo 8 - BCV '73 4
DESCRIPTION:Baan 14\, Afdeling F-klasse 
DTSTART:20200112T111500
DTEND:20200112T130000
LOCATION:City Resort Helmond
ATTACH;FMTTYPE=text/plain:https://hbb.rivio.dev/jeugd/2019/wedstrijd/25155
END:VEVENT
BEGIN:VEVENT
UID:https://hbb.rivio.dev/jeugd/2019/wedstrijd/25192
DTSTAMP:20260420T133350Z
SUMMARY:BCV '73 4 - Mierlo 9
DESCRIPTION:Baan 15\, Afdeling F-klasse 
DTSTART:20200216T111500
DTEND:20200216T130000
LOCATION:City Resort Helmond
ATTACH;FMTTYPE=text/plain:https://hbb.rivio.dev/jeugd/2019/wedstrijd/25192
END:VEVENT
BEGIN:VEVENT
UID:https://hbb.rivio.dev/jeugd/2019/wedstrijd/25187
DTSTAMP:20260420T133350Z
SUMMARY:BCV '73 3 - BCV '73 4
DESCRIPTION:Baan 13\, Afdeling F-klasse 
DTSTART:20200216T093000
DTEND:20200216T111500
LOCATION:City Resort Helmond
ATTACH;FMTTYPE=text/plain:https://hbb.rivio.dev/jeugd/2019/wedstrijd/25187
END:VEVENT
BEGIN:VEVENT
UID:https://hbb.rivio.dev/jeugd/2019/wedstrijd/25216
DTSTAMP:20260420T133350Z
SUMMARY:Gemert 1 - BCV '73 4
DESCRIPTION:Baan 14\, Afdeling F-klasse 
DTSTART:20200322T093000
DTEND:20200322T111500
LOCATION:City Resort Helmond
ATTACH;FMTTYPE=text/plain:https://hbb.rivio.dev/jeugd/2019/wedstrijd/25216
END:VEVENT
BEGIN:VEVENT
UID:https://hbb.rivio.dev/jeugd/2019/wedstrijd/25219
DTSTAMP:20260420T133350Z
SUMMARY:BCAB 2 - BCV '73 4
DESCRIPTION:Baan 14\, Afdeling F-klasse 
DTSTART:20200322T111500
DTEND:20200322T130000
LOCATION:City Resort Helmond
ATTACH;FMTTYPE=text/plain:https://hbb.rivio.dev/jeugd/2019/wedstrijd/25219
END:VEVENT
BEGIN:VEVENT
UID:https://hbb.rivio.dev/jeugd/2019/wedstrijd/25231
DTSTAMP:20260420T133350Z
SUMMARY:BCV '73 4 - Mierlo 8
DESCRIPTION:Baan 12\, Afdeling F-klasse 
DTSTART:20200329T111500
DTEND:20200329T130000
LOCATION:City Resort Helmond
ATTACH;FMTTYPE=text/plain:https://hbb.rivio.dev/jeugd/2019/wedstrijd/25231
END:VEVENT
BEGIN:VTIMEZONE
TZID:Europe/Amsterdam
BEGIN:STANDARD
DTSTART:20190101T000000
TZNAME:CET
TZOFFSETTO:+0100
TZOFFSETFROM:+0100
END:STANDARD
BEGIN:DAYLIGHT
DTSTART:20190331T030000
TZNAME:CEST
TZOFFSETTO:+0200
TZOFFSETFROM:+0100
END:DAYLIGHT
BEGIN:STANDARD
DTSTART:20191027T020000
TZNAME:CET
TZOFFSETTO:+0100
TZOFFSETFROM:+0200
END:STANDARD
BEGIN:DAYLIGHT
DTSTART:20200329T030000
TZNAME:CEST
TZOFFSETTO:+0200
TZOFFSETFROM:+0100
END:DAYLIGHT
BEGIN:STANDARD
DTSTART:20201025T020000
TZNAME:CET
TZOFFSETTO:+0100
TZOFFSETFROM:+0200
END:STANDARD
END:VTIMEZONE
END:VCALENDAR
