BEGIN:VCALENDAR
PRODID:-//eluceo/ical//2.0/EN
VERSION:2.0
CALSCALE:GREGORIAN
BEGIN:VEVENT
UID:https://hbb.rivio.dev/jeugd/2019/wedstrijd/24949
DTSTAMP:20260420T190358Z
SUMMARY:Mierlo 3 - Mierlo 2
DESCRIPTION:Baan 2\, Afdeling A-klasse 
DTSTART:20190915T093000
DTEND:20190915T111500
LOCATION:City Resort Helmond
ATTACH;FMTTYPE=text/plain:https://hbb.rivio.dev/jeugd/2019/wedstrijd/24949
END:VEVENT
BEGIN:VEVENT
UID:https://hbb.rivio.dev/jeugd/2019/wedstrijd/24968
DTSTAMP:20260420T190358Z
SUMMARY:Mierlo 1 - Mierlo 3
DESCRIPTION:Baan 1\, Afdeling A-klasse 
DTSTART:20190922T093000
DTEND:20190922T111500
LOCATION:City Resort Helmond
ATTACH;FMTTYPE=text/plain:https://hbb.rivio.dev/jeugd/2019/wedstrijd/24968
END:VEVENT
BEGIN:VEVENT
UID:https://hbb.rivio.dev/jeugd/2019/wedstrijd/25025
DTSTAMP:20260420T190358Z
SUMMARY:Mierlo 3 - BCV '73 1
DESCRIPTION:Baan 3\, Afdeling A-klasse 
DTSTART:20191027T093000
DTEND:20191027T111500
LOCATION:City Resort Helmond
ATTACH;FMTTYPE=text/plain:https://hbb.rivio.dev/jeugd/2019/wedstrijd/25025
END:VEVENT
BEGIN:VEVENT
UID:https://hbb.rivio.dev/jeugd/2019/wedstrijd/25042
DTSTAMP:20260420T190358Z
SUMMARY:BCAB 1 - Mierlo 3
DESCRIPTION:Baan 4\, Afdeling A-klasse 
DTSTART:20191110T093000
DTEND:20191110T111500
LOCATION:City Resort Helmond
ATTACH;FMTTYPE=text/plain:https://hbb.rivio.dev/jeugd/2019/wedstrijd/25042
END:VEVENT
BEGIN:VEVENT
UID:https://hbb.rivio.dev/jeugd/2019/wedstrijd/25056
DTSTAMP:20260420T190358Z
SUMMARY:Bakel 1 - Mierlo 3
DESCRIPTION:Baan 2\, Afdeling B-klasse 
DTSTART:20191117T093000
DTEND:20191117T111500
LOCATION:City Resort Helmond
ATTACH;FMTTYPE=text/plain:https://hbb.rivio.dev/jeugd/2019/wedstrijd/25056
END:VEVENT
BEGIN:VEVENT
UID:https://hbb.rivio.dev/jeugd/2019/wedstrijd/25075
DTSTAMP:20260420T190358Z
SUMMARY:Mierlo 3 - Mierlo 4
DESCRIPTION:Baan 2\, Afdeling A-klasse 
DTSTART:20191124T093000
DTEND:20191124T111500
LOCATION:City Resort Helmond
ATTACH;FMTTYPE=text/plain:https://hbb.rivio.dev/jeugd/2019/wedstrijd/25075
END:VEVENT
BEGIN:VEVENT
UID:https://hbb.rivio.dev/jeugd/2019/wedstrijd/25094
DTSTAMP:20260420T190358Z
SUMMARY:Mierlo 3 - Mixed 1
DESCRIPTION:Baan 4\, Afdeling A-klasse 
DTSTART:20191201T093000
DTEND:20191201T111500
LOCATION:City Resort Helmond
ATTACH;FMTTYPE=text/plain:https://hbb.rivio.dev/jeugd/2019/wedstrijd/25094
END:VEVENT
BEGIN:VEVENT
UID:https://hbb.rivio.dev/jeugd/2019/wedstrijd/25127
DTSTAMP:20260420T190358Z
SUMMARY:Mixed 2 - Mierlo 3
DESCRIPTION:Baan 1\, Afdeling B-klasse 
DTSTART:20191215T093000
DTEND:20191215T111500
LOCATION:City Resort Helmond
ATTACH;FMTTYPE=text/plain:https://hbb.rivio.dev/jeugd/2019/wedstrijd/25127
END:VEVENT
BEGIN:VEVENT
UID:https://hbb.rivio.dev/jeugd/2019/wedstrijd/26296
DTSTAMP:20260420T190358Z
SUMMARY:Mierlo 3 - BCAB 1
DESCRIPTION:Baan 2\, Afdeling A-klasse 
DTSTART:20200112T093000
DTEND:20200112T111500
LOCATION:City Resort Helmond
ATTACH;FMTTYPE=text/plain:https://hbb.rivio.dev/jeugd/2019/wedstrijd/26296
END:VEVENT
BEGIN:VEVENT
UID:https://hbb.rivio.dev/jeugd/2019/wedstrijd/26298
DTSTAMP:20260420T190358Z
SUMMARY:Mierlo 3 - Mierlo 2
DESCRIPTION:Baan 1\, Afdeling A-klasse 
DTSTART:20200119T093000
DTEND:20200119T111500
LOCATION:City Resort Helmond
ATTACH;FMTTYPE=text/plain:https://hbb.rivio.dev/jeugd/2019/wedstrijd/26298
END:VEVENT
BEGIN:VEVENT
UID:https://hbb.rivio.dev/jeugd/2019/wedstrijd/26304
DTSTAMP:20260420T190358Z
SUMMARY:Mierlo 1 - Mierlo 3
DESCRIPTION:Baan 1\, Afdeling A-klasse 
DTSTART:20200216T093000
DTEND:20200216T111500
LOCATION:City Resort Helmond
ATTACH;FMTTYPE=text/plain:https://hbb.rivio.dev/jeugd/2019/wedstrijd/26304
END:VEVENT
BEGIN:VEVENT
UID:https://hbb.rivio.dev/jeugd/2019/wedstrijd/26310
DTSTAMP:20260420T190358Z
SUMMARY:Mixed 1 - Mierlo 3
DESCRIPTION:Baan 2\, Afdeling A-klasse 
DTSTART:20200329T093000
DTEND:20200329T111500
LOCATION:City Resort Helmond
ATTACH;FMTTYPE=text/plain:https://hbb.rivio.dev/jeugd/2019/wedstrijd/26310
END:VEVENT
BEGIN:VTIMEZONE
TZID:Europe/Amsterdam
BEGIN:STANDARD
DTSTART:20190101T000000
TZNAME:CET
TZOFFSETTO:+0100
TZOFFSETFROM:+0100
END:STANDARD
BEGIN:DAYLIGHT
DTSTART:20190331T030000
TZNAME:CEST
TZOFFSETTO:+0200
TZOFFSETFROM:+0100
END:DAYLIGHT
BEGIN:STANDARD
DTSTART:20191027T020000
TZNAME:CET
TZOFFSETTO:+0100
TZOFFSETFROM:+0200
END:STANDARD
BEGIN:DAYLIGHT
DTSTART:20200329T030000
TZNAME:CEST
TZOFFSETTO:+0200
TZOFFSETFROM:+0100
END:DAYLIGHT
BEGIN:STANDARD
DTSTART:20201025T020000
TZNAME:CET
TZOFFSETTO:+0100
TZOFFSETFROM:+0200
END:STANDARD
END:VTIMEZONE
END:VCALENDAR
