BEGIN:VCALENDAR
PRODID:-//eluceo/ical//2.0/EN
VERSION:2.0
CALSCALE:GREGORIAN
BEGIN:VEVENT
UID:https://hbb.rivio.dev/jeugd/2019/wedstrijd/24948
DTSTAMP:20260420T152202Z
SUMMARY:BCAB 1 - Mierlo 1
DESCRIPTION:Baan 1\, Afdeling A-klasse 
DTSTART:20190915T093000
DTEND:20190915T111500
LOCATION:City Resort Helmond
ATTACH;FMTTYPE=text/plain:https://hbb.rivio.dev/jeugd/2019/wedstrijd/24948
END:VEVENT
BEGIN:VEVENT
UID:https://hbb.rivio.dev/jeugd/2019/wedstrijd/24968
DTSTAMP:20260420T152202Z
SUMMARY:Mierlo 1 - Mierlo 3
DESCRIPTION:Baan 1\, Afdeling A-klasse 
DTSTART:20190922T093000
DTEND:20190922T111500
LOCATION:City Resort Helmond
ATTACH;FMTTYPE=text/plain:https://hbb.rivio.dev/jeugd/2019/wedstrijd/24968
END:VEVENT
BEGIN:VEVENT
UID:https://hbb.rivio.dev/jeugd/2019/wedstrijd/24983
DTSTAMP:20260420T152202Z
SUMMARY:BCV '73 1 - Mierlo 1
DESCRIPTION:Baan 1\, Afdeling B-klasse 
DTSTART:20191006T093000
DTEND:20191006T111500
LOCATION:City Resort Helmond
ATTACH;FMTTYPE=text/plain:https://hbb.rivio.dev/jeugd/2019/wedstrijd/24983
END:VEVENT
BEGIN:VEVENT
UID:https://hbb.rivio.dev/jeugd/2019/wedstrijd/25039
DTSTAMP:20260420T152202Z
SUMMARY:Mierlo 1 - Mixed 2
DESCRIPTION:Baan 1\, Afdeling A-klasse 
DTSTART:20191110T093000
DTEND:20191110T111500
LOCATION:City Resort Helmond
ATTACH;FMTTYPE=text/plain:https://hbb.rivio.dev/jeugd/2019/wedstrijd/25039
END:VEVENT
BEGIN:VEVENT
UID:https://hbb.rivio.dev/jeugd/2019/wedstrijd/25055
DTSTAMP:20260420T152202Z
SUMMARY:Mixed 1 - Mierlo 1
DESCRIPTION:Baan 1\, Afdeling A-klasse 
DTSTART:20191117T093000
DTEND:20191117T111500
LOCATION:City Resort Helmond
ATTACH;FMTTYPE=text/plain:https://hbb.rivio.dev/jeugd/2019/wedstrijd/25055
END:VEVENT
BEGIN:VEVENT
UID:https://hbb.rivio.dev/jeugd/2019/wedstrijd/25074
DTSTAMP:20260420T152202Z
SUMMARY:Mierlo 1 - Mierlo 2
DESCRIPTION:Baan 1\, Afdeling A-klasse 
DTSTART:20191124T093000
DTEND:20191124T111500
LOCATION:City Resort Helmond
ATTACH;FMTTYPE=text/plain:https://hbb.rivio.dev/jeugd/2019/wedstrijd/25074
END:VEVENT
BEGIN:VEVENT
UID:https://hbb.rivio.dev/jeugd/2019/wedstrijd/25092
DTSTAMP:20260420T152202Z
SUMMARY:Mierlo 4 - Mierlo 1
DESCRIPTION:Baan 1\, Afdeling B-klasse 
DTSTART:20191201T093000
DTEND:20191201T111500
LOCATION:City Resort Helmond
ATTACH;FMTTYPE=text/plain:https://hbb.rivio.dev/jeugd/2019/wedstrijd/25092
END:VEVENT
BEGIN:VEVENT
UID:https://hbb.rivio.dev/jeugd/2019/wedstrijd/25107
DTSTAMP:20260420T152202Z
SUMMARY:Mierlo 1 - Bakel 1
DESCRIPTION:Baan 1\, Afdeling A-klasse 
DTSTART:20191208T093000
DTEND:20191208T111500
LOCATION:City Resort Helmond
ATTACH;FMTTYPE=text/plain:https://hbb.rivio.dev/jeugd/2019/wedstrijd/25107
END:VEVENT
BEGIN:VEVENT
UID:https://hbb.rivio.dev/jeugd/2019/wedstrijd/26295
DTSTAMP:20260420T152202Z
SUMMARY:Mierlo 1 - Mierlo 2
DESCRIPTION:Baan 1\, Afdeling A-klasse 
DTSTART:20200112T093000
DTEND:20200112T111500
LOCATION:City Resort Helmond
ATTACH;FMTTYPE=text/plain:https://hbb.rivio.dev/jeugd/2019/wedstrijd/26295
END:VEVENT
BEGIN:VEVENT
UID:https://hbb.rivio.dev/jeugd/2019/wedstrijd/26300
DTSTAMP:20260420T152202Z
SUMMARY:Mixed 1 - Mierlo 1
DESCRIPTION:Baan 1\, Afdeling A-klasse 
DTSTART:20200209T093000
DTEND:20200209T111500
LOCATION:City Resort Helmond
ATTACH;FMTTYPE=text/plain:https://hbb.rivio.dev/jeugd/2019/wedstrijd/26300
END:VEVENT
BEGIN:VEVENT
UID:https://hbb.rivio.dev/jeugd/2019/wedstrijd/26304
DTSTAMP:20260420T152202Z
SUMMARY:Mierlo 1 - Mierlo 3
DESCRIPTION:Baan 1\, Afdeling A-klasse 
DTSTART:20200216T093000
DTEND:20200216T111500
LOCATION:City Resort Helmond
ATTACH;FMTTYPE=text/plain:https://hbb.rivio.dev/jeugd/2019/wedstrijd/26304
END:VEVENT
BEGIN:VEVENT
UID:https://hbb.rivio.dev/jeugd/2019/wedstrijd/26309
DTSTAMP:20260420T152202Z
SUMMARY:BCAB 1 - Mierlo 1
DESCRIPTION:Baan 1\, Afdeling A-klasse 
DTSTART:20200329T093000
DTEND:20200329T111500
LOCATION:City Resort Helmond
ATTACH;FMTTYPE=text/plain:https://hbb.rivio.dev/jeugd/2019/wedstrijd/26309
END:VEVENT
BEGIN:VTIMEZONE
TZID:Europe/Amsterdam
BEGIN:STANDARD
DTSTART:20190101T000000
TZNAME:CET
TZOFFSETTO:+0100
TZOFFSETFROM:+0100
END:STANDARD
BEGIN:DAYLIGHT
DTSTART:20190331T030000
TZNAME:CEST
TZOFFSETTO:+0200
TZOFFSETFROM:+0100
END:DAYLIGHT
BEGIN:STANDARD
DTSTART:20191027T020000
TZNAME:CET
TZOFFSETTO:+0100
TZOFFSETFROM:+0200
END:STANDARD
BEGIN:DAYLIGHT
DTSTART:20200329T030000
TZNAME:CEST
TZOFFSETTO:+0200
TZOFFSETFROM:+0100
END:DAYLIGHT
BEGIN:STANDARD
DTSTART:20201025T020000
TZNAME:CET
TZOFFSETTO:+0100
TZOFFSETFROM:+0200
END:STANDARD
END:VTIMEZONE
END:VCALENDAR
