BEGIN:VCALENDAR
PRODID:-//eluceo/ical//2.0/EN
VERSION:2.0
CALSCALE:GREGORIAN
BEGIN:VEVENT
UID:https://hbb.rivio.dev/senioren/2019/wedstrijd/25762
DTSTAMP:20260420T165448Z
SUMMARY:Mixed 5 - Geldrop 1
DESCRIPTION:Baan 10\, Wedstrijdnummer 104\, Afdeling 2e klasse I
DTSTART:20190911T200000
DTEND:20190911T230000
LOCATION:City Resort Helmond
ATTACH;FMTTYPE=text/plain:https://hbb.rivio.dev/senioren/2019/wedstrijd/257
 62
END:VEVENT
BEGIN:VEVENT
UID:https://hbb.rivio.dev/senioren/2019/wedstrijd/25811
DTSTAMP:20260420T165448Z
SUMMARY:RBC 2 - Mixed 5
DESCRIPTION:Baan 4\, Wedstrijdnummer 107\, Afdeling 2e klasse I
DTSTART:20190926T200000
DTEND:20190926T230000
LOCATION:City Resort Helmond
ATTACH;FMTTYPE=text/plain:https://hbb.rivio.dev/senioren/2019/wedstrijd/258
 11
END:VEVENT
BEGIN:VEVENT
UID:https://hbb.rivio.dev/senioren/2019/wedstrijd/25825
DTSTAMP:20260420T165448Z
SUMMARY:Mixed 5 - Dommelen 1
DESCRIPTION:Baan 13\, Wedstrijdnummer 111\, Afdeling 2e klasse I
DTSTART:20191002T200000
DTEND:20191002T230000
LOCATION:City Resort Helmond
ATTACH;FMTTYPE=text/plain:https://hbb.rivio.dev/senioren/2019/wedstrijd/258
 25
END:VEVENT
BEGIN:VEVENT
UID:https://hbb.rivio.dev/senioren/2019/wedstrijd/25864
DTSTAMP:20260420T165448Z
SUMMARY:Bakel 3 - Mixed 5
DESCRIPTION:Baan 12\, Wedstrijdnummer 3021\, Afdeling 2e klasse II
DTSTART:20191023T200000
DTEND:20191023T230000
LOCATION:City Resort Helmond
ATTACH;FMTTYPE=text/plain:https://hbb.rivio.dev/senioren/2019/wedstrijd/258
 64
END:VEVENT
BEGIN:VEVENT
UID:https://hbb.rivio.dev/senioren/2019/wedstrijd/25885
DTSTAMP:20260420T165448Z
SUMMARY:Ganzeveer 3 - Mixed 5
DESCRIPTION:Baan 13\, Wedstrijdnummer 114\, Afdeling 2e klasse I
DTSTART:20191030T200000
DTEND:20191030T230000
LOCATION:City Resort Helmond
ATTACH;FMTTYPE=text/plain:https://hbb.rivio.dev/senioren/2019/wedstrijd/258
 85
END:VEVENT
BEGIN:VEVENT
UID:https://hbb.rivio.dev/senioren/2019/wedstrijd/25934
DTSTAMP:20260420T165448Z
SUMMARY:Mixed 5 - Mierlo 6
DESCRIPTION:Baan 12\, Wedstrijdnummer 118\, Afdeling 2e klasse I
DTSTART:20191114T200000
DTEND:20191114T230000
LOCATION:City Resort Helmond
ATTACH;FMTTYPE=text/plain:https://hbb.rivio.dev/senioren/2019/wedstrijd/259
 34
END:VEVENT
BEGIN:VEVENT
UID:https://hbb.rivio.dev/senioren/2019/wedstrijd/25973
DTSTAMP:20260420T165448Z
SUMMARY:Someren 2 - Mixed 5
DESCRIPTION:Baan 11\, Wedstrijdnummer 121\, Afdeling 2e klasse I
DTSTART:20191128T200000
DTEND:20191128T230000
LOCATION:City Resort Helmond
ATTACH;FMTTYPE=text/plain:https://hbb.rivio.dev/senioren/2019/wedstrijd/259
 73
END:VEVENT
BEGIN:VEVENT
UID:https://hbb.rivio.dev/senioren/2019/wedstrijd/25992
DTSTAMP:20260420T165448Z
SUMMARY:Mixed 5 - Gemert 1
DESCRIPTION:Baan 5\, Wedstrijdnummer 125\, Afdeling 2e klasse I
DTSTART:20191211T200000
DTEND:20191211T230000
LOCATION:City Resort Helmond
ATTACH;FMTTYPE=text/plain:https://hbb.rivio.dev/senioren/2019/wedstrijd/259
 92
END:VEVENT
BEGIN:VEVENT
UID:https://hbb.rivio.dev/senioren/2019/wedstrijd/26285
DTSTAMP:20260420T165448Z
SUMMARY:Mixed 5 - RBC 2
DESCRIPTION:Baan 11\, Wedstrijdnummer 3050\, Afdeling 2e klasse I
DTSTART:20200115T200000
DTEND:20200115T230000
LOCATION:City Resort Helmond
ATTACH;FMTTYPE=text/plain:https://hbb.rivio.dev/senioren/2019/wedstrijd/262
 85
END:VEVENT
BEGIN:VEVENT
UID:https://hbb.rivio.dev/senioren/2019/wedstrijd/26064
DTSTAMP:20260420T165448Z
SUMMARY:Geldrop 1 - Mixed 5
DESCRIPTION:Baan 3\, Wedstrijdnummer 1104\, Afdeling 2e klasse I
DTSTART:20200123T200000
DTEND:20200123T230000
LOCATION:City Resort Helmond
ATTACH;FMTTYPE=text/plain:https://hbb.rivio.dev/senioren/2019/wedstrijd/260
 64
END:VEVENT
BEGIN:VEVENT
UID:https://hbb.rivio.dev/senioren/2019/wedstrijd/26088
DTSTAMP:20260420T165448Z
SUMMARY:Mixed 5 - RBC 2
DESCRIPTION:Baan 12\, Wedstrijdnummer 1107\, Afdeling 2e klasse I
DTSTART:20200130T200000
DTEND:20200130T230000
LOCATION:City Resort Helmond
ATTACH;FMTTYPE=text/plain:https://hbb.rivio.dev/senioren/2019/wedstrijd/260
 88
END:VEVENT
BEGIN:VEVENT
UID:https://hbb.rivio.dev/senioren/2019/wedstrijd/26121
DTSTAMP:20260420T165448Z
SUMMARY:Dommelen 1 - Mixed 5
DESCRIPTION:Baan 15\, Wedstrijdnummer 1111\, Afdeling 2e klasse I
DTSTART:20200212T200000
DTEND:20200212T230000
LOCATION:City Resort Helmond
ATTACH;FMTTYPE=text/plain:https://hbb.rivio.dev/senioren/2019/wedstrijd/261
 21
END:VEVENT
BEGIN:VEVENT
UID:https://hbb.rivio.dev/senioren/2019/wedstrijd/26159
DTSTAMP:20260420T165448Z
SUMMARY:Mixed 5 - Ganzeveer 3
DESCRIPTION:Baan 15\, Wedstrijdnummer 1114\, Afdeling 2e klasse I
DTSTART:20200304T200000
DTEND:20200304T230000
LOCATION:City Resort Helmond
ATTACH;FMTTYPE=text/plain:https://hbb.rivio.dev/senioren/2019/wedstrijd/261
 59
END:VEVENT
BEGIN:VEVENT
UID:https://hbb.rivio.dev/senioren/2019/wedstrijd/26180
DTSTAMP:20260420T165448Z
SUMMARY:Mierlo 6 - Mixed 5
DESCRIPTION:Baan 14\, Wedstrijdnummer 1118\, Afdeling 2e klasse I
DTSTART:20200311T200000
DTEND:20200311T230000
LOCATION:City Resort Helmond
ATTACH;FMTTYPE=text/plain:https://hbb.rivio.dev/senioren/2019/wedstrijd/261
 80
END:VEVENT
BEGIN:VEVENT
UID:https://hbb.rivio.dev/senioren/2019/wedstrijd/26216
DTSTAMP:20260420T165448Z
SUMMARY:Mixed 5 - Someren 2
DESCRIPTION:Baan 11\, Wedstrijdnummer 1121\, Afdeling 2e klasse I
DTSTART:20200326T200000
DTEND:20200326T230000
LOCATION:City Resort Helmond
ATTACH;FMTTYPE=text/plain:https://hbb.rivio.dev/senioren/2019/wedstrijd/262
 16
END:VEVENT
BEGIN:VEVENT
UID:https://hbb.rivio.dev/senioren/2019/wedstrijd/26249
DTSTAMP:20260420T165448Z
SUMMARY:Gemert 1 - Mixed 5
DESCRIPTION:Baan 1\, Wedstrijdnummer 1125\, Afdeling 2e klasse I
DTSTART:20200513T200000
DTEND:20200513T230000
LOCATION:City Resort Helmond
ATTACH;FMTTYPE=text/plain:https://hbb.rivio.dev/senioren/2019/wedstrijd/262
 49
END:VEVENT
BEGIN:VTIMEZONE
TZID:Europe/Amsterdam
BEGIN:STANDARD
DTSTART:20190101T000000
TZNAME:CET
TZOFFSETTO:+0100
TZOFFSETFROM:+0100
END:STANDARD
BEGIN:DAYLIGHT
DTSTART:20190331T030000
TZNAME:CEST
TZOFFSETTO:+0200
TZOFFSETFROM:+0100
END:DAYLIGHT
BEGIN:STANDARD
DTSTART:20191027T020000
TZNAME:CET
TZOFFSETTO:+0100
TZOFFSETFROM:+0200
END:STANDARD
BEGIN:DAYLIGHT
DTSTART:20200329T030000
TZNAME:CEST
TZOFFSETTO:+0200
TZOFFSETFROM:+0100
END:DAYLIGHT
BEGIN:STANDARD
DTSTART:20201025T020000
TZNAME:CET
TZOFFSETTO:+0100
TZOFFSETFROM:+0200
END:STANDARD
END:VTIMEZONE
END:VCALENDAR
