BEGIN:VCALENDAR
PRODID:-//eluceo/ical//2.0/EN
VERSION:2.0
CALSCALE:GREGORIAN
BEGIN:VEVENT
UID:https://hbb.rivio.dev/senioren/2019/wedstrijd/25796
DTSTAMP:20260420T150905Z
SUMMARY:Mixed 3 - RBC 1
DESCRIPTION:Baan 14\, Wedstrijdnummer 67\, Afdeling Overgangsklasse K
DTSTART:20190919T200000
DTEND:20190919T230000
LOCATION:City Resort Helmond
ATTACH;FMTTYPE=text/plain:https://hbb.rivio.dev/senioren/2019/wedstrijd/257
 96
END:VEVENT
BEGIN:VEVENT
UID:https://hbb.rivio.dev/senioren/2019/wedstrijd/25819
DTSTAMP:20260420T150905Z
SUMMARY:Mixed 3 - Phoenix 2
DESCRIPTION:Baan 2\, Wedstrijdnummer 68\, Afdeling Overgangsklasse K
DTSTART:20191002T200000
DTEND:20191002T230000
LOCATION:City Resort Helmond
ATTACH;FMTTYPE=text/plain:https://hbb.rivio.dev/senioren/2019/wedstrijd/258
 19
END:VEVENT
BEGIN:VEVENT
UID:https://hbb.rivio.dev/senioren/2019/wedstrijd/25847
DTSTAMP:20260420T150905Z
SUMMARY:Brabantia 2 - Mixed 3
DESCRIPTION:Baan 15\, Wedstrijdnummer 72\, Afdeling Overgangsklasse D
DTSTART:20191009T200000
DTEND:20191009T230000
LOCATION:City Resort Helmond
ATTACH;FMTTYPE=text/plain:https://hbb.rivio.dev/senioren/2019/wedstrijd/258
 47
END:VEVENT
BEGIN:VEVENT
UID:https://hbb.rivio.dev/senioren/2019/wedstrijd/25878
DTSTAMP:20260420T150905Z
SUMMARY:Bakel 1 - Mixed 3
DESCRIPTION:Baan 1\, Wedstrijdnummer 3007\, Afdeling Overgangsklasse K
DTSTART:20191030T200000
DTEND:20191030T230000
LOCATION:City Resort Helmond
ATTACH;FMTTYPE=text/plain:https://hbb.rivio.dev/senioren/2019/wedstrijd/258
 78
END:VEVENT
BEGIN:VEVENT
UID:https://hbb.rivio.dev/senioren/2019/wedstrijd/25914
DTSTAMP:20260420T150905Z
SUMMARY:Mixed 3 - Con Brio 5
DESCRIPTION:Baan 12\, Wedstrijdnummer 76\, Afdeling Overgangsklasse K
DTSTART:20191107T200000
DTEND:20191107T230000
LOCATION:City Resort Helmond
ATTACH;FMTTYPE=text/plain:https://hbb.rivio.dev/senioren/2019/wedstrijd/259
 14
END:VEVENT
BEGIN:VEVENT
UID:https://hbb.rivio.dev/senioren/2019/wedstrijd/25961
DTSTAMP:20260420T150905Z
SUMMARY:Mierlo 4 - Mixed 3
DESCRIPTION:Baan 4\, Wedstrijdnummer 79\, Afdeling Overgangsklasse K
DTSTART:20191127T200000
DTEND:20191127T230000
LOCATION:City Resort Helmond
ATTACH;FMTTYPE=text/plain:https://hbb.rivio.dev/senioren/2019/wedstrijd/259
 61
END:VEVENT
BEGIN:VEVENT
UID:https://hbb.rivio.dev/senioren/2019/wedstrijd/26018
DTSTAMP:20260420T150905Z
SUMMARY:RBC 1 - Mixed 3
DESCRIPTION:Baan 1\, Wedstrijdnummer 1067\, Afdeling Overgangsklasse K
DTSTART:20191219T200000
DTEND:20191219T230000
LOCATION:City Resort Helmond
ATTACH;FMTTYPE=text/plain:https://hbb.rivio.dev/senioren/2019/wedstrijd/260
 18
END:VEVENT
BEGIN:VEVENT
UID:https://hbb.rivio.dev/senioren/2019/wedstrijd/26033
DTSTAMP:20260420T150905Z
SUMMARY:Phoenix 2 - Mixed 3
DESCRIPTION:Baan 15\, Wedstrijdnummer 1068\, Afdeling Overgangsklasse D
DTSTART:20200108T200000
DTEND:20200108T230000
LOCATION:City Resort Helmond
ATTACH;FMTTYPE=text/plain:https://hbb.rivio.dev/senioren/2019/wedstrijd/260
 33
END:VEVENT
BEGIN:VEVENT
UID:https://hbb.rivio.dev/senioren/2019/wedstrijd/26092
DTSTAMP:20260420T150905Z
SUMMARY:Mixed 3 - Brabantia 2
DESCRIPTION:Baan 1\, Wedstrijdnummer 1072\, Afdeling Overgangsklasse K
DTSTART:20200205T200000
DTEND:20200205T230000
LOCATION:City Resort Helmond
ATTACH;FMTTYPE=text/plain:https://hbb.rivio.dev/senioren/2019/wedstrijd/260
 92
END:VEVENT
BEGIN:VEVENT
UID:https://hbb.rivio.dev/senioren/2019/wedstrijd/26116
DTSTAMP:20260420T150905Z
SUMMARY:Con Brio 5 - Mixed 3
DESCRIPTION:Baan 5\, Wedstrijdnummer 1076\, Afdeling Overgangsklasse D
DTSTART:20200212T200000
DTEND:20200212T230000
LOCATION:City Resort Helmond
ATTACH;FMTTYPE=text/plain:https://hbb.rivio.dev/senioren/2019/wedstrijd/261
 16
END:VEVENT
BEGIN:VEVENT
UID:https://hbb.rivio.dev/senioren/2019/wedstrijd/26135
DTSTAMP:20260420T150905Z
SUMMARY:Mixed 3 - Mierlo 4
DESCRIPTION:Baan 3\, Wedstrijdnummer 1079\, Afdeling Overgangsklasse K
DTSTART:20200219T200000
DTEND:20200219T230000
LOCATION:City Resort Helmond
ATTACH;FMTTYPE=text/plain:https://hbb.rivio.dev/senioren/2019/wedstrijd/261
 35
END:VEVENT
BEGIN:VEVENT
UID:https://hbb.rivio.dev/senioren/2019/wedstrijd/26359
DTSTAMP:20260420T150905Z
SUMMARY:Mixed 3 - Mixed 2
DESCRIPTION:Baan 4\, Wedstrijdnummer 2026\, Afdeling Overgangsklasse K
DTSTART:20200304T200000
DTEND:20200304T230000
LOCATION:City Resort Helmond
ATTACH;FMTTYPE=text/plain:https://hbb.rivio.dev/senioren/2019/wedstrijd/263
 59
END:VEVENT
BEGIN:VEVENT
UID:https://hbb.rivio.dev/senioren/2019/wedstrijd/26365
DTSTAMP:20260420T150905Z
SUMMARY:Bakel 1 - Mixed 3
DESCRIPTION:Baan 3\, Wedstrijdnummer 2008\, Afdeling Overgangsklasse K
DTSTART:20200318T200000
DTEND:20200318T230000
LOCATION:City Resort Helmond
ATTACH;FMTTYPE=text/plain:https://hbb.rivio.dev/senioren/2019/wedstrijd/263
 65
END:VEVENT
BEGIN:VEVENT
UID:https://hbb.rivio.dev/senioren/2019/wedstrijd/26370
DTSTAMP:20260420T150905Z
SUMMARY:RBC 1 - Mixed 3
DESCRIPTION:Baan 11\, Wedstrijdnummer 2013\, Afdeling Overgangsklasse K
DTSTART:20200325T200000
DTEND:20200325T230000
LOCATION:City Resort Helmond
ATTACH;FMTTYPE=text/plain:https://hbb.rivio.dev/senioren/2019/wedstrijd/263
 70
END:VEVENT
BEGIN:VEVENT
UID:https://hbb.rivio.dev/senioren/2019/wedstrijd/26375
DTSTAMP:20260420T150905Z
SUMMARY:Mixed 3 - Con Brio 4
DESCRIPTION:Baan 5\, Wedstrijdnummer 2018\, Afdeling Overgangsklasse K
DTSTART:20200415T200000
DTEND:20200415T230000
LOCATION:City Resort Helmond
ATTACH;FMTTYPE=text/plain:https://hbb.rivio.dev/senioren/2019/wedstrijd/263
 75
END:VEVENT
BEGIN:VEVENT
UID:https://hbb.rivio.dev/senioren/2019/wedstrijd/26383
DTSTAMP:20260420T150905Z
SUMMARY:Mierlo 4 - Mixed 3
DESCRIPTION:Baan 12\, Wedstrijdnummer 2002\, Afdeling Overgangsklasse K
DTSTART:20200520T200000
DTEND:20200520T230000
LOCATION:City Resort Helmond
ATTACH;FMTTYPE=text/plain:https://hbb.rivio.dev/senioren/2019/wedstrijd/263
 83
END:VEVENT
BEGIN:VTIMEZONE
TZID:Europe/Amsterdam
BEGIN:STANDARD
DTSTART:20190101T000000
TZNAME:CET
TZOFFSETTO:+0100
TZOFFSETFROM:+0100
END:STANDARD
BEGIN:DAYLIGHT
DTSTART:20190331T030000
TZNAME:CEST
TZOFFSETTO:+0200
TZOFFSETFROM:+0100
END:DAYLIGHT
BEGIN:STANDARD
DTSTART:20191027T020000
TZNAME:CET
TZOFFSETTO:+0100
TZOFFSETFROM:+0200
END:STANDARD
BEGIN:DAYLIGHT
DTSTART:20200329T030000
TZNAME:CEST
TZOFFSETTO:+0200
TZOFFSETFROM:+0100
END:DAYLIGHT
BEGIN:STANDARD
DTSTART:20201025T020000
TZNAME:CET
TZOFFSETTO:+0100
TZOFFSETFROM:+0200
END:STANDARD
END:VTIMEZONE
END:VCALENDAR
