BEGIN:VCALENDAR
PRODID:-//eluceo/ical//2.0/EN
VERSION:2.0
CALSCALE:GREGORIAN
BEGIN:VEVENT
UID:https://hbb.rivio.dev/jeugd/2019/wedstrijd/24964
DTSTAMP:20260420T220859Z
SUMMARY:Mixed 6 - Mixed 7
DESCRIPTION:Baan 14\, Afdeling P-klasse 
DTSTART:20190915T093000
DTEND:20190915T111500
LOCATION:City Resort Helmond
ATTACH;FMTTYPE=text/plain:https://hbb.rivio.dev/jeugd/2019/wedstrijd/24964
END:VEVENT
BEGIN:VEVENT
UID:https://hbb.rivio.dev/jeugd/2019/wedstrijd/24967
DTSTAMP:20260420T220859Z
SUMMARY:BCV '73 5 - Mixed 7
DESCRIPTION:Baan 15\, Afdeling P-klasse 
DTSTART:20190915T111500
DTEND:20190915T130000
LOCATION:City Resort Helmond
ATTACH;FMTTYPE=text/plain:https://hbb.rivio.dev/jeugd/2019/wedstrijd/24967
END:VEVENT
BEGIN:VEVENT
UID:https://hbb.rivio.dev/jeugd/2019/wedstrijd/25020
DTSTAMP:20260420T220859Z
SUMMARY:Mixed 7 - Mierlo 11
DESCRIPTION:Baan 15\, Afdeling P-klasse 
DTSTART:20191006T130000
DTEND:20191006T144500
LOCATION:City Resort Helmond
ATTACH;FMTTYPE=text/plain:https://hbb.rivio.dev/jeugd/2019/wedstrijd/25020
END:VEVENT
BEGIN:VEVENT
UID:https://hbb.rivio.dev/jeugd/2019/wedstrijd/25021
DTSTAMP:20260420T220859Z
SUMMARY:Mixed 8 - Mixed 7
DESCRIPTION:Baan 10\, Afdeling P-klasse 
DTSTART:20191006T144500
DTEND:20191006T160000
LOCATION:City Resort Helmond
ATTACH;FMTTYPE=text/plain:https://hbb.rivio.dev/jeugd/2019/wedstrijd/25021
END:VEVENT
BEGIN:VEVENT
UID:https://hbb.rivio.dev/jeugd/2019/wedstrijd/25052
DTSTAMP:20260420T220859Z
SUMMARY:Mixed 7 - BCV '73 5
DESCRIPTION:Baan 15\, Afdeling P-klasse 
DTSTART:20191110T093000
DTEND:20191110T111500
LOCATION:City Resort Helmond
ATTACH;FMTTYPE=text/plain:https://hbb.rivio.dev/jeugd/2019/wedstrijd/25052
END:VEVENT
BEGIN:VEVENT
UID:https://hbb.rivio.dev/jeugd/2019/wedstrijd/25054
DTSTAMP:20260420T220859Z
SUMMARY:Mixed 7 - Mixed 8
DESCRIPTION:Baan 15\, Afdeling P-klasse 
DTSTART:20191110T111500
DTEND:20191110T130000
LOCATION:City Resort Helmond
ATTACH;FMTTYPE=text/plain:https://hbb.rivio.dev/jeugd/2019/wedstrijd/25054
END:VEVENT
BEGIN:VEVENT
UID:https://hbb.rivio.dev/jeugd/2019/wedstrijd/25071
DTSTAMP:20260420T220859Z
SUMMARY:Mixed 7 - Mixed 6
DESCRIPTION:Baan 12\, Afdeling P-klasse 
DTSTART:20191117T093000
DTEND:20191117T111500
LOCATION:City Resort Helmond
ATTACH;FMTTYPE=text/plain:https://hbb.rivio.dev/jeugd/2019/wedstrijd/25071
END:VEVENT
BEGIN:VEVENT
UID:https://hbb.rivio.dev/jeugd/2019/wedstrijd/25072
DTSTAMP:20260420T220859Z
SUMMARY:Mierlo 11 - Mixed 7
DESCRIPTION:Baan 11\, Afdeling P-klasse 
DTSTART:20191117T111500
DTEND:20191117T130000
LOCATION:City Resort Helmond
ATTACH;FMTTYPE=text/plain:https://hbb.rivio.dev/jeugd/2019/wedstrijd/25072
END:VEVENT
BEGIN:VEVENT
UID:https://hbb.rivio.dev/jeugd/2019/wedstrijd/25157
DTSTAMP:20260420T220859Z
SUMMARY:Mixed 6 - Mixed 7
DESCRIPTION:Baan 11\, Afdeling P-klasse 
DTSTART:20200112T093000
DTEND:20200112T111500
LOCATION:City Resort Helmond
ATTACH;FMTTYPE=text/plain:https://hbb.rivio.dev/jeugd/2019/wedstrijd/25157
END:VEVENT
BEGIN:VEVENT
UID:https://hbb.rivio.dev/jeugd/2019/wedstrijd/25160
DTSTAMP:20260420T220859Z
SUMMARY:BCV '73 5 - Mixed 7
DESCRIPTION:Baan 12\, Afdeling P-klasse 
DTSTART:20200112T111500
DTEND:20200112T130000
LOCATION:City Resort Helmond
ATTACH;FMTTYPE=text/plain:https://hbb.rivio.dev/jeugd/2019/wedstrijd/25160
END:VEVENT
BEGIN:VEVENT
UID:https://hbb.rivio.dev/jeugd/2019/wedstrijd/25168
DTSTAMP:20260420T220859Z
SUMMARY:Mixed 7 - Mierlo 11
DESCRIPTION:Baan 15\, Afdeling P-klasse 
DTSTART:20200119T093000
DTEND:20200119T111500
LOCATION:City Resort Helmond
ATTACH;FMTTYPE=text/plain:https://hbb.rivio.dev/jeugd/2019/wedstrijd/25168
END:VEVENT
BEGIN:VEVENT
UID:https://hbb.rivio.dev/jeugd/2019/wedstrijd/25169
DTSTAMP:20260420T220859Z
SUMMARY:Mixed 8 - Mixed 7
DESCRIPTION:Baan 10\, Afdeling P-klasse 
DTSTART:20200119T111500
DTEND:20200119T130000
LOCATION:City Resort Helmond
ATTACH;FMTTYPE=text/plain:https://hbb.rivio.dev/jeugd/2019/wedstrijd/25169
END:VEVENT
BEGIN:VEVENT
UID:https://hbb.rivio.dev/jeugd/2019/wedstrijd/25178
DTSTAMP:20260420T220859Z
SUMMARY:Mixed 7 - BCV '73 5
DESCRIPTION:Baan 12\, Afdeling P-klasse 
DTSTART:20200209T093000
DTEND:20200209T111500
LOCATION:City Resort Helmond
ATTACH;FMTTYPE=text/plain:https://hbb.rivio.dev/jeugd/2019/wedstrijd/25178
END:VEVENT
BEGIN:VEVENT
UID:https://hbb.rivio.dev/jeugd/2019/wedstrijd/25180
DTSTAMP:20260420T220859Z
SUMMARY:Mixed 7 - Mixed 8
DESCRIPTION:Baan 12\, Afdeling P-klasse 
DTSTART:20200209T111500
DTEND:20200209T130000
LOCATION:City Resort Helmond
ATTACH;FMTTYPE=text/plain:https://hbb.rivio.dev/jeugd/2019/wedstrijd/25180
END:VEVENT
BEGIN:VEVENT
UID:https://hbb.rivio.dev/jeugd/2019/wedstrijd/25200
DTSTAMP:20260420T220859Z
SUMMARY:Mixed 7 - Mixed 6
DESCRIPTION:Baan 15\, Afdeling P-klasse 
DTSTART:20200308T093000
DTEND:20200308T111500
LOCATION:City Resort Helmond
ATTACH;FMTTYPE=text/plain:https://hbb.rivio.dev/jeugd/2019/wedstrijd/25200
END:VEVENT
BEGIN:VEVENT
UID:https://hbb.rivio.dev/jeugd/2019/wedstrijd/25201
DTSTAMP:20260420T220859Z
SUMMARY:Mierlo 11 - Mixed 7
DESCRIPTION:Baan 10\, Afdeling P-klasse 
DTSTART:20200308T111500
DTEND:20200308T130000
LOCATION:City Resort Helmond
ATTACH;FMTTYPE=text/plain:https://hbb.rivio.dev/jeugd/2019/wedstrijd/25201
END:VEVENT
BEGIN:VTIMEZONE
TZID:Europe/Amsterdam
BEGIN:STANDARD
DTSTART:20190101T000000
TZNAME:CET
TZOFFSETTO:+0100
TZOFFSETFROM:+0100
END:STANDARD
BEGIN:DAYLIGHT
DTSTART:20190331T030000
TZNAME:CEST
TZOFFSETTO:+0200
TZOFFSETFROM:+0100
END:DAYLIGHT
BEGIN:STANDARD
DTSTART:20191027T020000
TZNAME:CET
TZOFFSETTO:+0100
TZOFFSETFROM:+0200
END:STANDARD
BEGIN:DAYLIGHT
DTSTART:20200329T030000
TZNAME:CEST
TZOFFSETTO:+0200
TZOFFSETFROM:+0100
END:DAYLIGHT
BEGIN:STANDARD
DTSTART:20201025T020000
TZNAME:CET
TZOFFSETTO:+0100
TZOFFSETFROM:+0200
END:STANDARD
END:VTIMEZONE
END:VCALENDAR
