BEGIN:VCALENDAR
PRODID:-//eluceo/ical//2.0/EN
VERSION:2.0
CALSCALE:GREGORIAN
BEGIN:VEVENT
UID:https://hbb.rivio.dev/jeugd/2019/wedstrijd/24964
DTSTAMP:20260420T151639Z
SUMMARY:Mixed 6 - Mixed 7
DESCRIPTION:Baan 14\, Afdeling P-klasse 
DTSTART:20190915T093000
DTEND:20190915T111500
LOCATION:City Resort Helmond
ATTACH;FMTTYPE=text/plain:https://hbb.rivio.dev/jeugd/2019/wedstrijd/24964
END:VEVENT
BEGIN:VEVENT
UID:https://hbb.rivio.dev/jeugd/2019/wedstrijd/24966
DTSTAMP:20260420T151639Z
SUMMARY:Mierlo 11 - Mixed 6
DESCRIPTION:Baan 14\, Afdeling P-klasse 
DTSTART:20190915T111500
DTEND:20190915T130000
LOCATION:City Resort Helmond
ATTACH;FMTTYPE=text/plain:https://hbb.rivio.dev/jeugd/2019/wedstrijd/24966
END:VEVENT
BEGIN:VEVENT
UID:https://hbb.rivio.dev/jeugd/2019/wedstrijd/25051
DTSTAMP:20260420T151639Z
SUMMARY:Mixed 8 - Mixed 6
DESCRIPTION:Baan 10\, Afdeling P-klasse 
DTSTART:20191110T093000
DTEND:20191110T111500
LOCATION:City Resort Helmond
ATTACH;FMTTYPE=text/plain:https://hbb.rivio.dev/jeugd/2019/wedstrijd/25051
END:VEVENT
BEGIN:VEVENT
UID:https://hbb.rivio.dev/jeugd/2019/wedstrijd/25053
DTSTAMP:20260420T151639Z
SUMMARY:BCV '73 5 - Mixed 6
DESCRIPTION:Baan 10\, Afdeling P-klasse 
DTSTART:20191110T111500
DTEND:20191110T130000
LOCATION:City Resort Helmond
ATTACH;FMTTYPE=text/plain:https://hbb.rivio.dev/jeugd/2019/wedstrijd/25053
END:VEVENT
BEGIN:VEVENT
UID:https://hbb.rivio.dev/jeugd/2019/wedstrijd/25073
DTSTAMP:20260420T151639Z
SUMMARY:Mixed 6 - Mixed 8
DESCRIPTION:Baan 12\, Afdeling P-klasse 
DTSTART:20191117T111500
DTEND:20191117T130000
LOCATION:City Resort Helmond
ATTACH;FMTTYPE=text/plain:https://hbb.rivio.dev/jeugd/2019/wedstrijd/25073
END:VEVENT
BEGIN:VEVENT
UID:https://hbb.rivio.dev/jeugd/2019/wedstrijd/25071
DTSTAMP:20260420T151639Z
SUMMARY:Mixed 7 - Mixed 6
DESCRIPTION:Baan 12\, Afdeling P-klasse 
DTSTART:20191117T093000
DTEND:20191117T111500
LOCATION:City Resort Helmond
ATTACH;FMTTYPE=text/plain:https://hbb.rivio.dev/jeugd/2019/wedstrijd/25071
END:VEVENT
BEGIN:VEVENT
UID:https://hbb.rivio.dev/jeugd/2019/wedstrijd/25123
DTSTAMP:20260420T151639Z
SUMMARY:Mixed 6 - Mierlo 11
DESCRIPTION:Baan 10\, Afdeling P-klasse 
DTSTART:20191208T093000
DTEND:20191208T111500
LOCATION:City Resort Helmond
ATTACH;FMTTYPE=text/plain:https://hbb.rivio.dev/jeugd/2019/wedstrijd/25123
END:VEVENT
BEGIN:VEVENT
UID:https://hbb.rivio.dev/jeugd/2019/wedstrijd/25125
DTSTAMP:20260420T151639Z
SUMMARY:Mixed 6 - BCV '73 5
DESCRIPTION:Baan 10\, Afdeling P-klasse 
DTSTART:20191208T111500
DTEND:20191208T130000
LOCATION:City Resort Helmond
ATTACH;FMTTYPE=text/plain:https://hbb.rivio.dev/jeugd/2019/wedstrijd/25125
END:VEVENT
BEGIN:VEVENT
UID:https://hbb.rivio.dev/jeugd/2019/wedstrijd/25157
DTSTAMP:20260420T151639Z
SUMMARY:Mixed 6 - Mixed 7
DESCRIPTION:Baan 11\, Afdeling P-klasse 
DTSTART:20200112T093000
DTEND:20200112T111500
LOCATION:City Resort Helmond
ATTACH;FMTTYPE=text/plain:https://hbb.rivio.dev/jeugd/2019/wedstrijd/25157
END:VEVENT
BEGIN:VEVENT
UID:https://hbb.rivio.dev/jeugd/2019/wedstrijd/25159
DTSTAMP:20260420T151639Z
SUMMARY:Mierlo 11 - Mixed 6
DESCRIPTION:Baan 11\, Afdeling P-klasse 
DTSTART:20200112T111500
DTEND:20200112T130000
LOCATION:City Resort Helmond
ATTACH;FMTTYPE=text/plain:https://hbb.rivio.dev/jeugd/2019/wedstrijd/25159
END:VEVENT
BEGIN:VEVENT
UID:https://hbb.rivio.dev/jeugd/2019/wedstrijd/25177
DTSTAMP:20260420T151639Z
SUMMARY:Mixed 8 - Mixed 6
DESCRIPTION:Baan 11\, Afdeling P-klasse 
DTSTART:20200209T093000
DTEND:20200209T111500
LOCATION:City Resort Helmond
ATTACH;FMTTYPE=text/plain:https://hbb.rivio.dev/jeugd/2019/wedstrijd/25177
END:VEVENT
BEGIN:VEVENT
UID:https://hbb.rivio.dev/jeugd/2019/wedstrijd/25179
DTSTAMP:20260420T151639Z
SUMMARY:BCV '73 5 - Mixed 6
DESCRIPTION:Baan 11\, Afdeling P-klasse 
DTSTART:20200209T111500
DTEND:20200209T130000
LOCATION:City Resort Helmond
ATTACH;FMTTYPE=text/plain:https://hbb.rivio.dev/jeugd/2019/wedstrijd/25179
END:VEVENT
BEGIN:VEVENT
UID:https://hbb.rivio.dev/jeugd/2019/wedstrijd/25202
DTSTAMP:20260420T151639Z
SUMMARY:Mixed 6 - Mixed 8
DESCRIPTION:Baan 15\, Afdeling P-klasse 
DTSTART:20200308T111500
DTEND:20200308T130000
LOCATION:City Resort Helmond
ATTACH;FMTTYPE=text/plain:https://hbb.rivio.dev/jeugd/2019/wedstrijd/25202
END:VEVENT
BEGIN:VEVENT
UID:https://hbb.rivio.dev/jeugd/2019/wedstrijd/25200
DTSTAMP:20260420T151639Z
SUMMARY:Mixed 7 - Mixed 6
DESCRIPTION:Baan 15\, Afdeling P-klasse 
DTSTART:20200308T093000
DTEND:20200308T111500
LOCATION:City Resort Helmond
ATTACH;FMTTYPE=text/plain:https://hbb.rivio.dev/jeugd/2019/wedstrijd/25200
END:VEVENT
BEGIN:VEVENT
UID:https://hbb.rivio.dev/jeugd/2019/wedstrijd/25233
DTSTAMP:20260420T151639Z
SUMMARY:Mixed 6 - Mierlo 11
DESCRIPTION:Baan 14\, Afdeling P-klasse 
DTSTART:20200329T093000
DTEND:20200329T111500
LOCATION:City Resort Helmond
ATTACH;FMTTYPE=text/plain:https://hbb.rivio.dev/jeugd/2019/wedstrijd/25233
END:VEVENT
BEGIN:VEVENT
UID:https://hbb.rivio.dev/jeugd/2019/wedstrijd/25235
DTSTAMP:20260420T151639Z
SUMMARY:Mixed 6 - BCV '73 5
DESCRIPTION:Baan 14\, Afdeling P-klasse 
DTSTART:20200329T111500
DTEND:20200329T130000
LOCATION:City Resort Helmond
ATTACH;FMTTYPE=text/plain:https://hbb.rivio.dev/jeugd/2019/wedstrijd/25235
END:VEVENT
BEGIN:VTIMEZONE
TZID:Europe/Amsterdam
BEGIN:STANDARD
DTSTART:20190101T000000
TZNAME:CET
TZOFFSETTO:+0100
TZOFFSETFROM:+0100
END:STANDARD
BEGIN:DAYLIGHT
DTSTART:20190331T030000
TZNAME:CEST
TZOFFSETTO:+0200
TZOFFSETFROM:+0100
END:DAYLIGHT
BEGIN:STANDARD
DTSTART:20191027T020000
TZNAME:CET
TZOFFSETTO:+0100
TZOFFSETFROM:+0200
END:STANDARD
BEGIN:DAYLIGHT
DTSTART:20200329T030000
TZNAME:CEST
TZOFFSETTO:+0200
TZOFFSETFROM:+0100
END:DAYLIGHT
BEGIN:STANDARD
DTSTART:20201025T020000
TZNAME:CET
TZOFFSETTO:+0100
TZOFFSETFROM:+0200
END:STANDARD
END:VTIMEZONE
END:VCALENDAR
