BEGIN:VCALENDAR
PRODID:-//eluceo/ical//2.0/EN
VERSION:2.0
CALSCALE:GREGORIAN
BEGIN:VEVENT
UID:https://hbb.rivio.dev/jeugd/2019/wedstrijd/25011
DTSTAMP:20260420T120642Z
SUMMARY:Mixed 4 - Mixed 5
DESCRIPTION:Baan 11\, Afdeling H-klasse 
DTSTART:20191006T130000
DTEND:20191006T144500
LOCATION:City Resort Helmond
ATTACH;FMTTYPE=text/plain:https://hbb.rivio.dev/jeugd/2019/wedstrijd/25011
END:VEVENT
BEGIN:VEVENT
UID:https://hbb.rivio.dev/jeugd/2019/wedstrijd/25016
DTSTAMP:20260420T120642Z
SUMMARY:Phoenix 5 - Mixed 5
DESCRIPTION:Baan 12\, Afdeling G-klasse 
DTSTART:20191006T144500
DTEND:20191006T160000
LOCATION:City Resort Helmond
ATTACH;FMTTYPE=text/plain:https://hbb.rivio.dev/jeugd/2019/wedstrijd/25016
END:VEVENT
BEGIN:VEVENT
UID:https://hbb.rivio.dev/jeugd/2019/wedstrijd/25046
DTSTAMP:20260420T120642Z
SUMMARY:Mixed 5 - Bakel 4
DESCRIPTION:Baan 14\, Afdeling H-klasse 
DTSTART:20191110T093000
DTEND:20191110T111500
LOCATION:City Resort Helmond
ATTACH;FMTTYPE=text/plain:https://hbb.rivio.dev/jeugd/2019/wedstrijd/25046
END:VEVENT
BEGIN:VEVENT
UID:https://hbb.rivio.dev/jeugd/2019/wedstrijd/25047
DTSTAMP:20260420T120642Z
SUMMARY:Mixed 5 - Phoenix 6
DESCRIPTION:Baan 11\, Afdeling H-klasse 
DTSTART:20191110T111500
DTEND:20191110T130000
LOCATION:City Resort Helmond
ATTACH;FMTTYPE=text/plain:https://hbb.rivio.dev/jeugd/2019/wedstrijd/25047
END:VEVENT
BEGIN:VEVENT
UID:https://hbb.rivio.dev/jeugd/2019/wedstrijd/25086
DTSTAMP:20260420T120642Z
SUMMARY:Mixed 5 - Ganzeveer 1
DESCRIPTION:Baan 13\, Afdeling H-klasse 
DTSTART:20191124T093000
DTEND:20191124T111500
LOCATION:City Resort Helmond
ATTACH;FMTTYPE=text/plain:https://hbb.rivio.dev/jeugd/2019/wedstrijd/25086
END:VEVENT
BEGIN:VEVENT
UID:https://hbb.rivio.dev/jeugd/2019/wedstrijd/25091
DTSTAMP:20260420T120642Z
SUMMARY:Mierlo 10 - Mixed 5
DESCRIPTION:Baan 14\, Afdeling G-klasse 
DTSTART:20191124T111500
DTEND:20191124T130000
LOCATION:City Resort Helmond
ATTACH;FMTTYPE=text/plain:https://hbb.rivio.dev/jeugd/2019/wedstrijd/25091
END:VEVENT
BEGIN:VEVENT
UID:https://hbb.rivio.dev/jeugd/2019/wedstrijd/25120
DTSTAMP:20260420T120642Z
SUMMARY:Mixed 5 - Con Brio 1
DESCRIPTION:Baan 12\, Afdeling H-klasse 
DTSTART:20191208T111500
DTEND:20191208T130000
LOCATION:City Resort Helmond
ATTACH;FMTTYPE=text/plain:https://hbb.rivio.dev/jeugd/2019/wedstrijd/25120
END:VEVENT
BEGIN:VEVENT
UID:https://hbb.rivio.dev/jeugd/2019/wedstrijd/25117
DTSTAMP:20260420T120642Z
SUMMARY:Hanevoet 3 - Mixed 5
DESCRIPTION:Baan 13\, Afdeling G-klasse 
DTSTART:20191208T093000
DTEND:20191208T111500
LOCATION:City Resort Helmond
ATTACH;FMTTYPE=text/plain:https://hbb.rivio.dev/jeugd/2019/wedstrijd/25117
END:VEVENT
BEGIN:VEVENT
UID:https://hbb.rivio.dev/jeugd/2019/wedstrijd/26315
DTSTAMP:20260420T120642Z
SUMMARY:Mixed 5 - Mixed 4
DESCRIPTION:Baan 13\, Afdeling H-klasse 
DTSTART:20200119T093000
DTEND:20200119T111500
LOCATION:City Resort Helmond
ATTACH;FMTTYPE=text/plain:https://hbb.rivio.dev/jeugd/2019/wedstrijd/26315
END:VEVENT
BEGIN:VEVENT
UID:https://hbb.rivio.dev/jeugd/2019/wedstrijd/26317
DTSTAMP:20260420T120642Z
SUMMARY:Mixed 5 - Con Brio 1
DESCRIPTION:Baan 13\, Afdeling H-klasse 
DTSTART:20200119T111500
DTEND:20200119T130000
LOCATION:City Resort Helmond
ATTACH;FMTTYPE=text/plain:https://hbb.rivio.dev/jeugd/2019/wedstrijd/26317
END:VEVENT
BEGIN:VEVENT
UID:https://hbb.rivio.dev/jeugd/2019/wedstrijd/26323
DTSTAMP:20260420T120642Z
SUMMARY:Mixed 5 - Phoenix 6
DESCRIPTION:Baan 11\, Afdeling H-klasse 
DTSTART:20200216T093000
DTEND:20200216T111500
LOCATION:City Resort Helmond
ATTACH;FMTTYPE=text/plain:https://hbb.rivio.dev/jeugd/2019/wedstrijd/26323
END:VEVENT
BEGIN:VEVENT
UID:https://hbb.rivio.dev/jeugd/2019/wedstrijd/26325
DTSTAMP:20260420T120642Z
SUMMARY:Mixed 4 - Mixed 5
DESCRIPTION:Baan 11\, Afdeling H-klasse 
DTSTART:20200216T111500
DTEND:20200216T130000
LOCATION:City Resort Helmond
ATTACH;FMTTYPE=text/plain:https://hbb.rivio.dev/jeugd/2019/wedstrijd/26325
END:VEVENT
BEGIN:VEVENT
UID:https://hbb.rivio.dev/jeugd/2019/wedstrijd/26331
DTSTAMP:20260420T120642Z
SUMMARY:Con Brio 1 - Mixed 5
DESCRIPTION:Baan 13\, Afdeling H-klasse 
DTSTART:20200308T093000
DTEND:20200308T111500
LOCATION:City Resort Helmond
ATTACH;FMTTYPE=text/plain:https://hbb.rivio.dev/jeugd/2019/wedstrijd/26331
END:VEVENT
BEGIN:VEVENT
UID:https://hbb.rivio.dev/jeugd/2019/wedstrijd/26333
DTSTAMP:20260420T120642Z
SUMMARY:Phoenix 6 - Mixed 5
DESCRIPTION:Baan 13\, Afdeling H-klasse 
DTSTART:20200308T111500
DTEND:20200308T130000
LOCATION:City Resort Helmond
ATTACH;FMTTYPE=text/plain:https://hbb.rivio.dev/jeugd/2019/wedstrijd/26333
END:VEVENT
BEGIN:VTIMEZONE
TZID:Europe/Amsterdam
BEGIN:STANDARD
DTSTART:20190101T000000
TZNAME:CET
TZOFFSETTO:+0100
TZOFFSETFROM:+0100
END:STANDARD
BEGIN:DAYLIGHT
DTSTART:20190331T030000
TZNAME:CEST
TZOFFSETTO:+0200
TZOFFSETFROM:+0100
END:DAYLIGHT
BEGIN:STANDARD
DTSTART:20191027T020000
TZNAME:CET
TZOFFSETTO:+0100
TZOFFSETFROM:+0200
END:STANDARD
BEGIN:DAYLIGHT
DTSTART:20200329T030000
TZNAME:CEST
TZOFFSETTO:+0200
TZOFFSETFROM:+0100
END:DAYLIGHT
BEGIN:STANDARD
DTSTART:20201025T020000
TZNAME:CET
TZOFFSETTO:+0100
TZOFFSETFROM:+0200
END:STANDARD
END:VTIMEZONE
END:VCALENDAR
