BEGIN:VCALENDAR
PRODID:-//eluceo/ical//2.0/EN
VERSION:2.0
CALSCALE:GREGORIAN
BEGIN:VEVENT
UID:https://hbb.rivio.dev/jeugd/2019/wedstrijd/25011
DTSTAMP:20260420T165108Z
SUMMARY:Mixed 4 - Mixed 5
DESCRIPTION:Baan 11\, Afdeling H-klasse 
DTSTART:20191006T130000
DTEND:20191006T144500
LOCATION:City Resort Helmond
ATTACH;FMTTYPE=text/plain:https://hbb.rivio.dev/jeugd/2019/wedstrijd/25011
END:VEVENT
BEGIN:VEVENT
UID:https://hbb.rivio.dev/jeugd/2019/wedstrijd/25015
DTSTAMP:20260420T165108Z
SUMMARY:Bakel 4 - Mixed 4
DESCRIPTION:Baan 11\, Afdeling G-klasse 
DTSTART:20191006T144500
DTEND:20191006T160000
LOCATION:City Resort Helmond
ATTACH;FMTTYPE=text/plain:https://hbb.rivio.dev/jeugd/2019/wedstrijd/25015
END:VEVENT
BEGIN:VEVENT
UID:https://hbb.rivio.dev/jeugd/2019/wedstrijd/25043
DTSTAMP:20260420T165108Z
SUMMARY:Con Brio 1 - Mixed 4
DESCRIPTION:Baan 11\, Afdeling H-klasse 
DTSTART:20191110T093000
DTEND:20191110T111500
LOCATION:City Resort Helmond
ATTACH;FMTTYPE=text/plain:https://hbb.rivio.dev/jeugd/2019/wedstrijd/25043
END:VEVENT
BEGIN:VEVENT
UID:https://hbb.rivio.dev/jeugd/2019/wedstrijd/25084
DTSTAMP:20260420T165108Z
SUMMARY:Mixed 4 - Mierlo 10
DESCRIPTION:Baan 11\, Afdeling H-klasse 
DTSTART:20191124T093000
DTEND:20191124T111500
LOCATION:City Resort Helmond
ATTACH;FMTTYPE=text/plain:https://hbb.rivio.dev/jeugd/2019/wedstrijd/25084
END:VEVENT
BEGIN:VEVENT
UID:https://hbb.rivio.dev/jeugd/2019/wedstrijd/25088
DTSTAMP:20260420T165108Z
SUMMARY:Ganzeveer 1 - Mixed 4
DESCRIPTION:Baan 11\, Afdeling G-klasse 
DTSTART:20191124T111500
DTEND:20191124T130000
LOCATION:City Resort Helmond
ATTACH;FMTTYPE=text/plain:https://hbb.rivio.dev/jeugd/2019/wedstrijd/25088
END:VEVENT
BEGIN:VEVENT
UID:https://hbb.rivio.dev/jeugd/2019/wedstrijd/25115
DTSTAMP:20260420T165108Z
SUMMARY:Mixed 4 - Phoenix 5
DESCRIPTION:Baan 11\, Afdeling H-klasse 
DTSTART:20191208T093000
DTEND:20191208T111500
LOCATION:City Resort Helmond
ATTACH;FMTTYPE=text/plain:https://hbb.rivio.dev/jeugd/2019/wedstrijd/25115
END:VEVENT
BEGIN:VEVENT
UID:https://hbb.rivio.dev/jeugd/2019/wedstrijd/25119
DTSTAMP:20260420T165108Z
SUMMARY:Phoenix 6 - Mixed 4
DESCRIPTION:Baan 11\, Afdeling H-klasse 
DTSTART:20191208T111500
DTEND:20191208T130000
LOCATION:City Resort Helmond
ATTACH;FMTTYPE=text/plain:https://hbb.rivio.dev/jeugd/2019/wedstrijd/25119
END:VEVENT
BEGIN:VEVENT
UID:https://hbb.rivio.dev/jeugd/2019/wedstrijd/25141
DTSTAMP:20260420T165108Z
SUMMARY:Mixed 4 - Hanevoet 3
DESCRIPTION:Baan 14\, Afdeling H-klasse 
DTSTART:20191215T093000
DTEND:20191215T111500
LOCATION:City Resort Helmond
ATTACH;FMTTYPE=text/plain:https://hbb.rivio.dev/jeugd/2019/wedstrijd/25141
END:VEVENT
BEGIN:VEVENT
UID:https://hbb.rivio.dev/jeugd/2019/wedstrijd/26318
DTSTAMP:20260420T165108Z
SUMMARY:Mixed 4 - Phoenix 6
DESCRIPTION:Baan 14\, Afdeling H-klasse 
DTSTART:20200119T111500
DTEND:20200119T130000
LOCATION:City Resort Helmond
ATTACH;FMTTYPE=text/plain:https://hbb.rivio.dev/jeugd/2019/wedstrijd/26318
END:VEVENT
BEGIN:VEVENT
UID:https://hbb.rivio.dev/jeugd/2019/wedstrijd/26315
DTSTAMP:20260420T165108Z
SUMMARY:Mixed 5 - Mixed 4
DESCRIPTION:Baan 13\, Afdeling H-klasse 
DTSTART:20200119T093000
DTEND:20200119T111500
LOCATION:City Resort Helmond
ATTACH;FMTTYPE=text/plain:https://hbb.rivio.dev/jeugd/2019/wedstrijd/26315
END:VEVENT
BEGIN:VEVENT
UID:https://hbb.rivio.dev/jeugd/2019/wedstrijd/26324
DTSTAMP:20260420T165108Z
SUMMARY:Mixed 4 - Con Brio 1
DESCRIPTION:Baan 12\, Afdeling H-klasse 
DTSTART:20200216T093000
DTEND:20200216T111500
LOCATION:City Resort Helmond
ATTACH;FMTTYPE=text/plain:https://hbb.rivio.dev/jeugd/2019/wedstrijd/26324
END:VEVENT
BEGIN:VEVENT
UID:https://hbb.rivio.dev/jeugd/2019/wedstrijd/26325
DTSTAMP:20260420T165108Z
SUMMARY:Mixed 4 - Mixed 5
DESCRIPTION:Baan 11\, Afdeling H-klasse 
DTSTART:20200216T111500
DTEND:20200216T130000
LOCATION:City Resort Helmond
ATTACH;FMTTYPE=text/plain:https://hbb.rivio.dev/jeugd/2019/wedstrijd/26325
END:VEVENT
BEGIN:VEVENT
UID:https://hbb.rivio.dev/jeugd/2019/wedstrijd/26332
DTSTAMP:20260420T165108Z
SUMMARY:Phoenix 6 - Mixed 4
DESCRIPTION:Baan 14\, Afdeling H-klasse 
DTSTART:20200308T093000
DTEND:20200308T111500
LOCATION:City Resort Helmond
ATTACH;FMTTYPE=text/plain:https://hbb.rivio.dev/jeugd/2019/wedstrijd/26332
END:VEVENT
BEGIN:VEVENT
UID:https://hbb.rivio.dev/jeugd/2019/wedstrijd/26334
DTSTAMP:20260420T165108Z
SUMMARY:Con Brio 1 - Mixed 4
DESCRIPTION:Baan 14\, Afdeling H-klasse 
DTSTART:20200308T111500
DTEND:20200308T130000
LOCATION:City Resort Helmond
ATTACH;FMTTYPE=text/plain:https://hbb.rivio.dev/jeugd/2019/wedstrijd/26334
END:VEVENT
BEGIN:VTIMEZONE
TZID:Europe/Amsterdam
BEGIN:STANDARD
DTSTART:20190101T000000
TZNAME:CET
TZOFFSETTO:+0100
TZOFFSETFROM:+0100
END:STANDARD
BEGIN:DAYLIGHT
DTSTART:20190331T030000
TZNAME:CEST
TZOFFSETTO:+0200
TZOFFSETFROM:+0100
END:DAYLIGHT
BEGIN:STANDARD
DTSTART:20191027T020000
TZNAME:CET
TZOFFSETTO:+0100
TZOFFSETFROM:+0200
END:STANDARD
BEGIN:DAYLIGHT
DTSTART:20200329T030000
TZNAME:CEST
TZOFFSETTO:+0200
TZOFFSETFROM:+0100
END:DAYLIGHT
BEGIN:STANDARD
DTSTART:20201025T020000
TZNAME:CET
TZOFFSETTO:+0100
TZOFFSETFROM:+0200
END:STANDARD
END:VTIMEZONE
END:VCALENDAR
