BEGIN:VCALENDAR
PRODID:-//eluceo/ical//2.0/EN
VERSION:2.0
CALSCALE:GREGORIAN
BEGIN:VEVENT
UID:https://hbb.rivio.dev/jeugd/2019/wedstrijd/24951
DTSTAMP:20260420T181633Z
SUMMARY:BCV '73 1 - Mixed 2
DESCRIPTION:Baan 4\, Afdeling B-klasse 
DTSTART:20190915T093000
DTEND:20190915T111500
LOCATION:City Resort Helmond
ATTACH;FMTTYPE=text/plain:https://hbb.rivio.dev/jeugd/2019/wedstrijd/24951
END:VEVENT
BEGIN:VEVENT
UID:https://hbb.rivio.dev/jeugd/2019/wedstrijd/24970
DTSTAMP:20260420T181633Z
SUMMARY:Mixed 2 - Mierlo 4
DESCRIPTION:Baan 4\, Afdeling B-klasse 
DTSTART:20190922T093000
DTEND:20190922T111500
LOCATION:City Resort Helmond
ATTACH;FMTTYPE=text/plain:https://hbb.rivio.dev/jeugd/2019/wedstrijd/24970
END:VEVENT
BEGIN:VEVENT
UID:https://hbb.rivio.dev/jeugd/2019/wedstrijd/24984
DTSTAMP:20260420T181633Z
SUMMARY:Mixed 2 - Bakel 1
DESCRIPTION:Baan 2\, Afdeling B-klasse 
DTSTART:20191006T093000
DTEND:20191006T111500
LOCATION:City Resort Helmond
ATTACH;FMTTYPE=text/plain:https://hbb.rivio.dev/jeugd/2019/wedstrijd/24984
END:VEVENT
BEGIN:VEVENT
UID:https://hbb.rivio.dev/jeugd/2019/wedstrijd/25024
DTSTAMP:20260420T181633Z
SUMMARY:BCAB 1 - Mixed 2
DESCRIPTION:Baan 2\, Afdeling A-klasse 
DTSTART:20191027T093000
DTEND:20191027T111500
LOCATION:City Resort Helmond
ATTACH;FMTTYPE=text/plain:https://hbb.rivio.dev/jeugd/2019/wedstrijd/25024
END:VEVENT
BEGIN:VEVENT
UID:https://hbb.rivio.dev/jeugd/2019/wedstrijd/25039
DTSTAMP:20260420T181633Z
SUMMARY:Mierlo 1 - Mixed 2
DESCRIPTION:Baan 1\, Afdeling A-klasse 
DTSTART:20191110T093000
DTEND:20191110T111500
LOCATION:City Resort Helmond
ATTACH;FMTTYPE=text/plain:https://hbb.rivio.dev/jeugd/2019/wedstrijd/25039
END:VEVENT
BEGIN:VEVENT
UID:https://hbb.rivio.dev/jeugd/2019/wedstrijd/25057
DTSTAMP:20260420T181633Z
SUMMARY:Mixed 2 - Mierlo 2
DESCRIPTION:Baan 4\, Afdeling B-klasse 
DTSTART:20191117T093000
DTEND:20191117T111500
LOCATION:City Resort Helmond
ATTACH;FMTTYPE=text/plain:https://hbb.rivio.dev/jeugd/2019/wedstrijd/25057
END:VEVENT
BEGIN:VEVENT
UID:https://hbb.rivio.dev/jeugd/2019/wedstrijd/25076
DTSTAMP:20260420T181633Z
SUMMARY:Mixed 1 - Mixed 2
DESCRIPTION:Baan 3\, Afdeling A-klasse 
DTSTART:20191124T093000
DTEND:20191124T111500
LOCATION:City Resort Helmond
ATTACH;FMTTYPE=text/plain:https://hbb.rivio.dev/jeugd/2019/wedstrijd/25076
END:VEVENT
BEGIN:VEVENT
UID:https://hbb.rivio.dev/jeugd/2019/wedstrijd/25127
DTSTAMP:20260420T181633Z
SUMMARY:Mixed 2 - Mierlo 3
DESCRIPTION:Baan 1\, Afdeling B-klasse 
DTSTART:20191215T093000
DTEND:20191215T111500
LOCATION:City Resort Helmond
ATTACH;FMTTYPE=text/plain:https://hbb.rivio.dev/jeugd/2019/wedstrijd/25127
END:VEVENT
BEGIN:VEVENT
UID:https://hbb.rivio.dev/jeugd/2019/wedstrijd/26299
DTSTAMP:20260420T181633Z
SUMMARY:Mixed 2 - BCV '73 1
DESCRIPTION:Baan 2\, Afdeling B-klasse 
DTSTART:20200119T093000
DTEND:20200119T111500
LOCATION:City Resort Helmond
ATTACH;FMTTYPE=text/plain:https://hbb.rivio.dev/jeugd/2019/wedstrijd/26299
END:VEVENT
BEGIN:VEVENT
UID:https://hbb.rivio.dev/jeugd/2019/wedstrijd/26303
DTSTAMP:20260420T181633Z
SUMMARY:Mierlo 4 - Mixed 2
DESCRIPTION:Baan 4\, Afdeling B-klasse 
DTSTART:20200209T093000
DTEND:20200209T111500
LOCATION:City Resort Helmond
ATTACH;FMTTYPE=text/plain:https://hbb.rivio.dev/jeugd/2019/wedstrijd/26303
END:VEVENT
BEGIN:VEVENT
UID:https://hbb.rivio.dev/jeugd/2019/wedstrijd/26306
DTSTAMP:20260420T181633Z
SUMMARY:Mixed 2 - Bakel 1
DESCRIPTION:Baan 3\, Afdeling B-klasse 
DTSTART:20200216T093000
DTEND:20200216T111500
LOCATION:City Resort Helmond
ATTACH;FMTTYPE=text/plain:https://hbb.rivio.dev/jeugd/2019/wedstrijd/26306
END:VEVENT
BEGIN:VTIMEZONE
TZID:Europe/Amsterdam
BEGIN:STANDARD
DTSTART:20190101T000000
TZNAME:CET
TZOFFSETTO:+0100
TZOFFSETFROM:+0100
END:STANDARD
BEGIN:DAYLIGHT
DTSTART:20190331T030000
TZNAME:CEST
TZOFFSETTO:+0200
TZOFFSETFROM:+0100
END:DAYLIGHT
BEGIN:STANDARD
DTSTART:20191027T020000
TZNAME:CET
TZOFFSETTO:+0100
TZOFFSETFROM:+0200
END:STANDARD
BEGIN:DAYLIGHT
DTSTART:20200329T030000
TZNAME:CEST
TZOFFSETTO:+0200
TZOFFSETFROM:+0100
END:DAYLIGHT
BEGIN:STANDARD
DTSTART:20201025T020000
TZNAME:CET
TZOFFSETTO:+0100
TZOFFSETFROM:+0200
END:STANDARD
END:VTIMEZONE
END:VCALENDAR
