BEGIN:VCALENDAR
PRODID:-//eluceo/ical//2.0/EN
VERSION:2.0
CALSCALE:GREGORIAN
BEGIN:VEVENT
UID:https://hbb.rivio.dev/senioren/2019/wedstrijd/25806
DTSTAMP:20260420T164518Z
SUMMARY:Geldrop 2 - Veldhoven 1
DESCRIPTION:Baan 14\, Wedstrijdnummer 162\, Afdeling 3e klasse I
DTSTART:20190925T200000
DTEND:20190925T230000
LOCATION:City Resort Helmond
ATTACH;FMTTYPE=text/plain:https://hbb.rivio.dev/senioren/2019/wedstrijd/258
 06
END:VEVENT
BEGIN:VEVENT
UID:https://hbb.rivio.dev/senioren/2019/wedstrijd/25870
DTSTAMP:20260420T164518Z
SUMMARY:Veldhoven 1 - Never Down 2
DESCRIPTION:Baan 3\, Wedstrijdnummer 165\, Afdeling 3e klasse I
DTSTART:20191024T200000
DTEND:20191024T230000
LOCATION:City Resort Helmond
ATTACH;FMTTYPE=text/plain:https://hbb.rivio.dev/senioren/2019/wedstrijd/258
 70
END:VEVENT
BEGIN:VEVENT
UID:https://hbb.rivio.dev/senioren/2019/wedstrijd/25898
DTSTAMP:20260420T164518Z
SUMMARY:Veldhoven 1 - Mixed 6
DESCRIPTION:Baan 1\, Wedstrijdnummer 3024\, Afdeling 3e klasse I
DTSTART:20191106T200000
DTEND:20191106T230000
LOCATION:City Resort Helmond
ATTACH;FMTTYPE=text/plain:https://hbb.rivio.dev/senioren/2019/wedstrijd/258
 98
END:VEVENT
BEGIN:VEVENT
UID:https://hbb.rivio.dev/senioren/2019/wedstrijd/25955
DTSTAMP:20260420T164518Z
SUMMARY:Veldhoven 1 - BCAB 4
DESCRIPTION:Baan 13\, Wedstrijdnummer 170\, Afdeling 3e klasse I
DTSTART:20191121T200000
DTEND:20191121T230000
LOCATION:City Resort Helmond
ATTACH;FMTTYPE=text/plain:https://hbb.rivio.dev/senioren/2019/wedstrijd/259
 55
END:VEVENT
BEGIN:VEVENT
UID:https://hbb.rivio.dev/senioren/2019/wedstrijd/25996
DTSTAMP:20260420T164518Z
SUMMARY:Mierlo 9 - Veldhoven 1
DESCRIPTION:Baan 14\, Wedstrijdnummer 172\, Afdeling 3e klasse I
DTSTART:20191211T200000
DTEND:20191211T230000
LOCATION:City Resort Helmond
ATTACH;FMTTYPE=text/plain:https://hbb.rivio.dev/senioren/2019/wedstrijd/259
 96
END:VEVENT
BEGIN:VEVENT
UID:https://hbb.rivio.dev/senioren/2019/wedstrijd/26037
DTSTAMP:20260420T164518Z
SUMMARY:Veldhoven 1 - BCV '73 2
DESCRIPTION:Baan 4\, Wedstrijdnummer 175\, Afdeling 3e klasse I
DTSTART:20200109T200000
DTEND:20200109T230000
LOCATION:City Resort Helmond
ATTACH;FMTTYPE=text/plain:https://hbb.rivio.dev/senioren/2019/wedstrijd/260
 37
END:VEVENT
BEGIN:VEVENT
UID:https://hbb.rivio.dev/senioren/2019/wedstrijd/26110
DTSTAMP:20260420T164518Z
SUMMARY:Veldhoven 1 - Geldrop 2
DESCRIPTION:Baan 14\, Wedstrijdnummer 1162\, Afdeling 3e klasse I
DTSTART:20200206T200000
DTEND:20200206T230000
LOCATION:City Resort Helmond
ATTACH;FMTTYPE=text/plain:https://hbb.rivio.dev/senioren/2019/wedstrijd/261
 10
END:VEVENT
BEGIN:VEVENT
UID:https://hbb.rivio.dev/senioren/2019/wedstrijd/26149
DTSTAMP:20260420T164518Z
SUMMARY:Never Down 2 - Veldhoven 1
DESCRIPTION:Baan 10\, Wedstrijdnummer 1165\, Afdeling 3e klasse I
DTSTART:20200220T200000
DTEND:20200220T230000
LOCATION:City Resort Helmond
ATTACH;FMTTYPE=text/plain:https://hbb.rivio.dev/senioren/2019/wedstrijd/261
 49
END:VEVENT
BEGIN:VEVENT
UID:https://hbb.rivio.dev/senioren/2019/wedstrijd/26182
DTSTAMP:20260420T164518Z
SUMMARY:Veldhoven 1 - Gemert 3
DESCRIPTION:Baan 1\, Wedstrijdnummer 1167\, Afdeling 3e klasse I
DTSTART:20200312T200000
DTEND:20200312T230000
LOCATION:City Resort Helmond
ATTACH;FMTTYPE=text/plain:https://hbb.rivio.dev/senioren/2019/wedstrijd/261
 82
END:VEVENT
BEGIN:VEVENT
UID:https://hbb.rivio.dev/senioren/2019/wedstrijd/26205
DTSTAMP:20260420T164518Z
SUMMARY:BCAB 4 - Veldhoven 1
DESCRIPTION:Baan 12\, Wedstrijdnummer 1170\, Afdeling 3e klasse I
DTSTART:20200319T200000
DTEND:20200319T230000
LOCATION:City Resort Helmond
ATTACH;FMTTYPE=text/plain:https://hbb.rivio.dev/senioren/2019/wedstrijd/262
 05
END:VEVENT
BEGIN:VEVENT
UID:https://hbb.rivio.dev/senioren/2019/wedstrijd/26242
DTSTAMP:20260420T164518Z
SUMMARY:Veldhoven 1 - Mierlo 9
DESCRIPTION:Baan 5\, Wedstrijdnummer 1172\, Afdeling 3e klasse I
DTSTART:20200416T200000
DTEND:20200416T230000
LOCATION:City Resort Helmond
ATTACH;FMTTYPE=text/plain:https://hbb.rivio.dev/senioren/2019/wedstrijd/262
 42
END:VEVENT
BEGIN:VEVENT
UID:https://hbb.rivio.dev/senioren/2019/wedstrijd/26268
DTSTAMP:20260420T164518Z
SUMMARY:BCV '73 2 - Veldhoven 1
DESCRIPTION:Baan 13\, Wedstrijdnummer 1175\, Afdeling 3e klasse I
DTSTART:20200514T200000
DTEND:20200514T230000
LOCATION:City Resort Helmond
ATTACH;FMTTYPE=text/plain:https://hbb.rivio.dev/senioren/2019/wedstrijd/262
 68
END:VEVENT
BEGIN:VTIMEZONE
TZID:Europe/Amsterdam
BEGIN:STANDARD
DTSTART:20190101T000000
TZNAME:CET
TZOFFSETTO:+0100
TZOFFSETFROM:+0100
END:STANDARD
BEGIN:DAYLIGHT
DTSTART:20190331T030000
TZNAME:CEST
TZOFFSETTO:+0200
TZOFFSETFROM:+0100
END:DAYLIGHT
BEGIN:STANDARD
DTSTART:20191027T020000
TZNAME:CET
TZOFFSETTO:+0100
TZOFFSETFROM:+0200
END:STANDARD
BEGIN:DAYLIGHT
DTSTART:20200329T030000
TZNAME:CEST
TZOFFSETTO:+0200
TZOFFSETFROM:+0100
END:DAYLIGHT
BEGIN:STANDARD
DTSTART:20201025T020000
TZNAME:CET
TZOFFSETTO:+0100
TZOFFSETFROM:+0200
END:STANDARD
END:VTIMEZONE
END:VCALENDAR
