BEGIN:VCALENDAR
PRODID:-//eluceo/ical//2.0/EN
VERSION:2.0
CALSCALE:GREGORIAN
BEGIN:VEVENT
UID:https://hbb.rivio.dev/senioren/2019/wedstrijd/25796
DTSTAMP:20260420T200200Z
SUMMARY:Mixed 3 - RBC 1
DESCRIPTION:Baan 14\, Wedstrijdnummer 67\, Afdeling Overgangsklasse K
DTSTART:20190919T200000
DTEND:20190919T230000
LOCATION:City Resort Helmond
ATTACH;FMTTYPE=text/plain:https://hbb.rivio.dev/senioren/2019/wedstrijd/257
 96
END:VEVENT
BEGIN:VEVENT
UID:https://hbb.rivio.dev/senioren/2019/wedstrijd/25833
DTSTAMP:20260420T200200Z
SUMMARY:RBC 1 - Mierlo 4
DESCRIPTION:Baan 11\, Wedstrijdnummer 70\, Afdeling Overgangsklasse K
DTSTART:20191003T200000
DTEND:20191003T230000
LOCATION:City Resort Helmond
ATTACH;FMTTYPE=text/plain:https://hbb.rivio.dev/senioren/2019/wedstrijd/258
 33
END:VEVENT
BEGIN:VEVENT
UID:https://hbb.rivio.dev/senioren/2019/wedstrijd/25872
DTSTAMP:20260420T200200Z
SUMMARY:Con Brio 5 - RBC 1
DESCRIPTION:Baan 5\, Wedstrijdnummer 73\, Afdeling Overgangsklasse D
DTSTART:20191024T200000
DTEND:20191024T230000
LOCATION:City Resort Helmond
ATTACH;FMTTYPE=text/plain:https://hbb.rivio.dev/senioren/2019/wedstrijd/258
 72
END:VEVENT
BEGIN:VEVENT
UID:https://hbb.rivio.dev/senioren/2019/wedstrijd/25879
DTSTAMP:20260420T200200Z
SUMMARY:RBC 1 - Mixed 2
DESCRIPTION:Baan 2\, Wedstrijdnummer 3008\, Afdeling Overgangsklasse K
DTSTART:20191030T200000
DTEND:20191030T230000
LOCATION:City Resort Helmond
ATTACH;FMTTYPE=text/plain:https://hbb.rivio.dev/senioren/2019/wedstrijd/258
 79
END:VEVENT
BEGIN:VEVENT
UID:https://hbb.rivio.dev/senioren/2019/wedstrijd/25912
DTSTAMP:20260420T200200Z
SUMMARY:RBC 1 - Phoenix 2
DESCRIPTION:Baan 5\, Wedstrijdnummer 74\, Afdeling Overgangsklasse K
DTSTART:20191107T200000
DTEND:20191107T230000
LOCATION:City Resort Helmond
ATTACH;FMTTYPE=text/plain:https://hbb.rivio.dev/senioren/2019/wedstrijd/259
 12
END:VEVENT
BEGIN:VEVENT
UID:https://hbb.rivio.dev/senioren/2019/wedstrijd/25968
DTSTAMP:20260420T200200Z
SUMMARY:Brabantia 2 - RBC 1
DESCRIPTION:Baan 1\, Wedstrijdnummer 78\, Afdeling Overgangsklasse D
DTSTART:20191128T200000
DTEND:20191128T230000
LOCATION:City Resort Helmond
ATTACH;FMTTYPE=text/plain:https://hbb.rivio.dev/senioren/2019/wedstrijd/259
 68
END:VEVENT
BEGIN:VEVENT
UID:https://hbb.rivio.dev/senioren/2019/wedstrijd/26018
DTSTAMP:20260420T200200Z
SUMMARY:RBC 1 - Mixed 3
DESCRIPTION:Baan 1\, Wedstrijdnummer 1067\, Afdeling Overgangsklasse K
DTSTART:20191219T200000
DTEND:20191219T230000
LOCATION:City Resort Helmond
ATTACH;FMTTYPE=text/plain:https://hbb.rivio.dev/senioren/2019/wedstrijd/260
 18
END:VEVENT
BEGIN:VEVENT
UID:https://hbb.rivio.dev/senioren/2019/wedstrijd/26040
DTSTAMP:20260420T200200Z
SUMMARY:Mierlo 4 - RBC 1
DESCRIPTION:Baan 12\, Wedstrijdnummer 1070\, Afdeling Overgangsklasse K
DTSTART:20200109T200000
DTEND:20200109T230000
LOCATION:City Resort Helmond
ATTACH;FMTTYPE=text/plain:https://hbb.rivio.dev/senioren/2019/wedstrijd/260
 40
END:VEVENT
BEGIN:VEVENT
UID:https://hbb.rivio.dev/senioren/2019/wedstrijd/26279
DTSTAMP:20260420T200200Z
SUMMARY:Mixed 2 - RBC 1
DESCRIPTION:Baan 4\, Wedstrijdnummer 3045\, Afdeling Overgangsklasse K
DTSTART:20200122T200000
DTEND:20200122T230000
LOCATION:City Resort Helmond
ATTACH;FMTTYPE=text/plain:https://hbb.rivio.dev/senioren/2019/wedstrijd/262
 79
END:VEVENT
BEGIN:VEVENT
UID:https://hbb.rivio.dev/senioren/2019/wedstrijd/26082
DTSTAMP:20260420T200200Z
SUMMARY:RBC 1 - Con Brio 5
DESCRIPTION:Baan 1\, Wedstrijdnummer 1073\, Afdeling Overgangsklasse K
DTSTART:20200130T200000
DTEND:20200130T230000
LOCATION:City Resort Helmond
ATTACH;FMTTYPE=text/plain:https://hbb.rivio.dev/senioren/2019/wedstrijd/260
 82
END:VEVENT
BEGIN:VEVENT
UID:https://hbb.rivio.dev/senioren/2019/wedstrijd/26114
DTSTAMP:20260420T200200Z
SUMMARY:Phoenix 2 - RBC 1
DESCRIPTION:Baan 3\, Wedstrijdnummer 1074\, Afdeling Overgangsklasse D
DTSTART:20200212T200000
DTEND:20200212T230000
LOCATION:City Resort Helmond
ATTACH;FMTTYPE=text/plain:https://hbb.rivio.dev/senioren/2019/wedstrijd/261
 14
END:VEVENT
BEGIN:VEVENT
UID:https://hbb.rivio.dev/senioren/2019/wedstrijd/26151
DTSTAMP:20260420T200200Z
SUMMARY:RBC 1 - Brabantia 2
DESCRIPTION:Baan 12\, Wedstrijdnummer 1078\, Afdeling Overgangsklasse K
DTSTART:20200220T200000
DTEND:20200220T230000
LOCATION:City Resort Helmond
ATTACH;FMTTYPE=text/plain:https://hbb.rivio.dev/senioren/2019/wedstrijd/261
 51
END:VEVENT
BEGIN:VEVENT
UID:https://hbb.rivio.dev/senioren/2019/wedstrijd/26357
DTSTAMP:20260420T200200Z
SUMMARY:Con Brio 4 - RBC 1
DESCRIPTION:Baan 2\, Wedstrijdnummer 2024\, Afdeling Overgangsklasse K
DTSTART:20200304T200000
DTEND:20200304T230000
LOCATION:City Resort Helmond
ATTACH;FMTTYPE=text/plain:https://hbb.rivio.dev/senioren/2019/wedstrijd/263
 57
END:VEVENT
BEGIN:VEVENT
UID:https://hbb.rivio.dev/senioren/2019/wedstrijd/26364
DTSTAMP:20260420T200200Z
SUMMARY:RBC 1 - Mierlo 4
DESCRIPTION:Baan 2\, Wedstrijdnummer 2007\, Afdeling Overgangsklasse K
DTSTART:20200318T200000
DTEND:20200318T230000
LOCATION:City Resort Helmond
ATTACH;FMTTYPE=text/plain:https://hbb.rivio.dev/senioren/2019/wedstrijd/263
 64
END:VEVENT
BEGIN:VEVENT
UID:https://hbb.rivio.dev/senioren/2019/wedstrijd/26370
DTSTAMP:20260420T200200Z
SUMMARY:RBC 1 - Mixed 3
DESCRIPTION:Baan 11\, Wedstrijdnummer 2013\, Afdeling Overgangsklasse K
DTSTART:20200325T200000
DTEND:20200325T230000
LOCATION:City Resort Helmond
ATTACH;FMTTYPE=text/plain:https://hbb.rivio.dev/senioren/2019/wedstrijd/263
 70
END:VEVENT
BEGIN:VEVENT
UID:https://hbb.rivio.dev/senioren/2019/wedstrijd/26376
DTSTAMP:20260420T200200Z
SUMMARY:RBC 1 - Bakel 1
DESCRIPTION:Baan 10\, Wedstrijdnummer 2019\, Afdeling Overgangsklasse K
DTSTART:20200415T200000
DTEND:20200415T230000
LOCATION:City Resort Helmond
ATTACH;FMTTYPE=text/plain:https://hbb.rivio.dev/senioren/2019/wedstrijd/263
 76
END:VEVENT
BEGIN:VEVENT
UID:https://hbb.rivio.dev/senioren/2019/wedstrijd/26381
DTSTAMP:20260420T200200Z
SUMMARY:Mixed 2 - RBC 1
DESCRIPTION:Baan 10\, Wedstrijdnummer 2000\, Afdeling Overgangsklasse K
DTSTART:20200520T200000
DTEND:20200520T230000
LOCATION:City Resort Helmond
ATTACH;FMTTYPE=text/plain:https://hbb.rivio.dev/senioren/2019/wedstrijd/263
 81
END:VEVENT
BEGIN:VTIMEZONE
TZID:Europe/Amsterdam
BEGIN:STANDARD
DTSTART:20190101T000000
TZNAME:CET
TZOFFSETTO:+0100
TZOFFSETFROM:+0100
END:STANDARD
BEGIN:DAYLIGHT
DTSTART:20190331T030000
TZNAME:CEST
TZOFFSETTO:+0200
TZOFFSETFROM:+0100
END:DAYLIGHT
BEGIN:STANDARD
DTSTART:20191027T020000
TZNAME:CET
TZOFFSETTO:+0100
TZOFFSETFROM:+0200
END:STANDARD
BEGIN:DAYLIGHT
DTSTART:20200329T030000
TZNAME:CEST
TZOFFSETTO:+0200
TZOFFSETFROM:+0100
END:DAYLIGHT
BEGIN:STANDARD
DTSTART:20201025T020000
TZNAME:CET
TZOFFSETTO:+0100
TZOFFSETFROM:+0200
END:STANDARD
END:VTIMEZONE
END:VCALENDAR
