BEGIN:VCALENDAR
PRODID:-//eluceo/ical//2.0/EN
VERSION:2.0
CALSCALE:GREGORIAN
BEGIN:VEVENT
UID:https://hbb.rivio.dev/senioren/2018/wedstrijd/22187
DTSTAMP:20260420T085956Z
SUMMARY:Veldhoven 2 - Ganzeveer 3
DESCRIPTION:Baan 15\, Wedstrijdnummer 168\, Afdeling 3e klasse I
DTSTART:20180913T200000
DTEND:20180913T230000
LOCATION:City Resort Helmond
ATTACH;FMTTYPE=text/plain:https://hbb.rivio.dev/senioren/2018/wedstrijd/221
 87
END:VEVENT
BEGIN:VEVENT
UID:https://hbb.rivio.dev/senioren/2018/wedstrijd/22224
DTSTAMP:20260420T085956Z
SUMMARY:Hanevoet 4 - Veldhoven 2
DESCRIPTION:Baan 10\, Wedstrijdnummer 170\, Afdeling 3e klasse I
DTSTART:20180927T200000
DTEND:20180927T230000
LOCATION:City Resort Helmond
ATTACH;FMTTYPE=text/plain:https://hbb.rivio.dev/senioren/2018/wedstrijd/222
 24
END:VEVENT
BEGIN:VEVENT
UID:https://hbb.rivio.dev/senioren/2018/wedstrijd/22265
DTSTAMP:20260420T085956Z
SUMMARY:Veldhoven 2 - Gemert 3
DESCRIPTION:Baan 5\, Wedstrijdnummer 173\, Afdeling 3e klasse I
DTSTART:20181011T200000
DTEND:20181011T230000
LOCATION:City Resort Helmond
ATTACH;FMTTYPE=text/plain:https://hbb.rivio.dev/senioren/2018/wedstrijd/222
 65
END:VEVENT
BEGIN:VEVENT
UID:https://hbb.rivio.dev/senioren/2018/wedstrijd/22322
DTSTAMP:20260420T085956Z
SUMMARY:Veldhoven 2 - BC '85 2
DESCRIPTION:Baan 13\, Wedstrijdnummer 3021\, Afdeling 3e klasse I
DTSTART:20181107T200000
DTEND:20181107T230000
LOCATION:City Resort Helmond
ATTACH;FMTTYPE=text/plain:https://hbb.rivio.dev/senioren/2018/wedstrijd/223
 22
END:VEVENT
BEGIN:VEVENT
UID:https://hbb.rivio.dev/senioren/2018/wedstrijd/22357
DTSTAMP:20260420T085956Z
SUMMARY:Someren 3 - Veldhoven 2
DESCRIPTION:Baan 15\, Wedstrijdnummer 179\, Afdeling 3e klasse I
DTSTART:20181115T200000
DTEND:20181115T230000
LOCATION:City Resort Helmond
ATTACH;FMTTYPE=text/plain:https://hbb.rivio.dev/senioren/2018/wedstrijd/223
 57
END:VEVENT
BEGIN:VEVENT
UID:https://hbb.rivio.dev/senioren/2018/wedstrijd/22412
DTSTAMP:20260420T085956Z
SUMMARY:Veldhoven 2 - Mierlo 9
DESCRIPTION:Baan 3\, Wedstrijdnummer 182\, Afdeling 3e klasse I
DTSTART:20181213T200000
DTEND:20181213T230000
LOCATION:City Resort Helmond
ATTACH;FMTTYPE=text/plain:https://hbb.rivio.dev/senioren/2018/wedstrijd/224
 12
END:VEVENT
BEGIN:VEVENT
UID:https://hbb.rivio.dev/senioren/2018/wedstrijd/22433
DTSTAMP:20260420T085956Z
SUMMARY:Mixed 8 - Veldhoven 2
DESCRIPTION:Baan 3\, Wedstrijdnummer 186\, Afdeling 3e klasse I
DTSTART:20181220T200000
DTEND:20181220T230000
LOCATION:City Resort Helmond
ATTACH;FMTTYPE=text/plain:https://hbb.rivio.dev/senioren/2018/wedstrijd/224
 33
END:VEVENT
BEGIN:VEVENT
UID:https://hbb.rivio.dev/senioren/2018/wedstrijd/22698
DTSTAMP:20260420T085956Z
SUMMARY:Mierlo 8 - Veldhoven 2
DESCRIPTION:Baan 10\, Wedstrijdnummer 3053\, Afdeling 3e klasse II K
DTSTART:20190109T200000
DTEND:20190109T230000
LOCATION:City Resort Helmond
ATTACH;FMTTYPE=text/plain:https://hbb.rivio.dev/senioren/2018/wedstrijd/226
 98
END:VEVENT
BEGIN:VEVENT
UID:https://hbb.rivio.dev/senioren/2018/wedstrijd/22470
DTSTAMP:20260420T085956Z
SUMMARY:Ganzeveer 3 - Veldhoven 2
DESCRIPTION:Baan 11\, Wedstrijdnummer 1123\, Afdeling 3e klasse I
DTSTART:20190123T200000
DTEND:20190123T230000
LOCATION:City Resort Helmond
ATTACH;FMTTYPE=text/plain:https://hbb.rivio.dev/senioren/2018/wedstrijd/224
 70
END:VEVENT
BEGIN:VEVENT
UID:https://hbb.rivio.dev/senioren/2018/wedstrijd/22538
DTSTAMP:20260420T085956Z
SUMMARY:Veldhoven 2 - Hanevoet 4
DESCRIPTION:Baan 1\, Wedstrijdnummer 1125\, Afdeling 3e klasse I
DTSTART:20190214T200000
DTEND:20190214T230000
LOCATION:City Resort Helmond
ATTACH;FMTTYPE=text/plain:https://hbb.rivio.dev/senioren/2018/wedstrijd/225
 38
END:VEVENT
BEGIN:VEVENT
UID:https://hbb.rivio.dev/senioren/2018/wedstrijd/22549
DTSTAMP:20260420T085956Z
SUMMARY:Gemert 3 - Veldhoven 2
DESCRIPTION:Baan 1\, Wedstrijdnummer 1128\, Afdeling 3e klasse I
DTSTART:20190220T200000
DTEND:20190220T230000
LOCATION:City Resort Helmond
ATTACH;FMTTYPE=text/plain:https://hbb.rivio.dev/senioren/2018/wedstrijd/225
 49
END:VEVENT
BEGIN:VEVENT
UID:https://hbb.rivio.dev/senioren/2018/wedstrijd/22735
DTSTAMP:20260420T085956Z
SUMMARY:BCAB 5 - Veldhoven 2
DESCRIPTION:Baan 4\, Wedstrijdnummer 3070\, Afdeling 3e klasse II K
DTSTART:20190327T200000
DTEND:20190327T230000
LOCATION:City Resort Helmond
ATTACH;FMTTYPE=text/plain:https://hbb.rivio.dev/senioren/2018/wedstrijd/227
 35
END:VEVENT
BEGIN:VEVENT
UID:https://hbb.rivio.dev/senioren/2018/wedstrijd/22629
DTSTAMP:20260420T085956Z
SUMMARY:Veldhoven 2 - Someren 3
DESCRIPTION:Baan 3\, Wedstrijdnummer 1134\, Afdeling 3e klasse I
DTSTART:20190404T200000
DTEND:20190404T230000
LOCATION:City Resort Helmond
ATTACH;FMTTYPE=text/plain:https://hbb.rivio.dev/senioren/2018/wedstrijd/226
 29
END:VEVENT
BEGIN:VEVENT
UID:https://hbb.rivio.dev/senioren/2018/wedstrijd/22638
DTSTAMP:20260420T085956Z
SUMMARY:Mierlo 9 - Veldhoven 2
DESCRIPTION:Baan 11\, Wedstrijdnummer 1137\, Afdeling 3e klasse I
DTSTART:20190411T200000
DTEND:20190411T230000
LOCATION:City Resort Helmond
ATTACH;FMTTYPE=text/plain:https://hbb.rivio.dev/senioren/2018/wedstrijd/226
 38
END:VEVENT
BEGIN:VEVENT
UID:https://hbb.rivio.dev/senioren/2018/wedstrijd/22669
DTSTAMP:20260420T085956Z
SUMMARY:Veldhoven 2 - Mixed 8
DESCRIPTION:Baan 11\, Wedstrijdnummer 1141\, Afdeling 3e klasse I
DTSTART:20190516T200000
DTEND:20190516T230000
LOCATION:City Resort Helmond
ATTACH;FMTTYPE=text/plain:https://hbb.rivio.dev/senioren/2018/wedstrijd/226
 69
END:VEVENT
BEGIN:VTIMEZONE
TZID:Europe/Amsterdam
BEGIN:STANDARD
DTSTART:20180101T000000
TZNAME:CET
TZOFFSETTO:+0100
TZOFFSETFROM:+0100
END:STANDARD
BEGIN:DAYLIGHT
DTSTART:20180325T030000
TZNAME:CEST
TZOFFSETTO:+0200
TZOFFSETFROM:+0100
END:DAYLIGHT
BEGIN:STANDARD
DTSTART:20181028T020000
TZNAME:CET
TZOFFSETTO:+0100
TZOFFSETFROM:+0200
END:STANDARD
BEGIN:DAYLIGHT
DTSTART:20190331T030000
TZNAME:CEST
TZOFFSETTO:+0200
TZOFFSETFROM:+0100
END:DAYLIGHT
BEGIN:STANDARD
DTSTART:20191027T020000
TZNAME:CET
TZOFFSETTO:+0100
TZOFFSETFROM:+0200
END:STANDARD
END:VTIMEZONE
END:VCALENDAR
