BEGIN:VCALENDAR
PRODID:-//eluceo/ical//2.0/EN
VERSION:2.0
CALSCALE:GREGORIAN
BEGIN:VEVENT
UID:https://hbb.rivio.dev/senioren/2018/wedstrijd/22241
DTSTAMP:20260420T150459Z
SUMMARY:Veldhoven 1 - Eindhoven 1
DESCRIPTION:Baan 2\, Wedstrijdnummer 83\, Afdeling Overgangsklasse II D
DTSTART:20181004T200000
DTEND:20181004T230000
LOCATION:City Resort Helmond
ATTACH;FMTTYPE=text/plain:https://hbb.rivio.dev/senioren/2018/wedstrijd/222
 41
END:VEVENT
BEGIN:VEVENT
UID:https://hbb.rivio.dev/senioren/2018/wedstrijd/22254
DTSTAMP:20260420T150459Z
SUMMARY:Phoenix 2 - Veldhoven 1
DESCRIPTION:Baan 4\, Wedstrijdnummer 87\, Afdeling Overgangsklasse II K
DTSTART:20181010T200000
DTEND:20181010T230000
LOCATION:City Resort Helmond
ATTACH;FMTTYPE=text/plain:https://hbb.rivio.dev/senioren/2018/wedstrijd/222
 54
END:VEVENT
BEGIN:VEVENT
UID:https://hbb.rivio.dev/senioren/2018/wedstrijd/22305
DTSTAMP:20260420T150459Z
SUMMARY:Veldhoven 1 - BCAB 2
DESCRIPTION:Baan 3\, Wedstrijdnummer 88\, Afdeling Overgangsklasse II D
DTSTART:20181101T200000
DTEND:20181101T230000
LOCATION:City Resort Helmond
ATTACH;FMTTYPE=text/plain:https://hbb.rivio.dev/senioren/2018/wedstrijd/223
 05
END:VEVENT
BEGIN:VEVENT
UID:https://hbb.rivio.dev/senioren/2018/wedstrijd/22339
DTSTAMP:20260420T150459Z
SUMMARY:Con Brio 4 - Veldhoven 1
DESCRIPTION:Baan 4\, Wedstrijdnummer 3008\, Afdeling Overgangsklasse I K
DTSTART:20181114T200000
DTEND:20181114T230000
LOCATION:City Resort Helmond
ATTACH;FMTTYPE=text/plain:https://hbb.rivio.dev/senioren/2018/wedstrijd/223
 39
END:VEVENT
BEGIN:VEVENT
UID:https://hbb.rivio.dev/senioren/2018/wedstrijd/22389
DTSTAMP:20260420T150459Z
SUMMARY:Mixed 4 - Veldhoven 1
DESCRIPTION:Baan 1\, Wedstrijdnummer 92\, Afdeling Overgangsklasse II D
DTSTART:20181129T200000
DTEND:20181129T230000
LOCATION:City Resort Helmond
ATTACH;FMTTYPE=text/plain:https://hbb.rivio.dev/senioren/2018/wedstrijd/223
 89
END:VEVENT
BEGIN:VEVENT
UID:https://hbb.rivio.dev/senioren/2018/wedstrijd/22411
DTSTAMP:20260420T150459Z
SUMMARY:Veldhoven 1 - Brabantia 2
DESCRIPTION:Baan 2\, Wedstrijdnummer 96\, Afdeling Overgangsklasse II D
DTSTART:20181213T200000
DTEND:20181213T230000
LOCATION:City Resort Helmond
ATTACH;FMTTYPE=text/plain:https://hbb.rivio.dev/senioren/2018/wedstrijd/224
 11
END:VEVENT
BEGIN:VEVENT
UID:https://hbb.rivio.dev/senioren/2018/wedstrijd/22446
DTSTAMP:20260420T150459Z
SUMMARY:Eindhoven 1 - Veldhoven 1
DESCRIPTION:Baan 14\, Wedstrijdnummer 1038\, Afdeling Overgangsklasse II D
DTSTART:20190110T200000
DTEND:20190110T230000
LOCATION:City Resort Helmond
ATTACH;FMTTYPE=text/plain:https://hbb.rivio.dev/senioren/2018/wedstrijd/224
 46
END:VEVENT
BEGIN:VEVENT
UID:https://hbb.rivio.dev/senioren/2018/wedstrijd/22504
DTSTAMP:20260420T150459Z
SUMMARY:Veldhoven 1 - Phoenix 2
DESCRIPTION:Baan 13\, Wedstrijdnummer 1042\, Afdeling Overgangsklasse II D
DTSTART:20190131T200000
DTEND:20190131T230000
LOCATION:City Resort Helmond
ATTACH;FMTTYPE=text/plain:https://hbb.rivio.dev/senioren/2018/wedstrijd/225
 04
END:VEVENT
BEGIN:VEVENT
UID:https://hbb.rivio.dev/senioren/2018/wedstrijd/22545
DTSTAMP:20260420T150459Z
SUMMARY:BCAB 2 - Veldhoven 1
DESCRIPTION:Baan 12\, Wedstrijdnummer 1043\, Afdeling Overgangsklasse II K
DTSTART:20190214T200000
DTEND:20190214T230000
LOCATION:City Resort Helmond
ATTACH;FMTTYPE=text/plain:https://hbb.rivio.dev/senioren/2018/wedstrijd/225
 45
END:VEVENT
BEGIN:VEVENT
UID:https://hbb.rivio.dev/senioren/2018/wedstrijd/22578
DTSTAMP:20260420T150459Z
SUMMARY:Veldhoven 1 - Mixed 4
DESCRIPTION:Baan 3\, Wedstrijdnummer 1047\, Afdeling Overgangsklasse II D
DTSTART:20190228T200000
DTEND:20190228T230000
LOCATION:City Resort Helmond
ATTACH;FMTTYPE=text/plain:https://hbb.rivio.dev/senioren/2018/wedstrijd/225
 78
END:VEVENT
BEGIN:VEVENT
UID:https://hbb.rivio.dev/senioren/2018/wedstrijd/22594
DTSTAMP:20260420T150500Z
SUMMARY:Brabantia 2 - Veldhoven 1
DESCRIPTION:Baan 13\, Wedstrijdnummer 1051\, Afdeling Overgangsklasse II K
DTSTART:20190313T200000
DTEND:20190313T230000
LOCATION:City Resort Helmond
ATTACH;FMTTYPE=text/plain:https://hbb.rivio.dev/senioren/2018/wedstrijd/225
 94
END:VEVENT
BEGIN:VEVENT
UID:https://hbb.rivio.dev/senioren/2018/wedstrijd/22773
DTSTAMP:20260420T150500Z
SUMMARY:Mixed 4 - Veldhoven 1
DESCRIPTION:Baan 7\, Wedstrijdnummer 2028\, Afdeling Overgangsklasse II D
DTSTART:20190411T200000
DTEND:20190411T230000
LOCATION:City Resort Helmond
ATTACH;FMTTYPE=text/plain:https://hbb.rivio.dev/senioren/2018/wedstrijd/227
 73
END:VEVENT
BEGIN:VEVENT
UID:https://hbb.rivio.dev/senioren/2018/wedstrijd/22777
DTSTAMP:20260420T150500Z
SUMMARY:Veldhoven 1 - Eindhoven 1
DESCRIPTION:Baan 9\, Wedstrijdnummer 2032\, Afdeling Overgangsklasse II D
DTSTART:20190522T200000
DTEND:20190522T230000
LOCATION:City Resort Helmond
ATTACH;FMTTYPE=text/plain:https://hbb.rivio.dev/senioren/2018/wedstrijd/227
 77
END:VEVENT
BEGIN:VTIMEZONE
TZID:Europe/Amsterdam
BEGIN:STANDARD
DTSTART:20180101T000000
TZNAME:CET
TZOFFSETTO:+0100
TZOFFSETFROM:+0100
END:STANDARD
BEGIN:DAYLIGHT
DTSTART:20180325T030000
TZNAME:CEST
TZOFFSETTO:+0200
TZOFFSETFROM:+0100
END:DAYLIGHT
BEGIN:STANDARD
DTSTART:20181028T020000
TZNAME:CET
TZOFFSETTO:+0100
TZOFFSETFROM:+0200
END:STANDARD
BEGIN:DAYLIGHT
DTSTART:20190331T030000
TZNAME:CEST
TZOFFSETTO:+0200
TZOFFSETFROM:+0100
END:DAYLIGHT
BEGIN:STANDARD
DTSTART:20191027T020000
TZNAME:CET
TZOFFSETTO:+0100
TZOFFSETFROM:+0200
END:STANDARD
END:VTIMEZONE
END:VCALENDAR
