BEGIN:VCALENDAR
PRODID:-//eluceo/ical//2.0/EN
VERSION:2.0
CALSCALE:GREGORIAN
BEGIN:VEVENT
UID:https://hbb.rivio.dev/senioren/2018/wedstrijd/22169
DTSTAMP:20260420T103230Z
SUMMARY:Mixed 10 - Gemert 4
DESCRIPTION:Baan 3\, Wedstrijdnummer 205\, Afdeling 4e klasse I
DTSTART:20180912T200000
DTEND:20180912T230000
LOCATION:City Resort Helmond
ATTACH;FMTTYPE=text/plain:https://hbb.rivio.dev/senioren/2018/wedstrijd/221
 69
END:VEVENT
BEGIN:VEVENT
UID:https://hbb.rivio.dev/senioren/2018/wedstrijd/22192
DTSTAMP:20260420T103230Z
SUMMARY:Con Brio 7 - Mixed 10
DESCRIPTION:Baan 5\, Wedstrijdnummer 208\, Afdeling 4e klasse I
DTSTART:20180919T200000
DTEND:20180919T230000
LOCATION:City Resort Helmond
ATTACH;FMTTYPE=text/plain:https://hbb.rivio.dev/senioren/2018/wedstrijd/221
 92
END:VEVENT
BEGIN:VEVENT
UID:https://hbb.rivio.dev/senioren/2018/wedstrijd/22249
DTSTAMP:20260420T103230Z
SUMMARY:Mixed 10 - Never Down 3
DESCRIPTION:Baan 14\, Wedstrijdnummer 212\, Afdeling 4e klasse I
DTSTART:20181004T200000
DTEND:20181004T230000
LOCATION:City Resort Helmond
ATTACH;FMTTYPE=text/plain:https://hbb.rivio.dev/senioren/2018/wedstrijd/222
 49
END:VEVENT
BEGIN:VEVENT
UID:https://hbb.rivio.dev/senioren/2018/wedstrijd/22291
DTSTAMP:20260420T103230Z
SUMMARY:Heiakker 1 - Mixed 10
DESCRIPTION:Baan 14\, Wedstrijdnummer 215\, Afdeling 4e klasse I
DTSTART:20181025T200000
DTEND:20181025T230000
LOCATION:City Resort Helmond
ATTACH;FMTTYPE=text/plain:https://hbb.rivio.dev/senioren/2018/wedstrijd/222
 91
END:VEVENT
BEGIN:VEVENT
UID:https://hbb.rivio.dev/senioren/2018/wedstrijd/22302
DTSTAMP:20260420T103230Z
SUMMARY:Mixed 10 - Dommelen 4
DESCRIPTION:Baan 15\, Wedstrijdnummer 219\, Afdeling 4e klasse I
DTSTART:20181031T200000
DTEND:20181031T230000
LOCATION:City Resort Helmond
ATTACH;FMTTYPE=text/plain:https://hbb.rivio.dev/senioren/2018/wedstrijd/223
 02
END:VEVENT
BEGIN:VEVENT
UID:https://hbb.rivio.dev/senioren/2018/wedstrijd/22350
DTSTAMP:20260420T103230Z
SUMMARY:Mixed 10 - Someren 5
DESCRIPTION:Baan 4\, Wedstrijdnummer 3027\, Afdeling 4e klasse I
DTSTART:20181115T200000
DTEND:20181115T230000
LOCATION:City Resort Helmond
ATTACH;FMTTYPE=text/plain:https://hbb.rivio.dev/senioren/2018/wedstrijd/223
 50
END:VEVENT
BEGIN:VEVENT
UID:https://hbb.rivio.dev/senioren/2018/wedstrijd/22380
DTSTAMP:20260420T103230Z
SUMMARY:Phoenix 3 - Mixed 10
DESCRIPTION:Baan 2\, Wedstrijdnummer 226\, Afdeling 4e klasse I
DTSTART:20181128T200000
DTEND:20181128T230000
LOCATION:City Resort Helmond
ATTACH;FMTTYPE=text/plain:https://hbb.rivio.dev/senioren/2018/wedstrijd/223
 80
END:VEVENT
BEGIN:VEVENT
UID:https://hbb.rivio.dev/senioren/2018/wedstrijd/22409
DTSTAMP:20260420T103230Z
SUMMARY:Mierlo 11 - Mixed 10
DESCRIPTION:Baan 15\, Wedstrijdnummer 227\, Afdeling 4e klasse I
DTSTART:20181212T200000
DTEND:20181212T230000
LOCATION:City Resort Helmond
ATTACH;FMTTYPE=text/plain:https://hbb.rivio.dev/senioren/2018/wedstrijd/224
 09
END:VEVENT
BEGIN:VEVENT
UID:https://hbb.rivio.dev/senioren/2018/wedstrijd/22705
DTSTAMP:20260420T103230Z
SUMMARY:Dommelen 4 - Mixed 10
DESCRIPTION:Baan 13\, Wedstrijdnummer 3056\, Afdeling 4e klasse I
DTSTART:20190109T200000
DTEND:20190109T230000
LOCATION:City Resort Helmond
ATTACH;FMTTYPE=text/plain:https://hbb.rivio.dev/senioren/2018/wedstrijd/227
 05
END:VEVENT
BEGIN:VEVENT
UID:https://hbb.rivio.dev/senioren/2018/wedstrijd/22468
DTSTAMP:20260420T103230Z
SUMMARY:Gemert 4 - Mixed 10
DESCRIPTION:Baan 4\, Wedstrijdnummer 1160\, Afdeling 4e klasse I
DTSTART:20190123T200000
DTEND:20190123T230000
LOCATION:City Resort Helmond
ATTACH;FMTTYPE=text/plain:https://hbb.rivio.dev/senioren/2018/wedstrijd/224
 68
END:VEVENT
BEGIN:VEVENT
UID:https://hbb.rivio.dev/senioren/2018/wedstrijd/22491
DTSTAMP:20260420T103230Z
SUMMARY:Mixed 10 - Con Brio 7
DESCRIPTION:Baan 11\, Wedstrijdnummer 1163\, Afdeling 4e klasse I
DTSTART:20190130T200000
DTEND:20190130T230000
LOCATION:City Resort Helmond
ATTACH;FMTTYPE=text/plain:https://hbb.rivio.dev/senioren/2018/wedstrijd/224
 91
END:VEVENT
BEGIN:VEVENT
UID:https://hbb.rivio.dev/senioren/2018/wedstrijd/22559
DTSTAMP:20260420T103230Z
SUMMARY:Never Down 3 - Mixed 10
DESCRIPTION:Baan 5\, Wedstrijdnummer 1167\, Afdeling 4e klasse I
DTSTART:20190221T200000
DTEND:20190221T230000
LOCATION:City Resort Helmond
ATTACH;FMTTYPE=text/plain:https://hbb.rivio.dev/senioren/2018/wedstrijd/225
 59
END:VEVENT
BEGIN:VEVENT
UID:https://hbb.rivio.dev/senioren/2018/wedstrijd/22597
DTSTAMP:20260420T103230Z
SUMMARY:Mixed 10 - Heiakker 1
DESCRIPTION:Baan 1\, Wedstrijdnummer 1170\, Afdeling 4e klasse I
DTSTART:20190314T200000
DTEND:20190314T230000
LOCATION:City Resort Helmond
ATTACH;FMTTYPE=text/plain:https://hbb.rivio.dev/senioren/2018/wedstrijd/225
 97
END:VEVENT
BEGIN:VEVENT
UID:https://hbb.rivio.dev/senioren/2018/wedstrijd/22608
DTSTAMP:20260420T103230Z
SUMMARY:Dommelen 4 - Mixed 10
DESCRIPTION:Baan 5\, Wedstrijdnummer 1174\, Afdeling 4e klasse I
DTSTART:20190320T200000
DTEND:20190320T230000
LOCATION:City Resort Helmond
ATTACH;FMTTYPE=text/plain:https://hbb.rivio.dev/senioren/2018/wedstrijd/226
 08
END:VEVENT
BEGIN:VEVENT
UID:https://hbb.rivio.dev/senioren/2018/wedstrijd/22736
DTSTAMP:20260420T103230Z
SUMMARY:Con Brio 7 - Mixed 10
DESCRIPTION:Baan 13\, Wedstrijdnummer 3071\, Afdeling 4e klasse I
DTSTART:20190327T200000
DTEND:20190327T230000
LOCATION:City Resort Helmond
ATTACH;FMTTYPE=text/plain:https://hbb.rivio.dev/senioren/2018/wedstrijd/227
 36
END:VEVENT
BEGIN:VEVENT
UID:https://hbb.rivio.dev/senioren/2018/wedstrijd/22642
DTSTAMP:20260420T103230Z
SUMMARY:Mixed 10 - Phoenix 3
DESCRIPTION:Baan 7\, Wedstrijdnummer 1181\, Afdeling 4e klasse I
DTSTART:20190417T200000
DTEND:20190417T230000
LOCATION:City Resort Helmond
ATTACH;FMTTYPE=text/plain:https://hbb.rivio.dev/senioren/2018/wedstrijd/226
 42
END:VEVENT
BEGIN:VEVENT
UID:https://hbb.rivio.dev/senioren/2018/wedstrijd/22659
DTSTAMP:20260420T103230Z
SUMMARY:Mixed 10 - Mierlo 11
DESCRIPTION:Baan 9\, Wedstrijdnummer 1182\, Afdeling 4e klasse I
DTSTART:20190515T200000
DTEND:20190515T230000
LOCATION:City Resort Helmond
ATTACH;FMTTYPE=text/plain:https://hbb.rivio.dev/senioren/2018/wedstrijd/226
 59
END:VEVENT
BEGIN:VEVENT
UID:https://hbb.rivio.dev/senioren/2018/wedstrijd/22790
DTSTAMP:20260420T103230Z
SUMMARY:Mixed 10 - Never Down 3
DESCRIPTION:Baan 13\, Wedstrijdnummer 3078\, Afdeling 4e klasse I
DTSTART:20190526T130000
DTEND:20190526T144500
LOCATION:City Resort Helmond
ATTACH;FMTTYPE=text/plain:https://hbb.rivio.dev/senioren/2018/wedstrijd/227
 90
END:VEVENT
BEGIN:VTIMEZONE
TZID:Europe/Amsterdam
BEGIN:STANDARD
DTSTART:20180101T000000
TZNAME:CET
TZOFFSETTO:+0100
TZOFFSETFROM:+0100
END:STANDARD
BEGIN:DAYLIGHT
DTSTART:20180325T030000
TZNAME:CEST
TZOFFSETTO:+0200
TZOFFSETFROM:+0100
END:DAYLIGHT
BEGIN:STANDARD
DTSTART:20181028T020000
TZNAME:CET
TZOFFSETTO:+0100
TZOFFSETFROM:+0200
END:STANDARD
BEGIN:DAYLIGHT
DTSTART:20190331T030000
TZNAME:CEST
TZOFFSETTO:+0200
TZOFFSETFROM:+0100
END:DAYLIGHT
BEGIN:STANDARD
DTSTART:20191027T020000
TZNAME:CET
TZOFFSETTO:+0100
TZOFFSETFROM:+0200
END:STANDARD
END:VTIMEZONE
END:VCALENDAR
