BEGIN:VCALENDAR
PRODID:-//eluceo/ical//2.0/EN
VERSION:2.0
CALSCALE:GREGORIAN
BEGIN:VEVENT
UID:https://hbb.rivio.dev/senioren/2018/wedstrijd/22179
DTSTAMP:20260420T220736Z
SUMMARY:Mixed 5 - Mixed 6
DESCRIPTION:Baan 3\, Wedstrijdnummer 97\, Afdeling 1e klasse 
DTSTART:20180913T200000
DTEND:20180913T230000
LOCATION:City Resort Helmond
ATTACH;FMTTYPE=text/plain:https://hbb.rivio.dev/senioren/2018/wedstrijd/221
 79
END:VEVENT
BEGIN:VEVENT
UID:https://hbb.rivio.dev/senioren/2018/wedstrijd/22206
DTSTAMP:20260420T220736Z
SUMMARY:Mixed 6 - BCAB 3
DESCRIPTION:Baan 13\, Wedstrijdnummer 101\, Afdeling 1e klasse 
DTSTART:20180920T200000
DTEND:20180920T230000
LOCATION:City Resort Helmond
ATTACH;FMTTYPE=text/plain:https://hbb.rivio.dev/senioren/2018/wedstrijd/222
 06
END:VEVENT
BEGIN:VEVENT
UID:https://hbb.rivio.dev/senioren/2018/wedstrijd/22232
DTSTAMP:20260420T220736Z
SUMMARY:Dommelen 1 - Mixed 6
DESCRIPTION:Baan 3\, Wedstrijdnummer 106\, Afdeling 1e klasse 
DTSTART:20181003T200000
DTEND:20181003T230000
LOCATION:City Resort Helmond
ATTACH;FMTTYPE=text/plain:https://hbb.rivio.dev/senioren/2018/wedstrijd/222
 32
END:VEVENT
BEGIN:VEVENT
UID:https://hbb.rivio.dev/senioren/2018/wedstrijd/22289
DTSTAMP:20260420T220736Z
SUMMARY:Mixed 6 - Hanevoet 2
DESCRIPTION:Baan 12\, Wedstrijdnummer 110\, Afdeling 1e klasse 
DTSTART:20181025T200000
DTEND:20181025T230000
LOCATION:City Resort Helmond
ATTACH;FMTTYPE=text/plain:https://hbb.rivio.dev/senioren/2018/wedstrijd/222
 89
END:VEVENT
BEGIN:VEVENT
UID:https://hbb.rivio.dev/senioren/2018/wedstrijd/22300
DTSTAMP:20260420T220736Z
SUMMARY:Con Brio 5 - Mixed 6
DESCRIPTION:Baan 13\, Wedstrijdnummer 115\, Afdeling 1e klasse 
DTSTART:20181031T200000
DTEND:20181031T230000
LOCATION:City Resort Helmond
ATTACH;FMTTYPE=text/plain:https://hbb.rivio.dev/senioren/2018/wedstrijd/223
 00
END:VEVENT
BEGIN:VEVENT
UID:https://hbb.rivio.dev/senioren/2018/wedstrijd/22388
DTSTAMP:20260420T220736Z
SUMMARY:Mixed 6 - Smashing Bruang 2
DESCRIPTION:Baan 15\, Wedstrijdnummer 119\, Afdeling 1e klasse 
DTSTART:20181128T200000
DTEND:20181128T230000
LOCATION:City Resort Helmond
ATTACH;FMTTYPE=text/plain:https://hbb.rivio.dev/senioren/2018/wedstrijd/223
 88
END:VEVENT
BEGIN:VEVENT
UID:https://hbb.rivio.dev/senioren/2018/wedstrijd/22408
DTSTAMP:20260420T220736Z
SUMMARY:Mierlo 5 - Mixed 6
DESCRIPTION:Baan 14\, Wedstrijdnummer 124\, Afdeling 1e klasse 
DTSTART:20181212T200000
DTEND:20181212T230000
LOCATION:City Resort Helmond
ATTACH;FMTTYPE=text/plain:https://hbb.rivio.dev/senioren/2018/wedstrijd/224
 08
END:VEVENT
BEGIN:VEVENT
UID:https://hbb.rivio.dev/senioren/2018/wedstrijd/22447
DTSTAMP:20260420T220736Z
SUMMARY:Mixed 6 - Mixed 5
DESCRIPTION:Baan 15\, Wedstrijdnummer 1052\, Afdeling 1e klasse 
DTSTART:20190110T200000
DTEND:20190110T230000
LOCATION:City Resort Helmond
ATTACH;FMTTYPE=text/plain:https://hbb.rivio.dev/senioren/2018/wedstrijd/224
 47
END:VEVENT
BEGIN:VEVENT
UID:https://hbb.rivio.dev/senioren/2018/wedstrijd/22449
DTSTAMP:20260420T220736Z
SUMMARY:Hanevoet 2 - Mixed 6
DESCRIPTION:Baan 11\, Wedstrijdnummer 3045\, Afdeling 1e klasse 
DTSTART:20190116T200000
DTEND:20190116T230000
LOCATION:City Resort Helmond
ATTACH;FMTTYPE=text/plain:https://hbb.rivio.dev/senioren/2018/wedstrijd/224
 49
END:VEVENT
BEGIN:VEVENT
UID:https://hbb.rivio.dev/senioren/2018/wedstrijd/22517
DTSTAMP:20260420T220736Z
SUMMARY:BCAB 3 - Mixed 6
DESCRIPTION:Baan 1\, Wedstrijdnummer 1056\, Afdeling 1e klasse 
DTSTART:20190207T200000
DTEND:20190207T230000
LOCATION:City Resort Helmond
ATTACH;FMTTYPE=text/plain:https://hbb.rivio.dev/senioren/2018/wedstrijd/225
 17
END:VEVENT
BEGIN:VEVENT
UID:https://hbb.rivio.dev/senioren/2018/wedstrijd/22528
DTSTAMP:20260420T220736Z
SUMMARY:Mixed 6 - Dommelen 1
DESCRIPTION:Baan 1\, Wedstrijdnummer 1061\, Afdeling 1e klasse 
DTSTART:20190213T200000
DTEND:20190213T230000
LOCATION:City Resort Helmond
ATTACH;FMTTYPE=text/plain:https://hbb.rivio.dev/senioren/2018/wedstrijd/225
 28
END:VEVENT
BEGIN:VEVENT
UID:https://hbb.rivio.dev/senioren/2018/wedstrijd/22685
DTSTAMP:20260420T220736Z
SUMMARY:Hanevoet 2 - Mixed 6
DESCRIPTION:Baan 14\, Wedstrijdnummer 1065\, Afdeling 1e klasse 
DTSTART:20190228T200000
DTEND:20190228T230000
LOCATION:City Resort Helmond
ATTACH;FMTTYPE=text/plain:https://hbb.rivio.dev/senioren/2018/wedstrijd/226
 85
END:VEVENT
BEGIN:VEVENT
UID:https://hbb.rivio.dev/senioren/2018/wedstrijd/22606
DTSTAMP:20260420T220736Z
SUMMARY:Mixed 6 - Con Brio 5
DESCRIPTION:Baan 3\, Wedstrijdnummer 1070\, Afdeling 1e klasse 
DTSTART:20190320T200000
DTEND:20190320T230000
LOCATION:City Resort Helmond
ATTACH;FMTTYPE=text/plain:https://hbb.rivio.dev/senioren/2018/wedstrijd/226
 06
END:VEVENT
BEGIN:VEVENT
UID:https://hbb.rivio.dev/senioren/2018/wedstrijd/22633
DTSTAMP:20260420T220736Z
SUMMARY:Smashing Bruang 2 - Mixed 6
DESCRIPTION:Baan 13\, Wedstrijdnummer 1074\, Afdeling 1e klasse 
DTSTART:20190404T200000
DTEND:20190404T230000
LOCATION:City Resort Helmond
ATTACH;FMTTYPE=text/plain:https://hbb.rivio.dev/senioren/2018/wedstrijd/226
 33
END:VEVENT
BEGIN:VEVENT
UID:https://hbb.rivio.dev/senioren/2018/wedstrijd/22658
DTSTAMP:20260420T220736Z
SUMMARY:Mixed 6 - Mierlo 5
DESCRIPTION:Baan 8\, Wedstrijdnummer 1079\, Afdeling 1e klasse 
DTSTART:20190515T200000
DTEND:20190515T230000
LOCATION:City Resort Helmond
ATTACH;FMTTYPE=text/plain:https://hbb.rivio.dev/senioren/2018/wedstrijd/226
 58
END:VEVENT
BEGIN:VTIMEZONE
TZID:Europe/Amsterdam
BEGIN:STANDARD
DTSTART:20180101T000000
TZNAME:CET
TZOFFSETTO:+0100
TZOFFSETFROM:+0100
END:STANDARD
BEGIN:DAYLIGHT
DTSTART:20180325T030000
TZNAME:CEST
TZOFFSETTO:+0200
TZOFFSETFROM:+0100
END:DAYLIGHT
BEGIN:STANDARD
DTSTART:20181028T020000
TZNAME:CET
TZOFFSETTO:+0100
TZOFFSETFROM:+0200
END:STANDARD
BEGIN:DAYLIGHT
DTSTART:20190331T030000
TZNAME:CEST
TZOFFSETTO:+0200
TZOFFSETFROM:+0100
END:DAYLIGHT
BEGIN:STANDARD
DTSTART:20191027T020000
TZNAME:CET
TZOFFSETTO:+0100
TZOFFSETFROM:+0200
END:STANDARD
END:VTIMEZONE
END:VCALENDAR
