BEGIN:VCALENDAR
PRODID:-//eluceo/ical//2.0/EN
VERSION:2.0
CALSCALE:GREGORIAN
BEGIN:VEVENT
UID:https://hbb.rivio.dev/senioren/2018/wedstrijd/22240
DTSTAMP:20260420T090605Z
SUMMARY:BCAB 2 - Mixed 4
DESCRIPTION:Baan 1\, Wedstrijdnummer 82\, Afdeling Overgangsklasse II K
DTSTART:20181004T200000
DTEND:20181004T230000
LOCATION:City Resort Helmond
ATTACH;FMTTYPE=text/plain:https://hbb.rivio.dev/senioren/2018/wedstrijd/222
 40
END:VEVENT
BEGIN:VEVENT
UID:https://hbb.rivio.dev/senioren/2018/wedstrijd/22282
DTSTAMP:20260420T090605Z
SUMMARY:Eindhoven 1 - Mixed 4
DESCRIPTION:Baan 1\, Wedstrijdnummer 86\, Afdeling Overgangsklasse II D
DTSTART:20181025T200000
DTEND:20181025T230000
LOCATION:City Resort Helmond
ATTACH;FMTTYPE=text/plain:https://hbb.rivio.dev/senioren/2018/wedstrijd/222
 82
END:VEVENT
BEGIN:VEVENT
UID:https://hbb.rivio.dev/senioren/2018/wedstrijd/22293
DTSTAMP:20260420T090605Z
SUMMARY:Mixed 4 - Brabantia 2
DESCRIPTION:Baan 1\, Wedstrijdnummer 89\, Afdeling Overgangsklasse II D
DTSTART:20181031T200000
DTEND:20181031T230000
LOCATION:City Resort Helmond
ATTACH;FMTTYPE=text/plain:https://hbb.rivio.dev/senioren/2018/wedstrijd/222
 93
END:VEVENT
BEGIN:VEVENT
UID:https://hbb.rivio.dev/senioren/2018/wedstrijd/22341
DTSTAMP:20260420T090605Z
SUMMARY:BC '85 1 - Mixed 4
DESCRIPTION:Baan 10\, Wedstrijdnummer 3010\, Afdeling Overgangsklasse I D
DTSTART:20181114T200000
DTEND:20181114T230000
LOCATION:City Resort Helmond
ATTACH;FMTTYPE=text/plain:https://hbb.rivio.dev/senioren/2018/wedstrijd/223
 41
END:VEVENT
BEGIN:VEVENT
UID:https://hbb.rivio.dev/senioren/2018/wedstrijd/22389
DTSTAMP:20260420T090605Z
SUMMARY:Mixed 4 - Veldhoven 1
DESCRIPTION:Baan 1\, Wedstrijdnummer 92\, Afdeling Overgangsklasse II D
DTSTART:20181129T200000
DTEND:20181129T230000
LOCATION:City Resort Helmond
ATTACH;FMTTYPE=text/plain:https://hbb.rivio.dev/senioren/2018/wedstrijd/223
 89
END:VEVENT
BEGIN:VEVENT
UID:https://hbb.rivio.dev/senioren/2018/wedstrijd/22402
DTSTAMP:20260420T090605Z
SUMMARY:Mixed 4 - Phoenix 2
DESCRIPTION:Baan 3\, Wedstrijdnummer 95\, Afdeling Overgangsklasse II D
DTSTART:20181212T200000
DTEND:20181212T230000
LOCATION:City Resort Helmond
ATTACH;FMTTYPE=text/plain:https://hbb.rivio.dev/senioren/2018/wedstrijd/224
 02
END:VEVENT
BEGIN:VEVENT
UID:https://hbb.rivio.dev/senioren/2018/wedstrijd/22445
DTSTAMP:20260420T090605Z
SUMMARY:Mixed 4 - BCAB 2
DESCRIPTION:Baan 13\, Wedstrijdnummer 1037\, Afdeling Overgangsklasse II D
DTSTART:20190110T200000
DTEND:20190110T230000
LOCATION:City Resort Helmond
ATTACH;FMTTYPE=text/plain:https://hbb.rivio.dev/senioren/2018/wedstrijd/224
 45
END:VEVENT
BEGIN:VEVENT
UID:https://hbb.rivio.dev/senioren/2018/wedstrijd/22701
DTSTAMP:20260420T090605Z
SUMMARY:Mixed 4 - Mixed 3
DESCRIPTION:Baan 2\, Wedstrijdnummer 3040\, Afdeling Overgangsklasse II D
DTSTART:20190116T200000
DTEND:20190116T230000
LOCATION:City Resort Helmond
ATTACH;FMTTYPE=text/plain:https://hbb.rivio.dev/senioren/2018/wedstrijd/227
 01
END:VEVENT
BEGIN:VEVENT
UID:https://hbb.rivio.dev/senioren/2018/wedstrijd/22503
DTSTAMP:20260420T090605Z
SUMMARY:Mixed 4 - Eindhoven 1
DESCRIPTION:Baan 12\, Wedstrijdnummer 1041\, Afdeling Overgangsklasse II D
DTSTART:20190131T200000
DTEND:20190131T230000
LOCATION:City Resort Helmond
ATTACH;FMTTYPE=text/plain:https://hbb.rivio.dev/senioren/2018/wedstrijd/225
 03
END:VEVENT
BEGIN:VEVENT
UID:https://hbb.rivio.dev/senioren/2018/wedstrijd/22513
DTSTAMP:20260420T090605Z
SUMMARY:Brabantia 2 - Mixed 4
DESCRIPTION:Baan 12\, Wedstrijdnummer 1044\, Afdeling Overgangsklasse II K
DTSTART:20190206T200000
DTEND:20190206T230000
LOCATION:City Resort Helmond
ATTACH;FMTTYPE=text/plain:https://hbb.rivio.dev/senioren/2018/wedstrijd/225
 13
END:VEVENT
BEGIN:VEVENT
UID:https://hbb.rivio.dev/senioren/2018/wedstrijd/22578
DTSTAMP:20260420T090605Z
SUMMARY:Veldhoven 1 - Mixed 4
DESCRIPTION:Baan 3\, Wedstrijdnummer 1047\, Afdeling Overgangsklasse II D
DTSTART:20190228T200000
DTEND:20190228T230000
LOCATION:City Resort Helmond
ATTACH;FMTTYPE=text/plain:https://hbb.rivio.dev/senioren/2018/wedstrijd/225
 78
END:VEVENT
BEGIN:VEVENT
UID:https://hbb.rivio.dev/senioren/2018/wedstrijd/22593
DTSTAMP:20260420T090605Z
SUMMARY:Phoenix 2 - Mixed 4
DESCRIPTION:Baan 12\, Wedstrijdnummer 1050\, Afdeling Overgangsklasse II K
DTSTART:20190313T200000
DTEND:20190313T230000
LOCATION:City Resort Helmond
ATTACH;FMTTYPE=text/plain:https://hbb.rivio.dev/senioren/2018/wedstrijd/225
 93
END:VEVENT
BEGIN:VEVENT
UID:https://hbb.rivio.dev/senioren/2018/wedstrijd/22773
DTSTAMP:20260420T090605Z
SUMMARY:Mixed 4 - Veldhoven 1
DESCRIPTION:Baan 7\, Wedstrijdnummer 2028\, Afdeling Overgangsklasse II D
DTSTART:20190411T200000
DTEND:20190411T230000
LOCATION:City Resort Helmond
ATTACH;FMTTYPE=text/plain:https://hbb.rivio.dev/senioren/2018/wedstrijd/227
 73
END:VEVENT
BEGIN:VEVENT
UID:https://hbb.rivio.dev/senioren/2018/wedstrijd/22775
DTSTAMP:20260420T090605Z
SUMMARY:Eindhoven 1 - Mixed 4
DESCRIPTION:Baan 7\, Wedstrijdnummer 2030\, Afdeling Overgangsklasse II D
DTSTART:20190515T200000
DTEND:20190515T230000
LOCATION:City Resort Helmond
ATTACH;FMTTYPE=text/plain:https://hbb.rivio.dev/senioren/2018/wedstrijd/227
 75
END:VEVENT
BEGIN:VTIMEZONE
TZID:Europe/Amsterdam
BEGIN:STANDARD
DTSTART:20180101T000000
TZNAME:CET
TZOFFSETTO:+0100
TZOFFSETFROM:+0100
END:STANDARD
BEGIN:DAYLIGHT
DTSTART:20180325T030000
TZNAME:CEST
TZOFFSETTO:+0200
TZOFFSETFROM:+0100
END:DAYLIGHT
BEGIN:STANDARD
DTSTART:20181028T020000
TZNAME:CET
TZOFFSETTO:+0100
TZOFFSETFROM:+0200
END:STANDARD
BEGIN:DAYLIGHT
DTSTART:20190331T030000
TZNAME:CEST
TZOFFSETTO:+0200
TZOFFSETFROM:+0100
END:DAYLIGHT
BEGIN:STANDARD
DTSTART:20191027T020000
TZNAME:CET
TZOFFSETTO:+0100
TZOFFSETFROM:+0200
END:STANDARD
END:VTIMEZONE
END:VCALENDAR
