BEGIN:VCALENDAR
PRODID:-//eluceo/ical//2.0/EN
VERSION:2.0
CALSCALE:GREGORIAN
BEGIN:VEVENT
UID:https://hbb.rivio.dev/senioren/2018/wedstrijd/22196
DTSTAMP:20260420T103452Z
SUMMARY:Con Brio 4 - Mixed 3
DESCRIPTION:Baan 14\, Wedstrijdnummer 67\, Afdeling Overgangsklasse I K
DTSTART:20180919T200000
DTEND:20180919T230000
LOCATION:City Resort Helmond
ATTACH;FMTTYPE=text/plain:https://hbb.rivio.dev/senioren/2018/wedstrijd/221
 96
END:VEVENT
BEGIN:VEVENT
UID:https://hbb.rivio.dev/senioren/2018/wedstrijd/22263
DTSTAMP:20260420T103452Z
SUMMARY:BC '85 1 - Mixed 3
DESCRIPTION:Baan 3\, Wedstrijdnummer 71\, Afdeling Overgangsklasse I D
DTSTART:20181011T200000
DTEND:20181011T230000
LOCATION:City Resort Helmond
ATTACH;FMTTYPE=text/plain:https://hbb.rivio.dev/senioren/2018/wedstrijd/222
 63
END:VEVENT
BEGIN:VEVENT
UID:https://hbb.rivio.dev/senioren/2018/wedstrijd/22295
DTSTAMP:20260420T103452Z
SUMMARY:Mixed 3 - RBC 1
DESCRIPTION:Baan 3\, Wedstrijdnummer 74\, Afdeling Overgangsklasse I K
DTSTART:20181031T200000
DTEND:20181031T230000
LOCATION:City Resort Helmond
ATTACH;FMTTYPE=text/plain:https://hbb.rivio.dev/senioren/2018/wedstrijd/222
 95
END:VEVENT
BEGIN:VEVENT
UID:https://hbb.rivio.dev/senioren/2018/wedstrijd/22340
DTSTAMP:20260420T103452Z
SUMMARY:Mixed 3 - Phoenix 2
DESCRIPTION:Baan 5\, Wedstrijdnummer 3009\, Afdeling Overgangsklasse I K
DTSTART:20181114T200000
DTEND:20181114T230000
LOCATION:City Resort Helmond
ATTACH;FMTTYPE=text/plain:https://hbb.rivio.dev/senioren/2018/wedstrijd/223
 40
END:VEVENT
BEGIN:VEVENT
UID:https://hbb.rivio.dev/senioren/2018/wedstrijd/22371
DTSTAMP:20260420T103452Z
SUMMARY:Mixed 3 - Someren 1
DESCRIPTION:Baan 4\, Wedstrijdnummer 77\, Afdeling Overgangsklasse I K
DTSTART:20181122T200000
DTEND:20181122T230000
LOCATION:City Resort Helmond
ATTACH;FMTTYPE=text/plain:https://hbb.rivio.dev/senioren/2018/wedstrijd/223
 71
END:VEVENT
BEGIN:VEVENT
UID:https://hbb.rivio.dev/senioren/2018/wedstrijd/22400
DTSTAMP:20260420T103452Z
SUMMARY:Mixed 3 - Heeze 1
DESCRIPTION:Baan 1\, Wedstrijdnummer 80\, Afdeling Overgangsklasse I K
DTSTART:20181212T200000
DTEND:20181212T230000
LOCATION:City Resort Helmond
ATTACH;FMTTYPE=text/plain:https://hbb.rivio.dev/senioren/2018/wedstrijd/224
 00
END:VEVENT
BEGIN:VEVENT
UID:https://hbb.rivio.dev/senioren/2018/wedstrijd/22439
DTSTAMP:20260420T103452Z
SUMMARY:Mixed 3 - Con Brio 4
DESCRIPTION:Baan 13\, Wedstrijdnummer 1022\, Afdeling Overgangsklasse I K
DTSTART:20181220T200000
DTEND:20181220T230000
LOCATION:City Resort Helmond
ATTACH;FMTTYPE=text/plain:https://hbb.rivio.dev/senioren/2018/wedstrijd/224
 39
END:VEVENT
BEGIN:VEVENT
UID:https://hbb.rivio.dev/senioren/2018/wedstrijd/22701
DTSTAMP:20260420T103452Z
SUMMARY:Mixed 4 - Mixed 3
DESCRIPTION:Baan 2\, Wedstrijdnummer 3040\, Afdeling Overgangsklasse II D
DTSTART:20190116T200000
DTEND:20190116T230000
LOCATION:City Resort Helmond
ATTACH;FMTTYPE=text/plain:https://hbb.rivio.dev/senioren/2018/wedstrijd/227
 01
END:VEVENT
BEGIN:VEVENT
UID:https://hbb.rivio.dev/senioren/2018/wedstrijd/22482
DTSTAMP:20260420T103452Z
SUMMARY:Mixed 3 - BC '85 1
DESCRIPTION:Baan 12\, Wedstrijdnummer 1026\, Afdeling Overgangsklasse I K
DTSTART:20190124T200000
DTEND:20190124T230000
LOCATION:City Resort Helmond
ATTACH;FMTTYPE=text/plain:https://hbb.rivio.dev/senioren/2018/wedstrijd/224
 82
END:VEVENT
BEGIN:VEVENT
UID:https://hbb.rivio.dev/senioren/2018/wedstrijd/22527
DTSTAMP:20260420T103452Z
SUMMARY:RBC 1 - Mixed 3
DESCRIPTION:Baan 15\, Wedstrijdnummer 1029\, Afdeling Overgangsklasse I D
DTSTART:20190207T200000
DTEND:20190207T230000
LOCATION:City Resort Helmond
ATTACH;FMTTYPE=text/plain:https://hbb.rivio.dev/senioren/2018/wedstrijd/225
 27
END:VEVENT
BEGIN:VEVENT
UID:https://hbb.rivio.dev/senioren/2018/wedstrijd/22540
DTSTAMP:20260420T103452Z
SUMMARY:Someren 1 - Mixed 3
DESCRIPTION:Baan 3\, Wedstrijdnummer 1032\, Afdeling Overgangsklasse I K
DTSTART:20190214T200000
DTEND:20190214T230000
LOCATION:City Resort Helmond
ATTACH;FMTTYPE=text/plain:https://hbb.rivio.dev/senioren/2018/wedstrijd/225
 40
END:VEVENT
BEGIN:VEVENT
UID:https://hbb.rivio.dev/senioren/2018/wedstrijd/22571
DTSTAMP:20260420T103452Z
SUMMARY:Heeze 1 - Mixed 3
DESCRIPTION:Baan 11\, Wedstrijdnummer 1035\, Afdeling Overgangsklasse I D
DTSTART:20190227T200000
DTEND:20190227T230000
LOCATION:City Resort Helmond
ATTACH;FMTTYPE=text/plain:https://hbb.rivio.dev/senioren/2018/wedstrijd/225
 71
END:VEVENT
BEGIN:VEVENT
UID:https://hbb.rivio.dev/senioren/2018/wedstrijd/22742
DTSTAMP:20260420T103452Z
SUMMARY:Mixed 3 - BCAB 2
DESCRIPTION:Baan 5\, Wedstrijdnummer 3063\, Afdeling Overgangsklasse I K
DTSTART:20190321T200000
DTEND:20190321T230000
LOCATION:City Resort Helmond
ATTACH;FMTTYPE=text/plain:https://hbb.rivio.dev/senioren/2018/wedstrijd/227
 42
END:VEVENT
BEGIN:VEVENT
UID:https://hbb.rivio.dev/senioren/2018/wedstrijd/22768
DTSTAMP:20260420T103452Z
SUMMARY:Mixed 3 - Someren 1
DESCRIPTION:Baan 5\, Wedstrijdnummer 2023\, Afdeling Overgangsklasse I K
DTSTART:20190411T200000
DTEND:20190411T230000
LOCATION:City Resort Helmond
ATTACH;FMTTYPE=text/plain:https://hbb.rivio.dev/senioren/2018/wedstrijd/227
 68
END:VEVENT
BEGIN:VEVENT
UID:https://hbb.rivio.dev/senioren/2018/wedstrijd/22770
DTSTAMP:20260420T103452Z
SUMMARY:Con Brio 4 - Mixed 3
DESCRIPTION:Baan 14\, Wedstrijdnummer 2025\, Afdeling Overgangsklasse I K
DTSTART:20190418T200000
DTEND:20190418T230000
LOCATION:City Resort Helmond
ATTACH;FMTTYPE=text/plain:https://hbb.rivio.dev/senioren/2018/wedstrijd/227
 70
END:VEVENT
BEGIN:VTIMEZONE
TZID:Europe/Amsterdam
BEGIN:STANDARD
DTSTART:20180101T000000
TZNAME:CET
TZOFFSETTO:+0100
TZOFFSETFROM:+0100
END:STANDARD
BEGIN:DAYLIGHT
DTSTART:20180325T030000
TZNAME:CEST
TZOFFSETTO:+0200
TZOFFSETFROM:+0100
END:DAYLIGHT
BEGIN:STANDARD
DTSTART:20181028T020000
TZNAME:CET
TZOFFSETTO:+0100
TZOFFSETFROM:+0200
END:STANDARD
BEGIN:DAYLIGHT
DTSTART:20190331T030000
TZNAME:CEST
TZOFFSETTO:+0200
TZOFFSETFROM:+0100
END:DAYLIGHT
BEGIN:STANDARD
DTSTART:20191027T020000
TZNAME:CET
TZOFFSETTO:+0100
TZOFFSETFROM:+0200
END:STANDARD
END:VTIMEZONE
END:VCALENDAR
