BEGIN:VCALENDAR
PRODID:-//eluceo/ical//2.0/EN
VERSION:2.0
CALSCALE:GREGORIAN
BEGIN:VEVENT
UID:https://hbb.rivio.dev/senioren/2018/wedstrijd/22190
DTSTAMP:20260420T151040Z
SUMMARY:Mixed 1 - Mierlo 1
DESCRIPTION:Baan 3\, Wedstrijdnummer 6\, Afdeling Topklasse 
DTSTART:20180919T200000
DTEND:20180919T230000
LOCATION:City Resort Helmond
ATTACH;FMTTYPE=text/plain:https://hbb.rivio.dev/senioren/2018/wedstrijd/221
 90
END:VEVENT
BEGIN:VEVENT
UID:https://hbb.rivio.dev/senioren/2018/wedstrijd/22231
DTSTAMP:20260420T151040Z
SUMMARY:Mixed 1 - Con Brio 1
DESCRIPTION:Baan 2\, Wedstrijdnummer 8\, Afdeling Topklasse 
DTSTART:20181003T200000
DTEND:20181003T230000
LOCATION:City Resort Helmond
ATTACH;FMTTYPE=text/plain:https://hbb.rivio.dev/senioren/2018/wedstrijd/222
 31
END:VEVENT
BEGIN:VEVENT
UID:https://hbb.rivio.dev/senioren/2018/wedstrijd/22256
DTSTAMP:20260420T151040Z
SUMMARY:Mixed 1 - Ganzeveer 1
DESCRIPTION:Baan 11\, Wedstrijdnummer 10\, Afdeling Topklasse 
DTSTART:20181010T200000
DTEND:20181010T230000
LOCATION:City Resort Helmond
ATTACH;FMTTYPE=text/plain:https://hbb.rivio.dev/senioren/2018/wedstrijd/222
 56
END:VEVENT
BEGIN:VEVENT
UID:https://hbb.rivio.dev/senioren/2018/wedstrijd/22332
DTSTAMP:20260420T151040Z
SUMMARY:BCV '73 1 - Mixed 1
DESCRIPTION:Baan 12\, Wedstrijdnummer 13\, Afdeling Topklasse 
DTSTART:20181108T200000
DTEND:20181108T230000
LOCATION:City Resort Helmond
ATTACH;FMTTYPE=text/plain:https://hbb.rivio.dev/senioren/2018/wedstrijd/223
 32
END:VEVENT
BEGIN:VEVENT
UID:https://hbb.rivio.dev/senioren/2018/wedstrijd/22365
DTSTAMP:20260420T151040Z
SUMMARY:Con Brio 2 - Mixed 1
DESCRIPTION:Baan 13\, Wedstrijdnummer 17\, Afdeling Topklasse 
DTSTART:20181121T200000
DTEND:20181121T230000
LOCATION:City Resort Helmond
ATTACH;FMTTYPE=text/plain:https://hbb.rivio.dev/senioren/2018/wedstrijd/223
 65
END:VEVENT
BEGIN:VEVENT
UID:https://hbb.rivio.dev/senioren/2018/wedstrijd/22431
DTSTAMP:20260420T151040Z
SUMMARY:BCAB 1 - Mixed 1
DESCRIPTION:Baan 1\, Wedstrijdnummer 21\, Afdeling Topklasse 
DTSTART:20181220T200000
DTEND:20181220T230000
LOCATION:City Resort Helmond
ATTACH;FMTTYPE=text/plain:https://hbb.rivio.dev/senioren/2018/wedstrijd/224
 31
END:VEVENT
BEGIN:VEVENT
UID:https://hbb.rivio.dev/senioren/2018/wedstrijd/22442
DTSTAMP:20260420T151040Z
SUMMARY:Ganzeveer 1 - Mixed 1
DESCRIPTION:Baan 1\, Wedstrijdnummer 3032\, Afdeling Topklasse 
DTSTART:20190109T200000
DTEND:20190109T230000
LOCATION:City Resort Helmond
ATTACH;FMTTYPE=text/plain:https://hbb.rivio.dev/senioren/2018/wedstrijd/224
 42
END:VEVENT
BEGIN:VEVENT
UID:https://hbb.rivio.dev/senioren/2018/wedstrijd/22490
DTSTAMP:20260420T151040Z
SUMMARY:Mierlo 1 - Mixed 1
DESCRIPTION:Baan 5\, Wedstrijdnummer 1006\, Afdeling Topklasse 
DTSTART:20190130T200000
DTEND:20190130T230000
LOCATION:City Resort Helmond
ATTACH;FMTTYPE=text/plain:https://hbb.rivio.dev/senioren/2018/wedstrijd/224
 90
END:VEVENT
BEGIN:VEVENT
UID:https://hbb.rivio.dev/senioren/2018/wedstrijd/22534
DTSTAMP:20260420T151040Z
SUMMARY:Con Brio 1 - Mixed 1
DESCRIPTION:Baan 12\, Wedstrijdnummer 1008\, Afdeling Topklasse 
DTSTART:20190213T200000
DTEND:20190213T230000
LOCATION:City Resort Helmond
ATTACH;FMTTYPE=text/plain:https://hbb.rivio.dev/senioren/2018/wedstrijd/225
 34
END:VEVENT
BEGIN:VEVENT
UID:https://hbb.rivio.dev/senioren/2018/wedstrijd/22683
DTSTAMP:20260420T151040Z
SUMMARY:Ganzeveer 1 - Mixed 1
DESCRIPTION:Baan 1\, Wedstrijdnummer 1010\, Afdeling Topklasse 
DTSTART:20190227T200000
DTEND:20190227T230000
LOCATION:City Resort Helmond
ATTACH;FMTTYPE=text/plain:https://hbb.rivio.dev/senioren/2018/wedstrijd/226
 83
END:VEVENT
BEGIN:VEVENT
UID:https://hbb.rivio.dev/senioren/2018/wedstrijd/22604
DTSTAMP:20260420T151040Z
SUMMARY:Mixed 1 - BCV '73 1
DESCRIPTION:Baan 1\, Wedstrijdnummer 1013\, Afdeling Topklasse 
DTSTART:20190320T200000
DTEND:20190320T230000
LOCATION:City Resort Helmond
ATTACH;FMTTYPE=text/plain:https://hbb.rivio.dev/senioren/2018/wedstrijd/226
 04
END:VEVENT
BEGIN:VEVENT
UID:https://hbb.rivio.dev/senioren/2018/wedstrijd/22624
DTSTAMP:20260420T151040Z
SUMMARY:Mixed 1 - Con Brio 2
DESCRIPTION:Baan 11\, Wedstrijdnummer 1017\, Afdeling Topklasse 
DTSTART:20190403T200000
DTEND:20190403T230000
LOCATION:City Resort Helmond
ATTACH;FMTTYPE=text/plain:https://hbb.rivio.dev/senioren/2018/wedstrijd/226
 24
END:VEVENT
BEGIN:VEVENT
UID:https://hbb.rivio.dev/senioren/2018/wedstrijd/22654
DTSTAMP:20260420T151040Z
SUMMARY:Mixed 1 - BCAB 1
DESCRIPTION:Baan 10\, Wedstrijdnummer 1021\, Afdeling Topklasse 
DTSTART:20190418T200000
DTEND:20190418T230000
LOCATION:City Resort Helmond
ATTACH;FMTTYPE=text/plain:https://hbb.rivio.dev/senioren/2018/wedstrijd/226
 54
END:VEVENT
BEGIN:VTIMEZONE
TZID:Europe/Amsterdam
BEGIN:STANDARD
DTSTART:20180101T000000
TZNAME:CET
TZOFFSETTO:+0100
TZOFFSETFROM:+0100
END:STANDARD
BEGIN:DAYLIGHT
DTSTART:20180325T030000
TZNAME:CEST
TZOFFSETTO:+0200
TZOFFSETFROM:+0100
END:DAYLIGHT
BEGIN:STANDARD
DTSTART:20181028T020000
TZNAME:CET
TZOFFSETTO:+0100
TZOFFSETFROM:+0200
END:STANDARD
BEGIN:DAYLIGHT
DTSTART:20190331T030000
TZNAME:CEST
TZOFFSETTO:+0200
TZOFFSETFROM:+0100
END:DAYLIGHT
BEGIN:STANDARD
DTSTART:20191027T020000
TZNAME:CET
TZOFFSETTO:+0100
TZOFFSETFROM:+0200
END:STANDARD
END:VTIMEZONE
END:VCALENDAR
