BEGIN:VCALENDAR
PRODID:-//eluceo/ical//2.0/EN
VERSION:2.0
CALSCALE:GREGORIAN
BEGIN:VEVENT
UID:https://hbb.rivio.dev/senioren/2018/wedstrijd/22172
DTSTAMP:20260420T103305Z
SUMMARY:Phoenix 1 - Bakel 1
DESCRIPTION:Baan 11\, Wedstrijdnummer 23\, Afdeling Hoofdklasse D
DTSTART:20180912T200000
DTEND:20180912T230000
LOCATION:City Resort Helmond
ATTACH;FMTTYPE=text/plain:https://hbb.rivio.dev/senioren/2018/wedstrijd/221
 72
END:VEVENT
BEGIN:VEVENT
UID:https://hbb.rivio.dev/senioren/2018/wedstrijd/22212
DTSTAMP:20260420T103305Z
SUMMARY:Phoenix 1 - Mierlo 3
DESCRIPTION:Baan 4\, Wedstrijdnummer 28\, Afdeling Hoofdklasse D
DTSTART:20180926T200000
DTEND:20180926T230000
LOCATION:City Resort Helmond
ATTACH;FMTTYPE=text/plain:https://hbb.rivio.dev/senioren/2018/wedstrijd/222
 12
END:VEVENT
BEGIN:VEVENT
UID:https://hbb.rivio.dev/senioren/2018/wedstrijd/22239
DTSTAMP:20260420T103305Z
SUMMARY:Phoenix 1 - Mixed 2
DESCRIPTION:Baan 15\, Wedstrijdnummer 36\, Afdeling Hoofdklasse D
DTSTART:20181003T200000
DTEND:20181003T230000
LOCATION:City Resort Helmond
ATTACH;FMTTYPE=text/plain:https://hbb.rivio.dev/senioren/2018/wedstrijd/222
 39
END:VEVENT
BEGIN:VEVENT
UID:https://hbb.rivio.dev/senioren/2018/wedstrijd/22275
DTSTAMP:20260420T103305Z
SUMMARY:Phoenix 1 - Smashing Bruang 1
DESCRIPTION:Baan 4\, Wedstrijdnummer 39\, Afdeling Hoofdklasse D
DTSTART:20181024T200000
DTEND:20181024T230000
LOCATION:City Resort Helmond
ATTACH;FMTTYPE=text/plain:https://hbb.rivio.dev/senioren/2018/wedstrijd/222
 75
END:VEVENT
BEGIN:VEVENT
UID:https://hbb.rivio.dev/senioren/2018/wedstrijd/22680
DTSTAMP:20260420T103305Z
SUMMARY:Phoenix 1 - Smashing Bruang 1
DESCRIPTION:Baan 1\, Wedstrijdnummer 3000\, Afdeling Hoofdklasse D
DTSTART:20181107T200000
DTEND:20181107T230000
LOCATION:City Resort Helmond
ATTACH;FMTTYPE=text/plain:https://hbb.rivio.dev/senioren/2018/wedstrijd/226
 80
END:VEVENT
BEGIN:VEVENT
UID:https://hbb.rivio.dev/senioren/2018/wedstrijd/22344
DTSTAMP:20260420T103305Z
SUMMARY:Mierlo 4 - Phoenix 1
DESCRIPTION:Baan 13\, Wedstrijdnummer 45\, Afdeling Hoofdklasse K
DTSTART:20181114T200000
DTEND:20181114T230000
LOCATION:City Resort Helmond
ATTACH;FMTTYPE=text/plain:https://hbb.rivio.dev/senioren/2018/wedstrijd/223
 44
END:VEVENT
BEGIN:VEVENT
UID:https://hbb.rivio.dev/senioren/2018/wedstrijd/22384
DTSTAMP:20260420T103305Z
SUMMARY:Con Brio 3 - Phoenix 1
DESCRIPTION:Baan 11\, Wedstrijdnummer 48\, Afdeling Hoofdklasse K
DTSTART:20181128T200000
DTEND:20181128T230000
LOCATION:City Resort Helmond
ATTACH;FMTTYPE=text/plain:https://hbb.rivio.dev/senioren/2018/wedstrijd/223
 84
END:VEVENT
BEGIN:VEVENT
UID:https://hbb.rivio.dev/senioren/2018/wedstrijd/22425
DTSTAMP:20260420T103305Z
SUMMARY:Mierlo 2 - Phoenix 1
DESCRIPTION:Baan 5\, Wedstrijdnummer 52\, Afdeling Hoofdklasse K
DTSTART:20181219T200000
DTEND:20181219T230000
LOCATION:City Resort Helmond
ATTACH;FMTTYPE=text/plain:https://hbb.rivio.dev/senioren/2018/wedstrijd/224
 25
END:VEVENT
BEGIN:VEVENT
UID:https://hbb.rivio.dev/senioren/2018/wedstrijd/22691
DTSTAMP:20260420T103305Z
SUMMARY:Hanevoet 1 - Phoenix 1
DESCRIPTION:Baan 12\, Wedstrijdnummer 3038\, Afdeling Hoofdklasse K
DTSTART:20190110T200000
DTEND:20190110T230000
LOCATION:City Resort Helmond
ATTACH;FMTTYPE=text/plain:https://hbb.rivio.dev/senioren/2018/wedstrijd/226
 91
END:VEVENT
BEGIN:VEVENT
UID:https://hbb.rivio.dev/senioren/2018/wedstrijd/22473
DTSTAMP:20260420T103305Z
SUMMARY:Phoenix 1 - Hanevoet 1
DESCRIPTION:Baan 14\, Wedstrijdnummer 60\, Afdeling Hoofdklasse D
DTSTART:20190123T200000
DTEND:20190123T230000
LOCATION:City Resort Helmond
ATTACH;FMTTYPE=text/plain:https://hbb.rivio.dev/senioren/2018/wedstrijd/224
 73
END:VEVENT
BEGIN:VEVENT
UID:https://hbb.rivio.dev/senioren/2018/wedstrijd/22507
DTSTAMP:20260420T103305Z
SUMMARY:Brabantia 1 - Phoenix 1
DESCRIPTION:Baan 1\, Wedstrijdnummer 64\, Afdeling Hoofdklasse K
DTSTART:20190206T200000
DTEND:20190206T230000
LOCATION:City Resort Helmond
ATTACH;FMTTYPE=text/plain:https://hbb.rivio.dev/senioren/2018/wedstrijd/225
 07
END:VEVENT
BEGIN:VEVENT
UID:https://hbb.rivio.dev/senioren/2018/wedstrijd/22749
DTSTAMP:20260420T103305Z
SUMMARY:Bakel 1 - Phoenix 1
DESCRIPTION:Baan 14\, Wedstrijdnummer 2004\, Afdeling Hoofdklasse D
DTSTART:20190220T200000
DTEND:20190220T230000
LOCATION:City Resort Helmond
ATTACH;FMTTYPE=text/plain:https://hbb.rivio.dev/senioren/2018/wedstrijd/227
 49
END:VEVENT
BEGIN:VEVENT
UID:https://hbb.rivio.dev/senioren/2018/wedstrijd/22757
DTSTAMP:20260420T103305Z
SUMMARY:Phoenix 1 - Smashing Bruang 1
DESCRIPTION:Baan 11\, Wedstrijdnummer 2012\, Afdeling Hoofdklasse D
DTSTART:20190328T200000
DTEND:20190328T230000
LOCATION:City Resort Helmond
ATTACH;FMTTYPE=text/plain:https://hbb.rivio.dev/senioren/2018/wedstrijd/227
 57
END:VEVENT
BEGIN:VEVENT
UID:https://hbb.rivio.dev/senioren/2018/wedstrijd/22758
DTSTAMP:20260420T103305Z
SUMMARY:Phoenix 1 - Mierlo 3
DESCRIPTION:Baan 14\, Wedstrijdnummer 2015\, Afdeling Hoofdklasse D
DTSTART:20190403T200000
DTEND:20190403T230000
LOCATION:City Resort Helmond
ATTACH;FMTTYPE=text/plain:https://hbb.rivio.dev/senioren/2018/wedstrijd/227
 58
END:VEVENT
BEGIN:VEVENT
UID:https://hbb.rivio.dev/senioren/2018/wedstrijd/22764
DTSTAMP:20260420T103305Z
SUMMARY:Mixed 2 - Phoenix 1
DESCRIPTION:Baan 13\, Wedstrijdnummer 2019\, Afdeling Hoofdklasse D
DTSTART:20190522T200000
DTEND:20190522T230000
LOCATION:City Resort Helmond
ATTACH;FMTTYPE=text/plain:https://hbb.rivio.dev/senioren/2018/wedstrijd/227
 64
END:VEVENT
BEGIN:VTIMEZONE
TZID:Europe/Amsterdam
BEGIN:STANDARD
DTSTART:20180101T000000
TZNAME:CET
TZOFFSETTO:+0100
TZOFFSETFROM:+0100
END:STANDARD
BEGIN:DAYLIGHT
DTSTART:20180325T030000
TZNAME:CEST
TZOFFSETTO:+0200
TZOFFSETFROM:+0100
END:DAYLIGHT
BEGIN:STANDARD
DTSTART:20181028T020000
TZNAME:CET
TZOFFSETTO:+0100
TZOFFSETFROM:+0200
END:STANDARD
BEGIN:DAYLIGHT
DTSTART:20190331T030000
TZNAME:CEST
TZOFFSETTO:+0200
TZOFFSETFROM:+0100
END:DAYLIGHT
BEGIN:STANDARD
DTSTART:20191027T020000
TZNAME:CET
TZOFFSETTO:+0100
TZOFFSETFROM:+0200
END:STANDARD
END:VTIMEZONE
END:VCALENDAR
