BEGIN:VCALENDAR
PRODID:-//eluceo/ical//2.0/EN
VERSION:2.0
CALSCALE:GREGORIAN
BEGIN:VEVENT
UID:https://hbb.rivio.dev/jeugd/2018/wedstrijd/20189
DTSTAMP:20260420T163904Z
SUMMARY:Someren 2 - BCAB 2
DESCRIPTION:Baan 15\, Afdeling F-klasse 
DTSTART:20180916T093000
DTEND:20180916T111500
LOCATION:City Resort Helmond
ATTACH;FMTTYPE=text/plain:https://hbb.rivio.dev/jeugd/2018/wedstrijd/20189
END:VEVENT
BEGIN:VEVENT
UID:https://hbb.rivio.dev/jeugd/2018/wedstrijd/20191
DTSTAMP:20260420T163904Z
SUMMARY:Hanevoet 2 - BCAB 2
DESCRIPTION:Baan 10\, Afdeling F-klasse 
DTSTART:20180916T111500
DTEND:20180916T130000
LOCATION:City Resort Helmond
ATTACH;FMTTYPE=text/plain:https://hbb.rivio.dev/jeugd/2018/wedstrijd/20191
END:VEVENT
BEGIN:VEVENT
UID:https://hbb.rivio.dev/jeugd/2018/wedstrijd/20213
DTSTAMP:20260420T163904Z
SUMMARY:BCAB 2 - Mierlo 9
DESCRIPTION:Baan 4\, Afdeling F-klasse 
DTSTART:20180930T130000
DTEND:20180930T144500
LOCATION:City Resort Helmond
ATTACH;FMTTYPE=text/plain:https://hbb.rivio.dev/jeugd/2018/wedstrijd/20213
END:VEVENT
BEGIN:VEVENT
UID:https://hbb.rivio.dev/jeugd/2018/wedstrijd/20217
DTSTAMP:20260420T163904Z
SUMMARY:BCAB 2 - Gemert 1
DESCRIPTION:Baan 5\, Afdeling F-klasse 
DTSTART:20180930T144500
DTEND:20180930T160000
LOCATION:City Resort Helmond
ATTACH;FMTTYPE=text/plain:https://hbb.rivio.dev/jeugd/2018/wedstrijd/20217
END:VEVENT
BEGIN:VEVENT
UID:https://hbb.rivio.dev/jeugd/2018/wedstrijd/20261
DTSTAMP:20260420T163904Z
SUMMARY:BCAB 2 - Someren 2
DESCRIPTION:Baan 13\, Afdeling F-klasse 
DTSTART:20181111T111500
DTEND:20181111T130000
LOCATION:City Resort Helmond
ATTACH;FMTTYPE=text/plain:https://hbb.rivio.dev/jeugd/2018/wedstrijd/20261
END:VEVENT
BEGIN:VEVENT
UID:https://hbb.rivio.dev/jeugd/2018/wedstrijd/20256
DTSTAMP:20260420T163904Z
SUMMARY:Mierlo 8 - BCAB 2
DESCRIPTION:Baan 11\, Afdeling F-klasse 
DTSTART:20181111T093000
DTEND:20181111T111500
LOCATION:City Resort Helmond
ATTACH;FMTTYPE=text/plain:https://hbb.rivio.dev/jeugd/2018/wedstrijd/20256
END:VEVENT
BEGIN:VEVENT
UID:https://hbb.rivio.dev/jeugd/2018/wedstrijd/20283
DTSTAMP:20260420T163904Z
SUMMARY:BCAB 2 - Hanevoet 2
DESCRIPTION:Baan 4\, Afdeling F-klasse 
DTSTART:20181125T093000
DTEND:20181125T111500
LOCATION:City Resort Helmond
ATTACH;FMTTYPE=text/plain:https://hbb.rivio.dev/jeugd/2018/wedstrijd/20283
END:VEVENT
BEGIN:VEVENT
UID:https://hbb.rivio.dev/jeugd/2018/wedstrijd/20286
DTSTAMP:20260420T163904Z
SUMMARY:Mierlo 9 - BCAB 2
DESCRIPTION:Baan 4\, Afdeling F-klasse 
DTSTART:20181125T111500
DTEND:20181125T130000
LOCATION:City Resort Helmond
ATTACH;FMTTYPE=text/plain:https://hbb.rivio.dev/jeugd/2018/wedstrijd/20286
END:VEVENT
BEGIN:VEVENT
UID:https://hbb.rivio.dev/jeugd/2018/wedstrijd/20326
DTSTAMP:20260420T163904Z
SUMMARY:BCAB 2 - Mierlo 8
DESCRIPTION:Baan 13\, Afdeling F-klasse 
DTSTART:20190120T111500
DTEND:20190120T130000
LOCATION:City Resort Helmond
ATTACH;FMTTYPE=text/plain:https://hbb.rivio.dev/jeugd/2018/wedstrijd/20326
END:VEVENT
BEGIN:VEVENT
UID:https://hbb.rivio.dev/jeugd/2018/wedstrijd/20325
DTSTAMP:20260420T163904Z
SUMMARY:Gemert 1 - BCAB 2
DESCRIPTION:Baan 15\, Afdeling F-klasse 
DTSTART:20190120T093000
DTEND:20190120T111500
LOCATION:City Resort Helmond
ATTACH;FMTTYPE=text/plain:https://hbb.rivio.dev/jeugd/2018/wedstrijd/20325
END:VEVENT
BEGIN:VEVENT
UID:https://hbb.rivio.dev/jeugd/2018/wedstrijd/20339
DTSTAMP:20260420T163904Z
SUMMARY:Someren 2 - BCAB 2
DESCRIPTION:Baan 13\, Afdeling F-klasse 
DTSTART:20190203T093000
DTEND:20190203T111500
LOCATION:City Resort Helmond
ATTACH;FMTTYPE=text/plain:https://hbb.rivio.dev/jeugd/2018/wedstrijd/20339
END:VEVENT
BEGIN:VEVENT
UID:https://hbb.rivio.dev/jeugd/2018/wedstrijd/20343
DTSTAMP:20260420T163904Z
SUMMARY:Hanevoet 2 - BCAB 2
DESCRIPTION:Baan 12\, Afdeling F-klasse 
DTSTART:20190203T111500
DTEND:20190203T130000
LOCATION:City Resort Helmond
ATTACH;FMTTYPE=text/plain:https://hbb.rivio.dev/jeugd/2018/wedstrijd/20343
END:VEVENT
BEGIN:VEVENT
UID:https://hbb.rivio.dev/jeugd/2018/wedstrijd/20416
DTSTAMP:20260420T163904Z
SUMMARY:BCAB 2 - Mierlo 9
DESCRIPTION:Baan 12\, Afdeling F-klasse 
DTSTART:20190317T093000
DTEND:20190317T111500
LOCATION:City Resort Helmond
ATTACH;FMTTYPE=text/plain:https://hbb.rivio.dev/jeugd/2018/wedstrijd/20416
END:VEVENT
BEGIN:VEVENT
UID:https://hbb.rivio.dev/jeugd/2018/wedstrijd/20424
DTSTAMP:20260420T163904Z
SUMMARY:BCAB 2 - Gemert 1
DESCRIPTION:Baan 13\, Afdeling F-klasse 
DTSTART:20190317T111500
DTEND:20190317T130000
LOCATION:City Resort Helmond
ATTACH;FMTTYPE=text/plain:https://hbb.rivio.dev/jeugd/2018/wedstrijd/20424
END:VEVENT
BEGIN:VEVENT
UID:https://hbb.rivio.dev/jeugd/2018/wedstrijd/20466
DTSTAMP:20260420T163904Z
SUMMARY:Mierlo 8 - BCAB 2
DESCRIPTION:Baan 9\, Afdeling F-klasse 
DTSTART:20190407T093000
DTEND:20190407T111500
LOCATION:City Resort Helmond
ATTACH;FMTTYPE=text/plain:https://hbb.rivio.dev/jeugd/2018/wedstrijd/20466
END:VEVENT
BEGIN:VTIMEZONE
TZID:Europe/Amsterdam
BEGIN:STANDARD
DTSTART:20180101T000000
TZNAME:CET
TZOFFSETTO:+0100
TZOFFSETFROM:+0100
END:STANDARD
BEGIN:DAYLIGHT
DTSTART:20180325T030000
TZNAME:CEST
TZOFFSETTO:+0200
TZOFFSETFROM:+0100
END:DAYLIGHT
BEGIN:STANDARD
DTSTART:20181028T020000
TZNAME:CET
TZOFFSETTO:+0100
TZOFFSETFROM:+0200
END:STANDARD
BEGIN:DAYLIGHT
DTSTART:20190331T030000
TZNAME:CEST
TZOFFSETTO:+0200
TZOFFSETFROM:+0100
END:DAYLIGHT
BEGIN:STANDARD
DTSTART:20191027T020000
TZNAME:CET
TZOFFSETTO:+0100
TZOFFSETFROM:+0200
END:STANDARD
END:VTIMEZONE
END:VCALENDAR
