BEGIN:VCALENDAR
PRODID:-//eluceo/ical//2.0/EN
VERSION:2.0
CALSCALE:GREGORIAN
BEGIN:VEVENT
UID:https://hbb.rivio.dev/jeugd/2018/wedstrijd/20220
DTSTAMP:20260420T200108Z
SUMMARY:Bakel 3 - BCAB 1
DESCRIPTION:Baan 3\, Afdeling B-klasse 
DTSTART:20181007T093000
DTEND:20181007T111500
LOCATION:City Resort Helmond
ATTACH;FMTTYPE=text/plain:https://hbb.rivio.dev/jeugd/2018/wedstrijd/20220
END:VEVENT
BEGIN:VEVENT
UID:https://hbb.rivio.dev/jeugd/2018/wedstrijd/20237
DTSTAMP:20260420T200108Z
SUMMARY:BCAB 1 - BCV '73 2
DESCRIPTION:Baan 3\, Afdeling B-klasse 
DTSTART:20181028T093000
DTEND:20181028T111500
LOCATION:City Resort Helmond
ATTACH;FMTTYPE=text/plain:https://hbb.rivio.dev/jeugd/2018/wedstrijd/20237
END:VEVENT
BEGIN:VEVENT
UID:https://hbb.rivio.dev/jeugd/2018/wedstrijd/20253
DTSTAMP:20260420T200108Z
SUMMARY:Mixed 2 - BCAB 1
DESCRIPTION:Baan 14\, Afdeling B-klasse 
DTSTART:20181111T093000
DTEND:20181111T111500
LOCATION:City Resort Helmond
ATTACH;FMTTYPE=text/plain:https://hbb.rivio.dev/jeugd/2018/wedstrijd/20253
END:VEVENT
BEGIN:VEVENT
UID:https://hbb.rivio.dev/jeugd/2018/wedstrijd/20263
DTSTAMP:20260420T200108Z
SUMMARY:BCAB 1 - Mierlo 4
DESCRIPTION:Baan 14\, Afdeling B-klasse 
DTSTART:20181118T093000
DTEND:20181118T111500
LOCATION:City Resort Helmond
ATTACH;FMTTYPE=text/plain:https://hbb.rivio.dev/jeugd/2018/wedstrijd/20263
END:VEVENT
BEGIN:VEVENT
UID:https://hbb.rivio.dev/jeugd/2018/wedstrijd/20296
DTSTAMP:20260420T200108Z
SUMMARY:Mierlo 3 - BCAB 1
DESCRIPTION:Baan 3\, Afdeling B-klasse 
DTSTART:20181216T093000
DTEND:20181216T111500
LOCATION:City Resort Helmond
ATTACH;FMTTYPE=text/plain:https://hbb.rivio.dev/jeugd/2018/wedstrijd/20296
END:VEVENT
BEGIN:VEVENT
UID:https://hbb.rivio.dev/jeugd/2018/wedstrijd/20307
DTSTAMP:20260420T200108Z
SUMMARY:Mixed 1 - BCAB 1
DESCRIPTION:Baan 3\, Afdeling B-klasse 
DTSTART:20190113T093000
DTEND:20190113T111500
LOCATION:City Resort Helmond
ATTACH;FMTTYPE=text/plain:https://hbb.rivio.dev/jeugd/2018/wedstrijd/20307
END:VEVENT
BEGIN:VEVENT
UID:https://hbb.rivio.dev/jeugd/2018/wedstrijd/20322
DTSTAMP:20260420T200108Z
SUMMARY:BCAB 1 - Bakel 3
DESCRIPTION:Baan 5\, Afdeling B-klasse 
DTSTART:20190120T093000
DTEND:20190120T111500
LOCATION:City Resort Helmond
ATTACH;FMTTYPE=text/plain:https://hbb.rivio.dev/jeugd/2018/wedstrijd/20322
END:VEVENT
BEGIN:VEVENT
UID:https://hbb.rivio.dev/jeugd/2018/wedstrijd/20370
DTSTAMP:20260420T200108Z
SUMMARY:BCV '73 2 - BCAB 1
DESCRIPTION:Baan 1\, Afdeling B-klasse 
DTSTART:20190217T093000
DTEND:20190217T111500
LOCATION:City Resort Helmond
ATTACH;FMTTYPE=text/plain:https://hbb.rivio.dev/jeugd/2018/wedstrijd/20370
END:VEVENT
BEGIN:VEVENT
UID:https://hbb.rivio.dev/jeugd/2018/wedstrijd/20395
DTSTAMP:20260420T200108Z
SUMMARY:BCAB 1 - Mixed 2
DESCRIPTION:Baan 3\, Afdeling B-klasse 
DTSTART:20190224T093000
DTEND:20190224T111500
LOCATION:City Resort Helmond
ATTACH;FMTTYPE=text/plain:https://hbb.rivio.dev/jeugd/2018/wedstrijd/20395
END:VEVENT
BEGIN:VEVENT
UID:https://hbb.rivio.dev/jeugd/2018/wedstrijd/20410
DTSTAMP:20260420T200108Z
SUMMARY:Mierlo 4 - BCAB 1
DESCRIPTION:Baan 3\, Afdeling B-klasse 
DTSTART:20190317T093000
DTEND:20190317T111500
LOCATION:City Resort Helmond
ATTACH;FMTTYPE=text/plain:https://hbb.rivio.dev/jeugd/2018/wedstrijd/20410
END:VEVENT
BEGIN:VEVENT
UID:https://hbb.rivio.dev/jeugd/2018/wedstrijd/20435
DTSTAMP:20260420T200108Z
SUMMARY:BCAB 1 - Mierlo 3
DESCRIPTION:Baan 3\, Afdeling B-klasse 
DTSTART:20190331T093000
DTEND:20190331T111500
LOCATION:City Resort Helmond
ATTACH;FMTTYPE=text/plain:https://hbb.rivio.dev/jeugd/2018/wedstrijd/20435
END:VEVENT
BEGIN:VEVENT
UID:https://hbb.rivio.dev/jeugd/2018/wedstrijd/20454
DTSTAMP:20260420T200108Z
SUMMARY:BCAB 1 - Mixed 1
DESCRIPTION:Baan 3\, Afdeling B-klasse 
DTSTART:20190407T093000
DTEND:20190407T111500
LOCATION:City Resort Helmond
ATTACH;FMTTYPE=text/plain:https://hbb.rivio.dev/jeugd/2018/wedstrijd/20454
END:VEVENT
BEGIN:VTIMEZONE
TZID:Europe/Amsterdam
BEGIN:STANDARD
DTSTART:20180101T000000
TZNAME:CET
TZOFFSETTO:+0100
TZOFFSETFROM:+0100
END:STANDARD
BEGIN:DAYLIGHT
DTSTART:20180325T030000
TZNAME:CEST
TZOFFSETTO:+0200
TZOFFSETFROM:+0100
END:DAYLIGHT
BEGIN:STANDARD
DTSTART:20181028T020000
TZNAME:CET
TZOFFSETTO:+0100
TZOFFSETFROM:+0200
END:STANDARD
BEGIN:DAYLIGHT
DTSTART:20190331T030000
TZNAME:CEST
TZOFFSETTO:+0200
TZOFFSETFROM:+0100
END:DAYLIGHT
BEGIN:STANDARD
DTSTART:20191027T020000
TZNAME:CET
TZOFFSETTO:+0100
TZOFFSETFROM:+0200
END:STANDARD
END:VTIMEZONE
END:VCALENDAR
