BEGIN:VCALENDAR
PRODID:-//eluceo/ical//2.0/EN
VERSION:2.0
CALSCALE:GREGORIAN
BEGIN:VEVENT
UID:https://hbb.rivio.dev/senioren/2018/wedstrijd/22172
DTSTAMP:20260420T103220Z
SUMMARY:Phoenix 1 - Bakel 1
DESCRIPTION:Baan 11\, Wedstrijdnummer 23\, Afdeling Hoofdklasse D
DTSTART:20180912T200000
DTEND:20180912T230000
LOCATION:City Resort Helmond
ATTACH;FMTTYPE=text/plain:https://hbb.rivio.dev/senioren/2018/wedstrijd/221
 72
END:VEVENT
BEGIN:VEVENT
UID:https://hbb.rivio.dev/senioren/2018/wedstrijd/22225
DTSTAMP:20260420T103220Z
SUMMARY:Con Brio 3 - Bakel 1
DESCRIPTION:Baan 11\, Wedstrijdnummer 29\, Afdeling Hoofdklasse K
DTSTART:20180927T200000
DTEND:20180927T230000
LOCATION:City Resort Helmond
ATTACH;FMTTYPE=text/plain:https://hbb.rivio.dev/senioren/2018/wedstrijd/222
 25
END:VEVENT
BEGIN:VEVENT
UID:https://hbb.rivio.dev/senioren/2018/wedstrijd/22267
DTSTAMP:20260420T103220Z
SUMMARY:Bakel 1 - Hanevoet 1
DESCRIPTION:Baan 11\, Wedstrijdnummer 34\, Afdeling Hoofdklasse D
DTSTART:20181011T200000
DTEND:20181011T230000
LOCATION:City Resort Helmond
ATTACH;FMTTYPE=text/plain:https://hbb.rivio.dev/senioren/2018/wedstrijd/222
 67
END:VEVENT
BEGIN:VEVENT
UID:https://hbb.rivio.dev/senioren/2018/wedstrijd/22308
DTSTAMP:20260420T103220Z
SUMMARY:Mierlo 3 - Bakel 1
DESCRIPTION:Baan 10\, Wedstrijdnummer 37\, Afdeling Hoofdklasse D
DTSTART:20181101T200000
DTEND:20181101T230000
LOCATION:City Resort Helmond
ATTACH;FMTTYPE=text/plain:https://hbb.rivio.dev/senioren/2018/wedstrijd/223
 08
END:VEVENT
BEGIN:VEVENT
UID:https://hbb.rivio.dev/senioren/2018/wedstrijd/22678
DTSTAMP:20260420T103220Z
SUMMARY:Bakel 1 - Hanevoet 1
DESCRIPTION:Baan 4\, Wedstrijdnummer 3003\, Afdeling Hoofdklasse D
DTSTART:20181107T200000
DTEND:20181107T230000
LOCATION:City Resort Helmond
ATTACH;FMTTYPE=text/plain:https://hbb.rivio.dev/senioren/2018/wedstrijd/226
 78
END:VEVENT
BEGIN:VEVENT
UID:https://hbb.rivio.dev/senioren/2018/wedstrijd/22374
DTSTAMP:20260420T103220Z
SUMMARY:Bakel 1 - Smashing Bruang 1
DESCRIPTION:Baan 11\, Wedstrijdnummer 43\, Afdeling Hoofdklasse D
DTSTART:20181122T200000
DTEND:20181122T230000
LOCATION:City Resort Helmond
ATTACH;FMTTYPE=text/plain:https://hbb.rivio.dev/senioren/2018/wedstrijd/223
 74
END:VEVENT
BEGIN:VEVENT
UID:https://hbb.rivio.dev/senioren/2018/wedstrijd/22416
DTSTAMP:20260420T103220Z
SUMMARY:Bakel 1 - Mixed 2
DESCRIPTION:Baan 11\, Wedstrijdnummer 51\, Afdeling Hoofdklasse D
DTSTART:20181213T200000
DTEND:20181213T230000
LOCATION:City Resort Helmond
ATTACH;FMTTYPE=text/plain:https://hbb.rivio.dev/senioren/2018/wedstrijd/224
 16
END:VEVENT
BEGIN:VEVENT
UID:https://hbb.rivio.dev/senioren/2018/wedstrijd/22458
DTSTAMP:20260420T103220Z
SUMMARY:Brabantia 1 - Bakel 1
DESCRIPTION:Baan 5\, Wedstrijdnummer 55\, Afdeling Hoofdklasse K
DTSTART:20190117T200000
DTEND:20190117T230000
LOCATION:City Resort Helmond
ATTACH;FMTTYPE=text/plain:https://hbb.rivio.dev/senioren/2018/wedstrijd/224
 58
END:VEVENT
BEGIN:VEVENT
UID:https://hbb.rivio.dev/senioren/2018/wedstrijd/22496
DTSTAMP:20260420T103220Z
SUMMARY:Bakel 1 - Mierlo 2
DESCRIPTION:Baan 1\, Wedstrijdnummer 57\, Afdeling Hoofdklasse D
DTSTART:20190131T200000
DTEND:20190131T230000
LOCATION:City Resort Helmond
ATTACH;FMTTYPE=text/plain:https://hbb.rivio.dev/senioren/2018/wedstrijd/224
 96
END:VEVENT
BEGIN:VEVENT
UID:https://hbb.rivio.dev/senioren/2018/wedstrijd/22542
DTSTAMP:20260420T103220Z
SUMMARY:Bakel 1 - Mierlo 4
DESCRIPTION:Baan 5\, Wedstrijdnummer 65\, Afdeling Hoofdklasse D
DTSTART:20190214T200000
DTEND:20190214T230000
LOCATION:City Resort Helmond
ATTACH;FMTTYPE=text/plain:https://hbb.rivio.dev/senioren/2018/wedstrijd/225
 42
END:VEVENT
BEGIN:VEVENT
UID:https://hbb.rivio.dev/senioren/2018/wedstrijd/22749
DTSTAMP:20260420T103220Z
SUMMARY:Bakel 1 - Phoenix 1
DESCRIPTION:Baan 14\, Wedstrijdnummer 2004\, Afdeling Hoofdklasse D
DTSTART:20190220T200000
DTEND:20190220T230000
LOCATION:City Resort Helmond
ATTACH;FMTTYPE=text/plain:https://hbb.rivio.dev/senioren/2018/wedstrijd/227
 49
END:VEVENT
BEGIN:VEVENT
UID:https://hbb.rivio.dev/senioren/2018/wedstrijd/22752
DTSTAMP:20260420T103220Z
SUMMARY:Bakel 1 - Smashing Bruang 1
DESCRIPTION:Baan 14\, Wedstrijdnummer 2007\, Afdeling Hoofdklasse D
DTSTART:20190314T200000
DTEND:20190314T230000
LOCATION:City Resort Helmond
ATTACH;FMTTYPE=text/plain:https://hbb.rivio.dev/senioren/2018/wedstrijd/227
 52
END:VEVENT
BEGIN:VEVENT
UID:https://hbb.rivio.dev/senioren/2018/wedstrijd/22756
DTSTAMP:20260420T103220Z
SUMMARY:Mierlo 3 - Bakel 1
DESCRIPTION:Baan 5\, Wedstrijdnummer 2011\, Afdeling Hoofdklasse D
DTSTART:20190328T200000
DTEND:20190328T230000
LOCATION:City Resort Helmond
ATTACH;FMTTYPE=text/plain:https://hbb.rivio.dev/senioren/2018/wedstrijd/227
 56
END:VEVENT
BEGIN:VEVENT
UID:https://hbb.rivio.dev/senioren/2018/wedstrijd/22759
DTSTAMP:20260420T103220Z
SUMMARY:Mixed 2 - Bakel 1
DESCRIPTION:Baan 15\, Wedstrijdnummer 2016\, Afdeling Hoofdklasse D
DTSTART:20190403T200000
DTEND:20190403T230000
LOCATION:City Resort Helmond
ATTACH;FMTTYPE=text/plain:https://hbb.rivio.dev/senioren/2018/wedstrijd/227
 59
END:VEVENT
BEGIN:VTIMEZONE
TZID:Europe/Amsterdam
BEGIN:STANDARD
DTSTART:20180101T000000
TZNAME:CET
TZOFFSETTO:+0100
TZOFFSETFROM:+0100
END:STANDARD
BEGIN:DAYLIGHT
DTSTART:20180325T030000
TZNAME:CEST
TZOFFSETTO:+0200
TZOFFSETFROM:+0100
END:DAYLIGHT
BEGIN:STANDARD
DTSTART:20181028T020000
TZNAME:CET
TZOFFSETTO:+0100
TZOFFSETFROM:+0200
END:STANDARD
BEGIN:DAYLIGHT
DTSTART:20190331T030000
TZNAME:CEST
TZOFFSETTO:+0200
TZOFFSETFROM:+0100
END:DAYLIGHT
BEGIN:STANDARD
DTSTART:20191027T020000
TZNAME:CET
TZOFFSETTO:+0100
TZOFFSETFROM:+0200
END:STANDARD
END:VTIMEZONE
END:VCALENDAR
