BEGIN:VCALENDAR
PRODID:-//eluceo/ical//2.0/EN
VERSION:2.0
CALSCALE:GREGORIAN
BEGIN:VEVENT
UID:https://hbb.rivio.dev/senioren/2018/wedstrijd/22176
DTSTAMP:20260420T134302Z
SUMMARY:Gemert 1 - Dommelen 2
DESCRIPTION:Baan 15\, Wedstrijdnummer 126\, Afdeling 2e klasse I
DTSTART:20180912T200000
DTEND:20180912T230000
LOCATION:City Resort Helmond
ATTACH;FMTTYPE=text/plain:https://hbb.rivio.dev/senioren/2018/wedstrijd/221
 76
END:VEVENT
BEGIN:VEVENT
UID:https://hbb.rivio.dev/senioren/2018/wedstrijd/22226
DTSTAMP:20260420T134302Z
SUMMARY:Never Down 1 - Gemert 1
DESCRIPTION:Baan 12\, Wedstrijdnummer 128\, Afdeling 2e klasse I
DTSTART:20180927T200000
DTEND:20180927T230000
LOCATION:City Resort Helmond
ATTACH;FMTTYPE=text/plain:https://hbb.rivio.dev/senioren/2018/wedstrijd/222
 26
END:VEVENT
BEGIN:VEVENT
UID:https://hbb.rivio.dev/senioren/2018/wedstrijd/22268
DTSTAMP:20260420T134302Z
SUMMARY:Gemert 1 - Bakel 2
DESCRIPTION:Baan 12\, Wedstrijdnummer 131\, Afdeling 2e klasse I
DTSTART:20181011T200000
DTEND:20181011T230000
LOCATION:City Resort Helmond
ATTACH;FMTTYPE=text/plain:https://hbb.rivio.dev/senioren/2018/wedstrijd/222
 68
END:VEVENT
BEGIN:VEVENT
UID:https://hbb.rivio.dev/senioren/2018/wedstrijd/22327
DTSTAMP:20260420T134302Z
SUMMARY:Gemert 1 - Hanevoet 3
DESCRIPTION:Baan 3\, Wedstrijdnummer 3013\, Afdeling 2e klasse I
DTSTART:20181108T200000
DTEND:20181108T230000
LOCATION:City Resort Helmond
ATTACH;FMTTYPE=text/plain:https://hbb.rivio.dev/senioren/2018/wedstrijd/223
 27
END:VEVENT
BEGIN:VEVENT
UID:https://hbb.rivio.dev/senioren/2018/wedstrijd/22376
DTSTAMP:20260420T134302Z
SUMMARY:Mierlo 6 - Gemert 1
DESCRIPTION:Baan 13\, Wedstrijdnummer 137\, Afdeling 2e klasse I
DTSTART:20181122T200000
DTEND:20181122T230000
LOCATION:City Resort Helmond
ATTACH;FMTTYPE=text/plain:https://hbb.rivio.dev/senioren/2018/wedstrijd/223
 76
END:VEVENT
BEGIN:VEVENT
UID:https://hbb.rivio.dev/senioren/2018/wedstrijd/22401
DTSTAMP:20260420T134302Z
SUMMARY:Gemert 1 - Ganzeveer 2
DESCRIPTION:Baan 2\, Wedstrijdnummer 140\, Afdeling 2e klasse I
DTSTART:20181212T200000
DTEND:20181212T230000
LOCATION:City Resort Helmond
ATTACH;FMTTYPE=text/plain:https://hbb.rivio.dev/senioren/2018/wedstrijd/224
 01
END:VEVENT
BEGIN:VEVENT
UID:https://hbb.rivio.dev/senioren/2018/wedstrijd/22459
DTSTAMP:20260420T134302Z
SUMMARY:Someren 2 - Gemert 1
DESCRIPTION:Baan 10\, Wedstrijdnummer 144\, Afdeling 2e klasse I
DTSTART:20190117T200000
DTEND:20190117T230000
LOCATION:City Resort Helmond
ATTACH;FMTTYPE=text/plain:https://hbb.rivio.dev/senioren/2018/wedstrijd/224
 59
END:VEVENT
BEGIN:VEVENT
UID:https://hbb.rivio.dev/senioren/2018/wedstrijd/22495
DTSTAMP:20260420T134302Z
SUMMARY:Dommelen 2 - Gemert 1
DESCRIPTION:Baan 15\, Wedstrijdnummer 1081\, Afdeling 2e klasse I
DTSTART:20190130T200000
DTEND:20190130T230000
LOCATION:City Resort Helmond
ATTACH;FMTTYPE=text/plain:https://hbb.rivio.dev/senioren/2018/wedstrijd/224
 95
END:VEVENT
BEGIN:VEVENT
UID:https://hbb.rivio.dev/senioren/2018/wedstrijd/22520
DTSTAMP:20260420T134302Z
SUMMARY:Gemert 1 - Never Down 1
DESCRIPTION:Baan 4\, Wedstrijdnummer 1083\, Afdeling 2e klasse I
DTSTART:20190207T200000
DTEND:20190207T230000
LOCATION:City Resort Helmond
ATTACH;FMTTYPE=text/plain:https://hbb.rivio.dev/senioren/2018/wedstrijd/225
 20
END:VEVENT
BEGIN:VEVENT
UID:https://hbb.rivio.dev/senioren/2018/wedstrijd/22562
DTSTAMP:20260420T134302Z
SUMMARY:Bakel 2 - Gemert 1
DESCRIPTION:Baan 12\, Wedstrijdnummer 1086\, Afdeling 2e klasse I
DTSTART:20190221T200000
DTEND:20190221T230000
LOCATION:City Resort Helmond
ATTACH;FMTTYPE=text/plain:https://hbb.rivio.dev/senioren/2018/wedstrijd/225
 62
END:VEVENT
BEGIN:VEVENT
UID:https://hbb.rivio.dev/senioren/2018/wedstrijd/22618
DTSTAMP:20260420T134302Z
SUMMARY:Gemert 1 - Mierlo 6
DESCRIPTION:Baan 12\, Wedstrijdnummer 1092\, Afdeling 2e klasse I
DTSTART:20190328T200000
DTEND:20190328T230000
LOCATION:City Resort Helmond
ATTACH;FMTTYPE=text/plain:https://hbb.rivio.dev/senioren/2018/wedstrijd/226
 18
END:VEVENT
BEGIN:VEVENT
UID:https://hbb.rivio.dev/senioren/2018/wedstrijd/22647
DTSTAMP:20260420T134302Z
SUMMARY:Ganzeveer 2 - Gemert 1
DESCRIPTION:Baan 12\, Wedstrijdnummer 1095\, Afdeling 2e klasse I
DTSTART:20190417T200000
DTEND:20190417T230000
LOCATION:City Resort Helmond
ATTACH;FMTTYPE=text/plain:https://hbb.rivio.dev/senioren/2018/wedstrijd/226
 47
END:VEVENT
BEGIN:VEVENT
UID:https://hbb.rivio.dev/senioren/2018/wedstrijd/22672
DTSTAMP:20260420T134302Z
SUMMARY:Gemert 1 - Someren 2
DESCRIPTION:Baan 14\, Wedstrijdnummer 1099\, Afdeling 2e klasse I
DTSTART:20190516T200000
DTEND:20190516T230000
LOCATION:City Resort Helmond
ATTACH;FMTTYPE=text/plain:https://hbb.rivio.dev/senioren/2018/wedstrijd/226
 72
END:VEVENT
BEGIN:VTIMEZONE
TZID:Europe/Amsterdam
BEGIN:STANDARD
DTSTART:20180101T000000
TZNAME:CET
TZOFFSETTO:+0100
TZOFFSETFROM:+0100
END:STANDARD
BEGIN:DAYLIGHT
DTSTART:20180325T030000
TZNAME:CEST
TZOFFSETTO:+0200
TZOFFSETFROM:+0100
END:DAYLIGHT
BEGIN:STANDARD
DTSTART:20181028T020000
TZNAME:CET
TZOFFSETTO:+0100
TZOFFSETFROM:+0200
END:STANDARD
BEGIN:DAYLIGHT
DTSTART:20190331T030000
TZNAME:CEST
TZOFFSETTO:+0200
TZOFFSETFROM:+0100
END:DAYLIGHT
BEGIN:STANDARD
DTSTART:20191027T020000
TZNAME:CET
TZOFFSETTO:+0100
TZOFFSETFROM:+0200
END:STANDARD
END:VTIMEZONE
END:VCALENDAR
